BEGIN:VCALENDAR
VERSION:2.0
PRODID:-//Náš chov - vše o chovu hospodářských zvířat - ECPv6.11.1//NONSGML v1.0//EN
CALSCALE:GREGORIAN
METHOD:PUBLISH
X-WR-CALNAME:Náš chov - vše o chovu hospodářských zvířat
X-ORIGINAL-URL:https://naschov.cz
X-WR-CALDESC:Akce na Náš chov - vše o chovu hospodářských zvířat
REFRESH-INTERVAL;VALUE=DURATION:PT1H
X-Robots-Tag:noindex
X-PUBLISHED-TTL:PT1H
BEGIN:VTIMEZONE
TZID:Europe/Prague
BEGIN:DAYLIGHT
TZOFFSETFROM:+0100
TZOFFSETTO:+0200
TZNAME:CEST
DTSTART:20250330T010000
END:DAYLIGHT
BEGIN:STANDARD
TZOFFSETFROM:+0200
TZOFFSETTO:+0100
TZNAME:CET
DTSTART:20251026T010000
END:STANDARD
END:VTIMEZONE
BEGIN:VEVENT
DTSTART;TZID=Europe/Prague:20250210T100000
DTEND;TZID=Europe/Prague:20250210T153000
DTSTAMP:20260420T104402
CREATED:20250120T101004Z
LAST-MODIFIED:20250120T101004Z
UID:136107-1739181600-1739201400@naschov.cz
SUMMARY:Pravidelné předjarní školení N.U. Agrar CZ s.r.o. s účastí prof. Schönbergera
DESCRIPTION:Generické přípravky na ochranu rostlin – optimalizace účinku.Tlak na snížené hnojení dusíkem má svoje hranice. \nHnojení a ochrana rostlin na jaře 2025
URL:https://naschov.cz/udalost/pravidelne-predjarni-skoleni-n-u-agrar-cz-s-r-o-s-ucasti-prof-schonbergera/
END:VEVENT
END:VCALENDAR