BEGIN:VCALENDAR
VERSION:2.0
PRODID:-//Náš chov - vše o chovu hospodářských zvířat - ECPv6.11.1//NONSGML v1.0//EN
CALSCALE:GREGORIAN
METHOD:PUBLISH
X-WR-CALNAME:Náš chov - vše o chovu hospodářských zvířat
X-ORIGINAL-URL:https://naschov.cz
X-WR-CALDESC:Akce na Náš chov - vše o chovu hospodářských zvířat
REFRESH-INTERVAL;VALUE=DURATION:PT1H
X-Robots-Tag:noindex
X-PUBLISHED-TTL:PT1H
BEGIN:VTIMEZONE
TZID:Europe/Prague
BEGIN:DAYLIGHT
TZOFFSETFROM:+0100
TZOFFSETTO:+0200
TZNAME:CEST
DTSTART:20250330T010000
END:DAYLIGHT
BEGIN:STANDARD
TZOFFSETFROM:+0200
TZOFFSETTO:+0100
TZNAME:CET
DTSTART:20251026T010000
END:STANDARD
END:VTIMEZONE
BEGIN:VEVENT
DTSTART;TZID=Europe/Prague:20250205T090000
DTEND;TZID=Europe/Prague:20250205T130000
DTSTAMP:20260420T155026
CREATED:20241222T184003Z
LAST-MODIFIED:20241222T184003Z
UID:135585-1738746000-1738760400@naschov.cz
SUMMARY:Halový polní den Branišovice
DESCRIPTION:Tradiční zemědelský seminář.
URL:https://naschov.cz/udalost/halovy-polni-den-branisovice/
END:VEVENT
BEGIN:VEVENT
DTSTART;TZID=Europe/Prague:20250205T083000
DTEND;TZID=Europe/Prague:20250205T140000
DTSTAMP:20260420T155026
CREATED:20250115T104004Z
LAST-MODIFIED:20250115T104004Z
UID:136016-1738744200-1738764000@naschov.cz
SUMMARY:Odborný seminář Mendel-Info 2025
DESCRIPTION:Dovolujeme si Vás pozvat na 10. ročník odborného semináře MENDEL-INFO 2025 na téma PĚSTOVÁNÍ ČIROKU A JEHO VYUŽITÍ VE VÝŽIVĚ PŘEŽVÝKAVCŮ. \nSeminář pořádá Agronomická fakulta Mendelovy univerzity v Brně společně se spolkem ISTRO CZ\, z.s. Na semináři bude představeno množství aktuálních témat\, např. pěstování plodin na erozně ohrožených plochách v souladu s novými pravidly DZES 5\, technologie pěstování jednosečných a dvousečných čiroků\, hodnocení kvality píce čiroku z nutričního hlediska a využití čirokové siláže ve výživě přežvýkavců. Akce bude zakončena společným obědem. 
URL:https://naschov.cz/udalost/odborny-seminar-mendel-info-2025/
END:VEVENT
BEGIN:VEVENT
DTSTART;TZID=Europe/Prague:20250204T090000
DTEND;TZID=Europe/Prague:20250204T140000
DTSTAMP:20260420T155026
CREATED:20241209T131004Z
LAST-MODIFIED:20241209T131004Z
UID:135475-1738659600-1738677600@naschov.cz
SUMMARY:Odborné přednášky určené pro zemědělskou praxi
DESCRIPTION:Tradiční seminář nejnovějších poznatků v oblasti ochrany a kvality půd\, technologii pěstování a opylovačů v krajině. \nProgram bude upřesněn a zveřejněn během února 2025. \nNa akci je nutné se registrovat. Registrace bude spuštěna. Sledujte naše www stránky.
URL:https://naschov.cz/udalost/odborne-prednasky-urcene-pro-zemedelskou-praxi/
END:VEVENT
BEGIN:VEVENT
DTSTART;TZID=Europe/Prague:20250131T000000
DTEND;TZID=Europe/Prague:20250131T235959
DTSTAMP:20260420T155026
CREATED:20241111T114004Z
LAST-MODIFIED:20241111T114004Z
UID:134704-1738281600-1738367999@naschov.cz
SUMMARY:Odborná konference Syngenta\, Olomouc
DESCRIPTION:
URL:https://naschov.cz/udalost/odborna-konference-syngenta-olomouc/
END:VEVENT
BEGIN:VEVENT
DTSTART;TZID=Europe/Prague:20250130T140000
DTEND;TZID=Europe/Prague:20250130T180000
DTSTAMP:20260420T155026
CREATED:20241114T154004Z
LAST-MODIFIED:20241114T154004Z
UID:134747-1738245600-1738260000@naschov.cz
SUMMARY:Siláže 2025
DESCRIPTION:PROGRAMVliv bakterií a enzymů v silážované hmotěIng. Václav Brynda ml.Digitální sledování porostů\, ne jen silážníchIng. Eduard HaninaNekonečný příběh mastitidMVDr. Josef Prášek\, PhD.\, chovatel a veterinární poradce
URL:https://naschov.cz/udalost/silaze-2025-5/
END:VEVENT
BEGIN:VEVENT
DTSTART;TZID=Europe/Prague:20250129T090000
DTEND;TZID=Europe/Prague:20250129T123000
DTSTAMP:20260420T155026
CREATED:20250127T074004Z
LAST-MODIFIED:20250127T074004Z
UID:136248-1738141200-1738153800@naschov.cz
SUMMARY:Odborný seminář AGROKOP HB
DESCRIPTION:Návrh legislativních podmínek DZES pro rok 2025\, TRAVAMAN s důrazem na jarní přísevy\, osinatky RAGT a další.
URL:https://naschov.cz/udalost/odborny-seminar-agrokop-hb-5/
END:VEVENT
BEGIN:VEVENT
DTSTART;TZID=Europe/Prague:20250129T090000
DTEND;TZID=Europe/Prague:20250129T130000
DTSTAMP:20260420T155026
CREATED:20241126T151006Z
LAST-MODIFIED:20241126T151006Z
UID:135149-1738141200-1738155600@naschov.cz
SUMMARY:Seminář Selgen  - KRAVAŘE
DESCRIPTION:Zveme Vás na zimní seminář Selgen. V přátelském prostředí\, u dobrého jídla Vám nabídneme poutavý program za účasti šlechtitelů a zajímavých hostů.    PROGRAM Šlechtitelův rok   -  ŠS Úhřetice Sortiment pšenic   -  Irena Bížová\, Tomáš Bláha\, Božek Novák Analýza světového trhu obilovin   -  Ota Gärtner\,TOP EKOS s.r.o. Sortiment sóji    -  Ondřej Krajčovič Odrůdy ovsa    -  Hynek Bína Odrůdy hrachu a směsky   -  František Diviš     OBĚD
URL:https://naschov.cz/udalost/seminar-selgen-kravare/
END:VEVENT
BEGIN:VEVENT
DTSTART;TZID=Europe/Prague:20250129T090000
DTEND;TZID=Europe/Prague:20250129T130000
DTSTAMP:20260420T155026
CREATED:20241114T154004Z
LAST-MODIFIED:20241114T154004Z
UID:134746-1738141200-1738155600@naschov.cz
SUMMARY:Siláže 2025
DESCRIPTION:PROGRAMVliv bakterií a enzymů v silážované hmotěIng. Václav Brynda ml.Digitální sledování porostů\, ne jen silážníchIng. Eduard HaninaNekonečný příběh mastitidMVDr. Josef Prášek\, PhD.\, chovatel a veterinární poradce
URL:https://naschov.cz/udalost/silaze-2025-4/
END:VEVENT
BEGIN:VEVENT
DTSTART;TZID=Europe/Prague:20250128T090000
DTEND;TZID=Europe/Prague:20250131T170000
DTSTAMP:20260420T155026
CREATED:20250120T101004Z
LAST-MODIFIED:20250120T101004Z
UID:136106-1738054800-1738342800@naschov.cz
SUMMARY:IPM Essen
DESCRIPTION:Mezinárodní zahradnický kontraktační veletrh
URL:https://naschov.cz/udalost/ipm-essen/
END:VEVENT
BEGIN:VEVENT
DTSTART;TZID=Europe/Prague:20250128T090000
DTEND;TZID=Europe/Prague:20250128T130000
DTSTAMP:20260420T155026
CREATED:20241126T151006Z
LAST-MODIFIED:20241126T151006Z
UID:135148-1738054800-1738069200@naschov.cz
SUMMARY:Seminář Selgen  - PLZEŇ
DESCRIPTION:Zveme Vás na zimní seminář Selgen. V přátelském prostředí\, u dobrého jídla Vám nabídneme poutavý program za účasti šlechtitelů a zajímavých hostů.    PROGRAM Šlechtitelův rok   -  ŠS Úhřetice Sortiment pšenic   -  Pavel Horčička\, Miroslav Pochman Analýza světového trhu obilovin   -  Ota Gärtner\,TOP EKOS s.r.o. Sortiment sóji    -  Ondřej Krajčovič Odrůdy ječmene   -  Martin Kříž Odrůdy ovsa    -  Hynek Bína Odrůdy hrachu a směsky   -  František Diviš     OBĚD
URL:https://naschov.cz/udalost/seminar-selgen-plzen-2/
END:VEVENT
BEGIN:VEVENT
DTSTART;TZID=Europe/Prague:20250128T000000
DTEND;TZID=Europe/Prague:20250128T235959
DTSTAMP:20260420T155026
CREATED:20241111T114004Z
LAST-MODIFIED:20241111T114004Z
UID:134703-1738022400-1738108799@naschov.cz
SUMMARY:Odborná konference Syngenta\, Brno
DESCRIPTION:
URL:https://naschov.cz/udalost/odborna-konference-syngenta-brno/
END:VEVENT
BEGIN:VEVENT
DTSTART;TZID=Europe/Prague:20250127T083000
DTEND;TZID=Europe/Prague:20250128T143000
DTSTAMP:20260420T155026
CREATED:20241118T104005Z
LAST-MODIFIED:20241118T104005Z
UID:134838-1737966600-1738074600@naschov.cz
SUMMARY:Zelinářské dny 2025
DESCRIPTION:ODBORNÁ KONFERENCE\nSíla zdraví z našich polí
URL:https://naschov.cz/udalost/zelinarske-dny-2025/
END:VEVENT
BEGIN:VEVENT
DTSTART;TZID=Europe/Prague:20250124T083000
DTEND;TZID=Europe/Prague:20250124T140000
DTSTAMP:20260420T155026
CREATED:20241126T134005Z
LAST-MODIFIED:20241126T134005Z
UID:135133-1737707400-1737727200@naschov.cz
SUMMARY:KONFERENCE MONAS Technology
DESCRIPTION:
URL:https://naschov.cz/udalost/konference-monas-technology-4/
END:VEVENT
BEGIN:VEVENT
DTSTART;TZID=Europe/Prague:20250123T090000
DTEND;TZID=Europe/Prague:20250123T130000
DTSTAMP:20260420T155026
CREATED:20241114T154004Z
LAST-MODIFIED:20241114T154004Z
UID:134745-1737622800-1737637200@naschov.cz
SUMMARY:Siláže 2025
DESCRIPTION:PROGRAMVliv bakterií a enzymů v silážované hmotěIng. Václav Brynda ml.Digitální sledování porostů\, ne jen silážníchIng. Eduard HaninaNekonečný příběh mastitidMVDr. Josef Prášek\, PhD.\, chovatel a veterinární poradce
URL:https://naschov.cz/udalost/silaze-2025-3/
END:VEVENT
BEGIN:VEVENT
DTSTART;TZID=Europe/Prague:20250123T083000
DTEND;TZID=Europe/Prague:20250123T140000
DTSTAMP:20260420T155026
CREATED:20241126T134005Z
LAST-MODIFIED:20241126T134005Z
UID:135132-1737621000-1737640800@naschov.cz
SUMMARY:KONFERENCE MONAS Technology
DESCRIPTION:
URL:https://naschov.cz/udalost/konference-monas-technology-3/
END:VEVENT
BEGIN:VEVENT
DTSTART;TZID=Europe/Prague:20250122T090000
DTEND;TZID=Europe/Prague:20250122T140000
DTSTAMP:20260420T155026
CREATED:20241205T124005Z
LAST-MODIFIED:20241205T124005Z
UID:135378-1737536400-1737554400@naschov.cz
SUMMARY:Odborný bramborářský seminář
DESCRIPTION:Odborný bramborářský seminář
URL:https://naschov.cz/udalost/odborny-bramborarsky-seminar-3/
END:VEVENT
BEGIN:VEVENT
DTSTART;TZID=Europe/Prague:20250122T090000
DTEND;TZID=Europe/Prague:20250122T130000
DTSTAMP:20260420T155026
CREATED:20241114T154004Z
LAST-MODIFIED:20241114T154004Z
UID:134744-1737536400-1737550800@naschov.cz
SUMMARY:Siláže 2025
DESCRIPTION:
URL:https://naschov.cz/udalost/silaze-2025-2/
END:VEVENT
BEGIN:VEVENT
DTSTART;TZID=Europe/Prague:20250122T083000
DTEND;TZID=Europe/Prague:20250122T140000
DTSTAMP:20260420T155026
CREATED:20241126T134005Z
LAST-MODIFIED:20241126T134005Z
UID:135131-1737534600-1737554400@naschov.cz
SUMMARY:KONFERENCE MONAS Technology
DESCRIPTION:
URL:https://naschov.cz/udalost/konference-monas-technology-2/
END:VEVENT
BEGIN:VEVENT
DTSTART;TZID=Europe/Prague:20250121T090000
DTEND;TZID=Europe/Prague:20241121T130000
DTSTAMP:20260420T155026
CREATED:20241114T154004Z
LAST-MODIFIED:20241114T154004Z
UID:134743-1737450000-1732194000@naschov.cz
SUMMARY:Siláže 2025
DESCRIPTION:PROGRAMVliv bakterií a enzymů v silážované hmotěIng. Václav Brynda ml.Digitální sledování porostů\, ne jen silážníchIng. Eduard HaninaNekonečný příběh mastitidMVDr. Josef Prášek\, PhD.\, chovatel a veterinární poradce
URL:https://naschov.cz/udalost/silaze-2025/
END:VEVENT
BEGIN:VEVENT
DTSTART;TZID=Europe/Prague:20250121T083000
DTEND;TZID=Europe/Prague:20250121T140000
DTSTAMP:20260420T155026
CREATED:20241126T134005Z
LAST-MODIFIED:20241126T134005Z
UID:135130-1737448200-1737468000@naschov.cz
SUMMARY:KONFERENCE MONAS Technology
DESCRIPTION:
URL:https://naschov.cz/udalost/konference-monas-technology/
END:VEVENT
BEGIN:VEVENT
DTSTART;TZID=Europe/Prague:20250121T000000
DTEND;TZID=Europe/Prague:20250121T235959
DTSTAMP:20260420T155026
CREATED:20241111T114004Z
LAST-MODIFIED:20241111T114004Z
UID:134702-1737417600-1737503999@naschov.cz
SUMMARY:Odborná konference Syngenta\, Praha
DESCRIPTION:
URL:https://naschov.cz/udalost/odborna-konference-syngenta-praha/
END:VEVENT
BEGIN:VEVENT
DTSTART;TZID=Europe/Prague:20250116T090000
DTEND;TZID=Europe/Prague:20250116T130000
DTSTAMP:20260420T155026
CREATED:20241222T184003Z
LAST-MODIFIED:20241222T184003Z
UID:135584-1737018000-1737032400@naschov.cz
SUMMARY:Zimní seminář Bitozeves
DESCRIPTION:Tradiční zemědělský seminář seminář.
URL:https://naschov.cz/udalost/zimni-seminar-bitozeves/
END:VEVENT
BEGIN:VEVENT
DTSTART;TZID=Europe/Prague:20250116T090000
DTEND;TZID=Europe/Prague:20250116T130000
DTSTAMP:20260420T155026
CREATED:20241126T151006Z
LAST-MODIFIED:20241126T151006Z
UID:135147-1737018000-1737032400@naschov.cz
SUMMARY:Seminář Selgen  - BUKOVANY u Kyjova
DESCRIPTION:Zveme Vás na zimní seminář Selgen. V přátelském prostředí\, u dobrého jídla Vám nabídneme poutavý program za účasti šlechtitelů a zajímavých hostů.    PROGRAM Šlechtitelův rok   -  ŠS Úhřetice Sortiment pšenic   -  Irena Bížová\, Tomáš Bláha\, A.Kryštofová Analýza světového trhu obilovin   -  Ota Gärtner\,TOP EKOS s.r.o. Sortiment sóji    -  Ondřej Krajčovič Odrůdy ječmene   -  Martin Kříž Odrůdy ovsa    -  Hynek Bína Odrůdy hrachu a směsky   -  František Diviš     OBĚD
URL:https://naschov.cz/udalost/seminar-selgen-bukovany-u-kyjova/
END:VEVENT
BEGIN:VEVENT
DTSTART;TZID=Europe/Prague:20250115T090000
DTEND;TZID=Europe/Prague:20250115T123000
DTSTAMP:20260420T155026
CREATED:20250115T104004Z
LAST-MODIFIED:20250115T104004Z
UID:136015-1736931600-1736944200@naschov.cz
SUMMARY:Odborný seminář AGROKOP HB
DESCRIPTION:Návrh legislativních podmínek zemědělské dotační politiky pro rok 2025\, TRAVAMAN s důrazem na jarní přísevy\, osinatky RAGT a další.
URL:https://naschov.cz/udalost/odborny-seminar-agrokop-hb-4/
END:VEVENT
BEGIN:VEVENT
DTSTART;TZID=Europe/Prague:20250115T090000
DTEND;TZID=Europe/Prague:20250115T140000
DTSTAMP:20260420T155026
CREATED:20241205T124005Z
LAST-MODIFIED:20241205T124005Z
UID:135377-1736931600-1736949600@naschov.cz
SUMMARY:Odborný vinařský seminář
DESCRIPTION:Odborný vinařský seminář
URL:https://naschov.cz/udalost/odborny-vinarsky-seminar/
END:VEVENT
BEGIN:VEVENT
DTSTART;TZID=Europe/Prague:20250114T093000
DTEND;TZID=Europe/Prague:20250115T140000
DTSTAMP:20260420T155026
CREATED:20241112T094137Z
LAST-MODIFIED:20241112T094137Z
UID:134717-1736847000-1736949600@naschov.cz
SUMMARY:Ovocnářské dny 2025
DESCRIPTION:Ovocnářské dny jsou významnou vědeckou konferencí v oblasti ovocnářství. V lednu roku 2023 se bude konat již 66. ročník. Organizátory akce jsou VÝZKUMNÝ A ŠLECHTITELSKÝ ÚSTAV OVOCNÁŘSKÝ HOLOVOUSY s.r.o. spolu s Ovocnářskou unií České republiky\, z.s. a další partneři. \n Ovocnářské dny jsou konferencí\, kde se potkávají odborníci z Česka\, ale i ze zahraničí s našimi ovocnáři a předávají si zkušenosti z vědy\, výzkumu a praxe. Zároveň se akce účastní celá řada vystavovatelů z řad podniků\, které dodávají do ovocnářství stroje a techniku\, přípravky na výživu a ochranu a poskytují služby pro ovocnáře. \n V tomto roce se budou Ovocnářské dny 2024 konat ve dnech 16. – 17. ledna 2024 v Kongresovém centru Aldis v Hradci Králové. Návštěvníci se mohou těšit na více než 20 odborných příspěvků v rámci konference\, výstavu jablek\, výstavu strojů\, prodej odborné literatury a prodej ovoce a výrobků z něho.
URL:https://naschov.cz/udalost/ovocnarske-dny-2025/
END:VEVENT
BEGIN:VEVENT
DTSTART;TZID=Europe/Prague:20250114T090000
DTEND;TZID=Europe/Prague:20250115T160000
DTSTAMP:20260420T155026
CREATED:20241118T154005Z
LAST-MODIFIED:20241118T154005Z
UID:134842-1736845200-1736956800@naschov.cz
SUMMARY:Zelená burza 2025
DESCRIPTION:Zelená burza je kontraktační prodejní výstava českých zahradnických výpěstků\, se zaměřením výhradně na velkoobchodní prodej rostlinného materiálu pro realizační firmy\, správce veřejné zeleně\, obce\, zahradní centra a další subjekty podnikající v zahradnickém či školkařském oboru.
URL:https://naschov.cz/udalost/zelena-burza-2025/
END:VEVENT
BEGIN:VEVENT
DTSTART;TZID=Europe/Prague:20250110T100000
DTEND;TZID=Europe/Prague:20250111T160000
DTSTAMP:20260420T155026
CREATED:20241126T134005Z
LAST-MODIFIED:20241126T134005Z
UID:135121-1736503200-1736611200@naschov.cz
SUMMARY:NÁŠ CHOVATEL 2025
DESCRIPTION:Náš Chovatel 2025  Výstaviště Lysá nad Labem\, Masarykova 1727  otevřeno pátek 10-18 h.\, sobota 9-16 h.  \n základní vstupné 120 Kč  vstupné děti do 130cm\, ZTP/P zdarma  výstavní katalog 100 Kč
URL:https://naschov.cz/udalost/nas-chovatel-2025/
END:VEVENT
BEGIN:VEVENT
DTSTART;TZID=Europe/Prague:20250109T090000
DTEND;TZID=Europe/Prague:20250109T130000
DTSTAMP:20260420T155026
CREATED:20241126T151005Z
LAST-MODIFIED:20241126T151005Z
UID:135146-1736413200-1736427600@naschov.cz
SUMMARY:Seminář Selgen  - IVANČICE
DESCRIPTION:Zveme Vás na zimní seminář Selgen. V přátelském prostředí\, u dobrého jídla Vám nabídneme poutavý program za účasti šlechtitelů a zajímavých hostů.    PROGRAM Šlechtitelův rok   -  ŠS Úhřetice Sortiment pšenic   -  Irena Bížová\, Tomáš Bláha\, A. Kryštofová Analýza světového trhu obilovin   -  Ota Gärtner\,TOP EKOS s.r.o. Sortiment sóji    -  Ondřej Krajčovič Odrůdy ovsa    -  Hynek Bína Odrůdy hrachu a směsky   -  František Diviš     OBĚD
URL:https://naschov.cz/udalost/seminar-selgen-ivancice/
END:VEVENT
BEGIN:VEVENT
DTSTART;TZID=Europe/Prague:20250107T090000
DTEND;TZID=Europe/Prague:20250107T130000
DTSTAMP:20260420T155026
CREATED:20241126T151005Z
LAST-MODIFIED:20241126T151005Z
UID:135145-1736240400-1736254800@naschov.cz
SUMMARY:Seminář Selgen  - VELKÁ BYSTŘICE
DESCRIPTION:Zveme Vás na zimní seminář Selgen. V přátelském prostředí\, u dobrého jídla Vám nabídneme poutavý program za účasti šlechtitelů a zajímavých hostů. \n    PROGRAM Šlechtitelův rok   -  ŠS Úhřetice Sortiment pšenic   -  Irena Bížová\, Tomáš Bláha\, Božek Novák Analýza světového trhu obilovin   -  Ota Gärtner\,TOP EKOS s.r.o. Sortiment sóji    -  Ondřej Krajčovič Odrůdy ječmene   -  Martin Kříž Odrůdy hrachu a směsky   -  František Diviš \n   OBĚD
URL:https://naschov.cz/udalost/seminar-selgen-velka-bystrice-2/
END:VEVENT
END:VCALENDAR