BEGIN:VCALENDAR
VERSION:2.0
PRODID:-//Náš chov - vše o chovu hospodářských zvířat - ECPv6.11.1//NONSGML v1.0//EN
CALSCALE:GREGORIAN
METHOD:PUBLISH
X-WR-CALNAME:Náš chov - vše o chovu hospodářských zvířat
X-ORIGINAL-URL:https://naschov.cz
X-WR-CALDESC:Akce na Náš chov - vše o chovu hospodářských zvířat
REFRESH-INTERVAL;VALUE=DURATION:PT1H
X-Robots-Tag:noindex
X-PUBLISHED-TTL:PT1H
BEGIN:VTIMEZONE
TZID:Europe/Prague
BEGIN:DAYLIGHT
TZOFFSETFROM:+0100
TZOFFSETTO:+0200
TZNAME:CEST
DTSTART:20250330T010000
END:DAYLIGHT
BEGIN:STANDARD
TZOFFSETFROM:+0200
TZOFFSETTO:+0100
TZNAME:CET
DTSTART:20251026T010000
END:STANDARD
BEGIN:DAYLIGHT
TZOFFSETFROM:+0100
TZOFFSETTO:+0200
TZNAME:CEST
DTSTART:20260329T010000
END:DAYLIGHT
BEGIN:STANDARD
TZOFFSETFROM:+0200
TZOFFSETTO:+0100
TZNAME:CET
DTSTART:20261025T010000
END:STANDARD
END:VTIMEZONE
BEGIN:VEVENT
DTSTART;TZID=Europe/Prague:20251023T090000
DTEND;TZID=Europe/Prague:20251023T120000
DTSTAMP:20260423T164935
CREATED:20251009T153004Z
LAST-MODIFIED:20251009T153004Z
UID:140401-1761210000-1761220800@naschov.cz
SUMMARY:VEŘEJNÁ SKLIZEŇ zrnové kukuřice v TAGROS a.s. (OL)
DESCRIPTION:VE SPOLUPRÁCI s TAGROS a.s. a partnery VÁS SRDEČNĚ ZVEME na VEŘEJNOU SKLIZEŇ ZRNOVÉ KUKUŘICE LG. \nKdo tentokrát nejlépe odhadne výnos?
URL:https://naschov.cz/udalost/verejna-sklizen-zrnove-kukurice-v-tagros-a-s-ol/
END:VEVENT
BEGIN:VEVENT
DTSTART;TZID=Europe/Prague:20251023T093000
DTEND;TZID=Europe/Prague:20251023T123000
DTSTAMP:20260423T164935
CREATED:20251001T151007Z
LAST-MODIFIED:20251001T151007Z
UID:140164-1761211800-1761222600@naschov.cz
SUMMARY:Den kukuřice KWS 2025 - veřejná sklizeň kukuřice na zrno
DESCRIPTION:
URL:https://naschov.cz/udalost/den-kukurice-kws-2025-verejna-sklizen-kukurice-na-zrno/
END:VEVENT
BEGIN:VEVENT
DTSTART;TZID=Europe/Prague:20251023T130000
DTEND;TZID=Europe/Prague:20251023T170000
DTSTAMP:20260423T164935
CREATED:20251022T090003Z
LAST-MODIFIED:20251022T090003Z
UID:140557-1761224400-1761238800@naschov.cz
SUMMARY:Polní den Meziplodiny
DESCRIPTION:Meziplodiny a jejich využití v různých systémech hospodaření: \n- přednášky (Myslivna Bratčice)\, \n- polní ukázky různých druhů meziplodin. \nSkupinová akce se koná v rámci projektu 9.F.m. Demonstrační farmy\, podpořeného Ministerstvem zemědělství. Seminář proběhne ve spolupráci projektu “Význam lignocelulózového komplexu z biomasy meziplodin pro zlepšení půdního prostředí” QK21010161
URL:https://naschov.cz/udalost/polni-den-meziplodiny/
END:VEVENT
BEGIN:VEVENT
DTSTART;TZID=Europe/Prague:20251024T100000
DTEND;TZID=Europe/Prague:20251028T160000
DTSTAMP:20260423T164935
CREATED:20241126T134005Z
LAST-MODIFIED:20241126T134005Z
UID:135128-1761300000-1761667200@naschov.cz
SUMMARY:EXOTIKA 2025
DESCRIPTION:17. celostátní výstava exotické fauny a flóry
URL:https://naschov.cz/udalost/exotika-2025/
END:VEVENT
BEGIN:VEVENT
DTSTART;TZID=Europe/Prague:20251029T090000
DTEND;TZID=Europe/Prague:20251029T150000
DTSTAMP:20260423T164935
CREATED:20251009T124005Z
LAST-MODIFIED:20251009T124005Z
UID:140393-1761728400-1761750000@naschov.cz
SUMMARY:Aplikace kompostu do půdy – sdílení zkušeností
DESCRIPTION:V rámci aktivit Celostátní sítě pro venkov a ve spolupráci se Zemědělskou a ekologickou regionální agenturou\, z.s. si Vás dovolujeme pozvat na workshop s exkurzí \n„Aplikace kompostu do půdy – sdílení zkušeností“\n29. října 2025\nFarma Ing. Pavla Stejskala\, Ponětovice 140\, 664 51 Ponětovice \nGPS: N 49°9.05768'\, E 16°44.39700' \n  \n  \nProgram:  \n09:00 hod.    Prezence účastníků\, ranní káva \n  \n09:15-09:45 hod.    Uhlíkové hospodaření\, trhy s uhlíkem a uhlíkové kredity  v politikách EU   \ndoc. Ing. Jana Poláková (Česká zemědělská univerzita v Praze) \n  \n09:45-10:15 hod.    Půdoochranné technologie – DZES 5 – osevní sled s kompostem a možnosti podpor agrotechniky v rámci Strategického plánu Společné zemědělské politiky na období 2023–2027  \nIng. Martina Poláková (Spolek pro inovace a udržitelné zemědělství\, z.s.) \n  \n10:15-11:00 hod.    Kompostování\, kompost – stabilní organické hnojivo                                  Ing. Jindřich Černý\, Ph.D. (Česká zemědělská univerzita v Praze) \n                               \n11:00-11:45 hod.    Specifická role N – podíl dusíku dostupného rostlinám                              Ing. Jaroslav Záhora\, CSc. (Mendelova univerzita v Brně) \n  \n11:45-12:15 hod.    Možnosti aplikace kompostu a navazujících agrotechnik\, logistika                                 \nIng. Pavel Stejskal (soukromý zemědělec)\, Ondřej Doležal (ProFarm Blatnice) \n  \n12:15-13:00 hod.    Monitoring kvality kompostu a jeho účinků v půdě                                     \nIng. Olga Křížová (Zemědělská a ekologická regionální agentura\, z.s.)\, Ing. Václav Necid (ADW AGRO\, a.s.) \n  \n13:00-13:30 hod.    Oběd \n  \n13:30-14:00 hod.    Závěrečná diskuze – příklady z praxe a výzkumu \n                              Ing. Květuše Hejátková (Zemědělská a ekologická regionální agentura\, z.s.) \n  \n14.00-15:00 hod.    Praktická ukázka aplikace kompostu a hnoje na zemědělském podniku Ing. Pavla Stejskala. \n                              Ukázky techniky používané na farmě spolufinancované z Programu rozvoje venkova 2014‒2020 \nIng. Pavel Stejskal (soukromý zemědělec) \n  \nRegistrace účastníků nejpozději do 22. října 2025 do 12:00 hod. prostřednictvím odkazu ZDE. Změna v programu vyhrazena. \nZ prostředků Celostátní sítě pro venkov je hrazeno občerstvení (1x oběd\, 1x coffee break)\, pronájem prostor\, lektoři/průvodci programu\, moderátor akce. \nPodrobné informace o zpracování osobních údajů jsou v souladu s nařízením Evropského parlamentu a Rady (EU) 2016/679 o ochraně fyzických osob v souvislosti se zpracováním osobních údajů a o volném pohybu těchto údajů a o zrušení směrnice 95/46/ES zveřejněny na https://szif.gov.cz. \n  \n  \nSrdečně zvou organizátoři akce. \n  \n\n\n\n\nIng. Lucie Sýsová \n\n\n  \n\n\nIng. Květuše Hejátková \n\n\n\n\nKrajský koordinátor \n\n\n  \n\n\nPředsedkyně spolku \n\n\n\n\nCelostátní síť pro venkov \n\n\n  \n\n\nZERA – Zemědělská a ekologická \nregionální agentura\, z.s. \n\n\n\n\n 
URL:https://naschov.cz/udalost/aplikace-kompostu-do-pudy-sdileni-zkusenosti/
END:VEVENT
BEGIN:VEVENT
DTSTART;TZID=Europe/Prague:20251030T090000
DTEND;TZID=Europe/Prague:20251030T140000
DTSTAMP:20260423T164935
CREATED:20251014T104004Z
LAST-MODIFIED:20251014T104004Z
UID:140413-1761814800-1761832800@naschov.cz
SUMMARY:Šetrné hospodaření na půdě při probíhající klimatické změně
DESCRIPTION:Workshop bude zaměřen na předpokládané změny v agrotechnice v důsledku klimatických změn. Bude hodnocen vliv povětrnostních podmínek letošního roku na stav porostů a dosažené výnosy polních plodin. Bude diskutována udržitelnost současných systémů hospodaření na půdě v příštích letech a inovace v pěstebních technologiích včetně uplatnění metod precizního zemědělství a prezentovány agrotechnické postupy šetrné k životnímu prostředí a zlepšující zadržení vody\, uhlíku a živin v půdě. \n 
URL:https://naschov.cz/udalost/setrne-hospodareni-na-pude-pri-probihajici-klimaticke-zmene/
END:VEVENT
BEGIN:VEVENT
DTSTART;TZID=Europe/Prague:20251031T100000
DTEND;TZID=Europe/Prague:20251031T120000
DTSTAMP:20260423T164935
CREATED:20241210T110005Z
LAST-MODIFIED:20241210T110005Z
UID:135490-1761904800-1761912000@naschov.cz
SUMMARY:ENT plemenných beranů romney Vrbětice; Členská schůze klubu chovatelů ovcí romney
DESCRIPTION:Kromě ENT plemenných beranů romney Vrbětice proběhne Členská schůze klubu chovatelů ovcí romney
URL:https://naschov.cz/udalost/ent-plemennych-beranu-romney-vrbetice-clenska-schuze-klubu-chovatelu-ovci-romney/
END:VEVENT
BEGIN:VEVENT
DTSTART;TZID=Europe/Prague:20251031T100000
DTEND;TZID=Europe/Prague:20251027T150000
DTSTAMP:20260423T164935
CREATED:20251031T110009Z
LAST-MODIFIED:20251031T110009Z
UID:140702-1761904800-1761577200@naschov.cz
SUMMARY:Kontaminanty v potravinách a prostředí – výzvy a řešení pro ekologické zemědělství
DESCRIPTION:Program:\n10:00–10:30Zahájení a úvod k tématuIng. Michael Vrána (Ekofarma PROBIO)\, Ing. Martin Hutař (PRO-BIO obchodní společnost)Současné nejvýznamnější zdroje kontaminací v zemědělství – příklady z praxe \n10:30–11:30Projekt SPRINT: pesticidy v zemědělstvíProf. RNDr. Jakub Hofman\, Ph.D. (RECETOX\, Masarykova univerzita) \n11:30–12:00Mikroplasty v zemědělství – skrytý problém?Mgr. Klára Šmídová\, Ph.D. (RECETOX\, Masarykova univerzita) \n12:00–12:30Skladištní škůdci a ochrana skladů – rozdíly mezi konvenčním a ekologickým systémemIng. Radek Aulický\, Ph.D. (CARC) \n12:30–13:15Oběd \n13:15–15:00 – Praktická část \n\n\nUkázka ochrany proti škůdcům ve skladu a na posklizňové lince farmy – prevence\, nápravná opatření\, zásady správné ochrany skladů v ekologickém systému a povolené prostředky \n\n\nExkurze po Ekofarmě PROBIO \n\n\nDiskuse a sdílení zkušeností v terénu \n\n\n15:00 \nUkončení akce
URL:https://naschov.cz/udalost/kontaminanty-v-potravinach-a-prostredi-vyzvy-a-reseni-pro-ekologicke-zemedelstvi/
END:VEVENT
BEGIN:VEVENT
DTSTART;TZID=Europe/Prague:20251103T120000
DTEND;TZID=Europe/Prague:20251103T130000
DTSTAMP:20260423T164935
CREATED:20250813T104004Z
LAST-MODIFIED:20250813T104004Z
UID:139375-1762171200-1762174800@naschov.cz
SUMMARY:WEBINÁŘ: Kompostování & zemědělství
DESCRIPTION:WEBINÁŘE: Kompostování & zemědělství \n  \nPravidelné on-line setkání s vámi – vaše dotazy\, naše odpovědi. \nZajímá vás\, jak efektivně kompostovat? Nevíte si rady s konkrétním problémem? Chcete sdílet zkušenosti nebo získat tipy od ostatních? Připojte se k našim interaktivním on-line webinářům\, kde řešíme vaše dotazy ohledně kompostování\, půdy\, živin a udržitelného zemědělství. \n  \nKDY: vždy 1. pondělí v měsíci\, 12:00–13:00 \nTERMÍNY: 1. 9. 2025\, 6. 10. 2025\, 3. 11. 2025\, 1. 12. 2025 \nKDE: on-line přes odkaz\, který vám zašleme po přihlášení. \nPŘIHLÁŠKY: do čtvrtka předcházejícího termín webináře\, tj. do 28. 8.\, resp. 2. 10.\, resp. 30. 10.\, resp. 27. 11. 2025 na e-mailu: prokesova@zeraagency.eu.  \nÚčast je zdarma – jen vaše otázky a chuť se dozvědět víc!
URL:https://naschov.cz/udalost/webinar-kompostovani-zemedelstvi-3/
END:VEVENT
BEGIN:VEVENT
DTSTART;TZID=Europe/Prague:20251104T083000
DTEND;TZID=Europe/Prague:20251105T143000
DTSTAMP:20260423T164935
CREATED:20251001T134004Z
LAST-MODIFIED:20251001T134004Z
UID:140161-1762245000-1762353000@naschov.cz
SUMMARY:Zdravá půda\, zdravé potraviny\, zdravá farma
DESCRIPTION: \n\n\n\n\n\n\n\nPraktická konference jak “vytvořit a udržet ZDRAVOU půdu i farmu” – úrodnost a ziskovost. Metody: agrotechnické praktiky\, výživa rostlin: biostimulanty\, kompost\, digestát a další. Zdravá farma: nezemědělský zdroj příjmů – bioplynové stanice\, kompostárny – spolupráce s obcemi. Kontext dotačních titulů.\nVše sdílení prověřené praxe experty a zemědělci. \nKde: farma Nová Amerika\, Kašov 45\, Kuks 544 01\, (50.37997934761813\, 15.859433080680667)\nRegistrace do 15.10.2025: zde\nAkce je financována SZIF: Celostátní sítí pro venkov.\nVíce informací: detailní program v příloze \nMSc. Radovan Hanzl\, tel: 702213695\, rh@fourleaves.cz \nFour Leaves Agro \nZDRAVÁ PŮDA\, ZDRAVÁ FARMA
URL:https://naschov.cz/udalost/zdrava-puda-zdrave-potraviny-zdrava-farma/
END:VEVENT
BEGIN:VEVENT
DTSTART;TZID=Europe/Prague:20251105T083000
DTEND;TZID=Europe/Prague:20251105T130000
DTSTAMP:20260423T164935
CREATED:20251001T134004Z
LAST-MODIFIED:20251001T134004Z
UID:140163-1762331400-1762347600@naschov.cz
SUMMARY:PĚSTOVÁNÍ KUKUŘICE V ROCE 2026
DESCRIPTION:
URL:https://naschov.cz/udalost/pestovani-kukurice-v-roce-2026/
END:VEVENT
BEGIN:VEVENT
DTSTART;TZID=Europe/Prague:20251105T090000
DTEND;TZID=Europe/Prague:20251106T130000
DTSTAMP:20260423T164935
CREATED:20251006T141004Z
LAST-MODIFIED:20251006T141004Z
UID:140354-1762333200-1762434000@naschov.cz
SUMMARY:XXVII. ROSTLINOLÉKAŘSKÉ DNY
DESCRIPTION:XXVII. Rostlinolékařská dny se pořádají 5. a 6.11.2025 \nna téma ROSTLINOLÉKAŘSTVÍ = BUDOUCNOST ZDRAVÉ A BEZPEČNÉ ROSTLINNÉ PRODUKCE \nKonference je určena pracovníkům zemědělské prvovýroby\, oblasti služeb\, státní a veřejné správy\, pěstitelských svazů\, institucí na úseku vědy\, výzkumu a vzdělávání s cílem informovat o nových systémech a způsobech účelné a racionální ochrany proti škodlivým organismům při respektování zásad produkce zdravých surovin pro výrobu potravin a krmiv a ochrany složek zdraví lidí a životního prostředí. Program je k dispozici na  www.rostlinolekari.cz \n 
URL:https://naschov.cz/udalost/xxvii-rostlinolekarske-dny/
END:VEVENT
BEGIN:VEVENT
DTSTART;TZID=Europe/Prague:20251105T090000
DTEND;TZID=Europe/Prague:20251105T130000
DTSTAMP:20260423T164935
CREATED:20251014T104004Z
LAST-MODIFIED:20251014T104004Z
UID:140414-1762333200-1762347600@naschov.cz
SUMMARY:Zemědělský seminář Humpolec
DESCRIPTION:Tradiční zemědělský seminář firmy VP AGRO a Agrokop HB. 
URL:https://naschov.cz/udalost/zemedelsky-seminar-humpolec-2/
END:VEVENT
BEGIN:VEVENT
DTSTART;TZID=Europe/Prague:20251105T100000
DTEND;TZID=Europe/Prague:20251105T120000
DTSTAMP:20260423T164935
CREATED:20241210T110005Z
LAST-MODIFIED:20241210T110005Z
UID:135491-1762336800-1762344000@naschov.cz
SUMMARY:ENT plemenných beranů valašské ovce\, NT plemenných beranů a kozlů\, Bludovice u Nového Jičína
DESCRIPTION:Na usedlosti Bludička č. 9 proběhne tračiční elitní nákupní trh plemenných beranů valašské ovce\, dále NT plemenných beranů a kozlů.
URL:https://naschov.cz/udalost/ent-plemennych-beranu-valasske-ovce-nt-plemennych-beranu-a-kozlu-bludovice-u-noveho-jicina/
END:VEVENT
BEGIN:VEVENT
DTSTART;TZID=Europe/Prague:20251106T083000
DTEND;TZID=Europe/Prague:20251106T130000
DTSTAMP:20260423T164935
CREATED:20251001T151007Z
LAST-MODIFIED:20251001T151007Z
UID:140165-1762417800-1762434000@naschov.cz
SUMMARY:Pěstování kukuřice v roce 2026
DESCRIPTION:
URL:https://naschov.cz/udalost/pestovani-kukurice-v-roce-2026-2/
END:VEVENT
BEGIN:VEVENT
DTSTART;TZID=Europe/Prague:20251107T090000
DTEND;TZID=Europe/Prague:20251108T140000
DTSTAMP:20260423T164935
CREATED:20241210T110005Z
LAST-MODIFIED:20241210T110005Z
UID:135494-1762506000-1762610400@naschov.cz
SUMMARY:28. mezinárodní konference chovatelů ovcí a koz\, hotel Luna\, Kouty
DESCRIPTION:Svaz chovatelů ovcí a koz z.s. zve na setkání chovatelů ovcí a koz v kongresovém hotelu Luna\, Kouty 77\, Ledeč nad Sázavou. \nV plánovaných přednáškách přineseme aktuální informace nejen ze státní správy. Počítáme s účastí zástupců Ministerstva zemědělství České republiky a Státní veterinární správy. Ohlédneme se za nákupními trhy a národními výstavami tohoto roku. Pozornost budeme věnovat výživě malých přežvýkavců. Vrátíme se k vlčí problematice.  Program přednášek našeho setkání bude končit v sobotu oblíbeným veterinárním blokem\, kde se budeme celé dopoledne věnovat aktuální zdravotní situaci v chovech ovcí a koz. \nPro bližší informace sledujte náš web www.schok.cz
URL:https://naschov.cz/udalost/28-mezinarodni-konference-chovatelu-ovci-a-koz-hotel-luna-kouty/
END:VEVENT
BEGIN:VEVENT
DTSTART;TZID=Europe/Prague:20251108T090000
DTEND;TZID=Europe/Prague:20251108T235500
DTSTAMP:20260423T164935
CREATED:20241112T094137Z
LAST-MODIFIED:20241112T094137Z
UID:134707-1762592400-1762646100@naschov.cz
SUMMARY:175. výročí školy
DESCRIPTION:V sobotu 8. 11. 2025 od 9:00 hod se bude konat tzv. „VŠELIBVERDSKÝ SRAZ“ absolventů a přátel školy. K prohlídce budou zpřístupněny:Nově zrekonstruované prostory školy • Jednotlivé třídy a učebny • Botanická zahrada • Aula s tělocvičnou • Pastevní areál • Prodejna Azalka \n 
URL:https://naschov.cz/udalost/175-vyroci-skoly/
END:VEVENT
BEGIN:VEVENT
DTSTART;TZID=Europe/Prague:20251111T080000
DTEND;TZID=Europe/Prague:20251111T160000
DTSTAMP:20260423T164935
CREATED:20250830T104006Z
LAST-MODIFIED:20250830T104006Z
UID:139639-1762848000-1762876800@naschov.cz
SUMMARY:KOMPOST FÓRUM 2025 - Diskuzní fórum: Den pro půdu\, kompost a spolupráci
DESCRIPTION:3 tematické dny – 3 místa – 1 společný záměrKompostovatelné suroviny jako zdroj pro půdu\, krajinu a spolupráci \nV letošním roce jsme pro vás připravili třídenní program rozdělený do tří samostatných akcí\, které se postupně uskuteční během října a listopadu 2025. Každý den má své vlastní zaměření\, ale všechny spojuje společné téma: jak účelně a udržitelně využívat biologicky rozložitelný odpad (BRO) v zemědělství a krajině. \n  1. DEN: Terénní workshop – Kompostování hnoje v praxi  Božice (Kraj Vysočina)  16. října 2025 \nRecyklace BRO (biologicky rozložitelných odpadů) prostřednictvím zemědělského kompostování – zaměření na propojení obcí a kompostáren. Praktické ukázky\, sdílení zkušeností\, diskuse o spolupráci mezi obcemi a zemědělci. \nKlíčové body programu:  Modely spolupráce obcí a zemědělců (logistika\, sběr BRO\, legislativa)  Zemědělec potřebuje uhlíkatý materiál – obec ho má  Ukázka technologie kompostování hnoje a BRO v praxi  Význam stabilizace hnoje a biologicky rozložitelného odpadu  Diskuse a sdílení dobré praxe \n  2. DEN: Technologický den – Aplikace kompostu do půdy  Ponětovice (Jihomoravský kraj)  29. října 2025 \nAplikace kompostu v zemědělství – propojení kompostáren a zemědělských technologií. Prezentace technologií aplikace\, ukázky strojů\, diskuse o dopadech na půdu a produkci. \nKlíčové body programu:  Technologie aplikace kompostu (rozmetadla\, pásové aplikace\, precizní zemědělství)  Půdní přínosy a environmentální efekty  Výměna zkušeností mezi provozovateli kompostáren a zemědělci  Legislativní rámec pro aplikaci \n  3. DEN: Diskuzní fórum  Náměšť nad Oslavou  11. listopadu 2025 \nNejde pouze o recyklaci živin\, ale i o návrat organické hmoty do půdy\, což je klíčové pro dlouhodobé zdraví půdy\, její strukturu a vodní režim. Zároveň má cyklus zdůraznit regionální propojení obcí\, kompostáren a zemědělců jako nástroj řešení.Potřebujeme změnit myšlení: od „kam to odvézt“ na „jak to využít v krajině“. \nZERA je připravena pomoci jako koordinátor\, poradce i partner. \nKlíčové body programu:  Shrnutí výstupů z předchozích dvou akcí  Zemědělské kompostárny jako doplňující páteř recyklace BRO – přirozený most mezi zemědělcem a původcem biologicky rozložitelných surovin  Kompost jako součást cirkulární a bioekonomiky  Panelová diskuse s experty\, zástupci státní správy\, výzkumu a praxe  Představení návrhů pro zlepšení systému BRO v ČR \n  Networking\, výměna kontaktů a možnost budoucích spoluprací \n  Kdo za tím stojí?ZERA – Zěmědělská a ekologická regionální agentura\, z.s. – odborný koordinátor\, poradce i spojovací článek mezi obcemi\, zemědělci a státní správou. \nK diskuzi přizváni:AWD ARGO • BIOHUB • CARC • Czech Organics • ČZU Praha • Farmářská škola • FAST VUT v Brně • JU • Mendelu Brno • MZe • MŽP • Platforma pro bioekonomiku ČR • SIUZ • UJEP • ÚKZUZ • VŠB • VŠCHT • VÚMOP • VÚP \nMediální partner: PROFI PRESS \n  Připojte se \nPřihlásit se můžete na jednotlivé dny samostatně nebo absolvovat celé třídenní KOMPOST FORUM 2025 jako sérii. PŘIHLÁŠKY: https://forms.office.com/e/jX1BXTP2sT \nCena: Diskuzní fórum prezenčně 3500 Kč/osobu\, on-line 500 Kč.Terénní workshop a technologický den jsou zdarma \nTěšíme se na společná setkání v terénu i u kulatého stolu.
URL:https://naschov.cz/udalost/kompost-forum-2025-diskuzni-forum-den-pro-pudu-kompost-a-spolupraci/
END:VEVENT
BEGIN:VEVENT
DTSTART;TZID=Europe/Prague:20251111T090000
DTEND;TZID=Europe/Prague:20251111T130000
DTSTAMP:20260423T164935
CREATED:20251027T073005Z
LAST-MODIFIED:20251027T073005Z
UID:140599-1762851600-1762866000@naschov.cz
SUMMARY:Tradiční seminář Limagrain - Větrný Jeníkov
DESCRIPTION:Srdečně Vás zveme na tradiční seminář k zahájení jarní sezóny 2026 ve Větrném Jeníkově. \nDozvíte se odrůdovou skladbu sladoven 2026 a novinky i stálice v sortimentu Limagrain\, další program bude upřesněn.
URL:https://naschov.cz/udalost/tradicni-seminar-limagrain-vetrny-jenikov/
END:VEVENT
BEGIN:VEVENT
DTSTART;TZID=Europe/Prague:20251112T083000
DTEND;TZID=Europe/Prague:20251112T130000
DTSTAMP:20260423T164935
CREATED:20251001T151007Z
LAST-MODIFIED:20251001T151007Z
UID:140166-1762936200-1762952400@naschov.cz
SUMMARY:Pěstování kukuřice v roce 2026
DESCRIPTION:
URL:https://naschov.cz/udalost/pestovani-kukurice-v-roce-2026-3/
END:VEVENT
BEGIN:VEVENT
DTSTART;TZID=Europe/Prague:20251112T083000
DTEND;TZID=Europe/Prague:20251031T140000
DTSTAMP:20260423T164935
CREATED:20251031T110009Z
LAST-MODIFIED:20251031T110009Z
UID:140704-1762936200-1761919200@naschov.cz
SUMMARY:Seminář "Od kuřete po nosnici"
DESCRIPTION:Rádi bychom Vás pozvali na seminář \n  \n"OD KUŘETE PO NOSNICI" \nZdraví\, výživa a welfare chovu \nPROGRAM: \n  \n08:00    Registrace \n09:00    Zahájení a úvodní slovo  \n             Ing. Aleš Křivka\, ACE Agro s.r.o. \n09:25    QuoCNA anaerobní probiotická kultura a její aplikace  \n             Ing. Tereza Kladenská\, ACE Agro s.r.o. \n09:55    Coffee break \n10:15    Jak chápat rozvoj střevní mikroflóry u drůbeže a jak toho využít ve prospěch   \n             zvýšené produkce a snížení spotřeby antibiotik  \n             Prof. RNDr. Ivan Rychlík Ph.D.\, VÚVeL \n11: 00    Silnější start\, méně ztrát\, lepší výsledek hejna díky přirozenému imunitnímu štítu  \n              drůbeže od již prvního dne               \n              Stanisław Franczak\, PhD.  Eng. \n11:45     Oběd \n12:45     Aktivní bakteriální ochrana aneb zdravější střevo s každým soustem  \n              Ing. Aleš Křivka\, ACE Agro s.r.o. \n13:15     Frontální útok proti čmelíkům  \n              Ing. Aleš Křivka a Ing. Tereza Kladenská\, ACE Agro s.r.o. \n13:45     Diskuze o praktických zkušenostech z chovů  \n              Ing. Tereza Kladenská\, ACE Agro s.r.o. \n14:15     Zakončení \n  \nZaregistrujte se na omarsikova@gmail.com nebo na 775652189.  
URL:https://naschov.cz/udalost/seminar-od-kurete-po-nosnici/
END:VEVENT
BEGIN:VEVENT
DTSTART;TZID=Europe/Prague:20251112T090000
DTEND;TZID=Europe/Prague:20260415T160000
DTSTAMP:20260423T164935
CREATED:20251120T071004Z
LAST-MODIFIED:20251120T071004Z
UID:141075-1762938000-1776268800@naschov.cz
SUMMARY:SILVA REGINA
DESCRIPTION:Mezinárodní lesnický a myslivecký veletrh
URL:https://naschov.cz/udalost/silva-regina-3/
END:VEVENT
BEGIN:VEVENT
DTSTART;TZID=Europe/Prague:20251112T090000
DTEND;TZID=Europe/Prague:20260415T160000
DTSTAMP:20260423T164935
CREATED:20251120T071004Z
LAST-MODIFIED:20251120T071004Z
UID:141076-1762938000-1776268800@naschov.cz
SUMMARY:BIOMASA
DESCRIPTION:Veletrh obnovitelných zdrojů energie v zemědělství a lesnictví
URL:https://naschov.cz/udalost/biomasa-3/
END:VEVENT
BEGIN:VEVENT
DTSTART;TZID=Europe/Prague:20251113T083000
DTEND;TZID=Europe/Prague:20251113T130000
DTSTAMP:20260423T164935
CREATED:20251001T151007Z
LAST-MODIFIED:20251001T151007Z
UID:140167-1763022600-1763038800@naschov.cz
SUMMARY:Pěstování kukuřice v roce 2026
DESCRIPTION:
URL:https://naschov.cz/udalost/pestovani-kukurice-v-roce-2026-4/
END:VEVENT
BEGIN:VEVENT
DTSTART;TZID=Europe/Prague:20251113T090000
DTEND;TZID=Europe/Prague:20251113T130000
DTSTAMP:20260423T164935
CREATED:20251027T073005Z
LAST-MODIFIED:20251027T073005Z
UID:140600-1763024400-1763038800@naschov.cz
SUMMARY:Podzimní seminář Vsisko
DESCRIPTION:Zveme vás na podzimní seminář Limagrain ve Vsisku.  \nProgram:  \n8:30 Prezence účastníků \n9:00 Zahájení semináře \n\nNovinky z Plzeňského Prazdroje (I. Vykoukal)\nJarní ječmeny LG pro rok 2026\nVýsledky pokusů\, novinky na rok 2026 (Ing. L. Zámorský)\nNovinky LG v pšenicích a kvalita sklizně 2025\nSíla v listech – chytrá výživa pro vyšší výnos i kvalitu (O. Cinek)\nKukuřice Limagrain pro sezónu 2026\n\n12:30  Ukončení semináře a společný oběd
URL:https://naschov.cz/udalost/podzimni-seminar-vsisko/
END:VEVENT
BEGIN:VEVENT
DTSTART;TZID=Europe/Prague:20251125T090000
DTEND;TZID=Europe/Prague:20251125T130000
DTSTAMP:20260423T164935
CREATED:20251120T071004Z
LAST-MODIFIED:20251120T071004Z
UID:141077-1764061200-1764075600@naschov.cz
SUMMARY:Dny precizního zemědělství 2025
DESCRIPTION:AG info vás ve spolupráci s AGRI–PRECISION a MJM Agro zve na \nBEZPLATNÝ ODBORNÝ SEMINÁŘ: \nDNY PRECIZNÍHO ZEMĚDĚLSTVÍ 2025 \nDOZVÍTE SE\, JAK:• zvýšit efektivitu přesným řízením zemědělské techniky• optimalizovat náklady a zvýšit výnosy s cílenou aplikací• komplexně řídit zemědělský podnik na základě reálných nákladů• zkrotit data potřebná pro navigační systémy• se již dnes prakticky připravit na robotizaci \nPřijďte diskutovat s odborníky s více než 30 letou praxí! \nREGISTRUJTE SE kapacita je omezena.
URL:https://naschov.cz/udalost/dny-precizniho-zemedelstvi-2025/
END:VEVENT
BEGIN:VEVENT
DTSTART;TZID=Europe/Prague:20251125T090000
DTEND;TZID=Europe/Prague:20251125T130000
DTSTAMP:20260423T164935
CREATED:20251014T104004Z
LAST-MODIFIED:20251014T104004Z
UID:140415-1764061200-1764075600@naschov.cz
SUMMARY:Zemědělská konference Plzeň 2025
DESCRIPTION:Tradiční zemědělská konference věnovaná zejména problematice osiv a ochraně rostlin.
URL:https://naschov.cz/udalost/zemedelska-konference-plzen-2025/
END:VEVENT
BEGIN:VEVENT
DTSTART;TZID=Europe/Prague:20251126T090000
DTEND;TZID=Europe/Prague:20251126T120000
DTSTAMP:20260423T164935
CREATED:20251031T110009Z
LAST-MODIFIED:20251031T110009Z
UID:140703-1764147600-1764158400@naschov.cz
SUMMARY:ODBORNÉ SETKÁNÍ FARMÁŘŮ 2025
DESCRIPTION:Zveme Vás na Odborné setkání farmářů – tradiční podzimní seminář SOUFFLET AGRO\, který se bude konat v NUTREND WORLD v Olomouci dne 26. listopadu 2025.
URL:https://naschov.cz/udalost/odborne-setkani-farmaru-2025/
END:VEVENT
BEGIN:VEVENT
DTSTART;TZID=Europe/Prague:20251126T090000
DTEND;TZID=Europe/Prague:20251126T130000
DTSTAMP:20260423T164935
CREATED:20251120T071004Z
LAST-MODIFIED:20251120T071004Z
UID:141078-1764147600-1764162000@naschov.cz
SUMMARY:DNY PRECIZNÍHO ZEMĚDĚLSTVÍ 2025
DESCRIPTION:AG info vás ve spolupráci s AGRI–PRECISION a MJM Agro zve na \nBEZPLATNÝ ODBORNÝ SEMINÁŘ: \nDNY PRECIZNÍHO ZEMĚDĚLSTVÍ 2025 \n DOZVÍTE SE\, JAK: • zvýšit efektivitu přesným řízením zemědělské techniky • optimalizovat náklady a zvýšit výnosy s cílenou aplikací • komplexně řídit zemědělský podnik na základě reálných nákladů • zkrotit data potřebná pro navigační systémy • se již dnes prakticky připravit na robotizaci \n Přijďte diskutovat s odborníky s více než 30 letou praxí! \nREGISTRUJTE SE kapacita je omezena.
URL:https://naschov.cz/udalost/dny-precizniho-zemedelstvi-2025-2/
END:VEVENT
BEGIN:VEVENT
DTSTART;TZID=Europe/Prague:20251126T100000
DTEND;TZID=Europe/Prague:20251126T140000
DTSTAMP:20260423T164935
CREATED:20251110T123005Z
LAST-MODIFIED:20251110T123005Z
UID:140987-1764151200-1764165600@naschov.cz
SUMMARY:Využití repelentních rostlin pro tlumení populací hraboše polního
DESCRIPTION:Veřejná akce zaměřená na prezentaci aktuálních výsledků výzkumu v oblasti využití repelentních rostlin a rostlinných extraktů pro regulaci populací hraboše polního v zemědělských kulturách.
URL:https://naschov.cz/udalost/vyuziti-repelentnich-rostlin-pro-tlumeni-populaci-hrabose-polniho/
END:VEVENT
END:VCALENDAR