BEGIN:VCALENDAR
VERSION:2.0
PRODID:-//Náš chov - vše o chovu hospodářských zvířat - ECPv6.11.1//NONSGML v1.0//EN
CALSCALE:GREGORIAN
METHOD:PUBLISH
X-WR-CALNAME:Náš chov - vše o chovu hospodářských zvířat
X-ORIGINAL-URL:https://naschov.cz
X-WR-CALDESC:Akce na Náš chov - vše o chovu hospodářských zvířat
REFRESH-INTERVAL;VALUE=DURATION:PT1H
X-Robots-Tag:noindex
X-PUBLISHED-TTL:PT1H
BEGIN:VTIMEZONE
TZID:Europe/Prague
BEGIN:DAYLIGHT
TZOFFSETFROM:+0100
TZOFFSETTO:+0200
TZNAME:CEST
DTSTART:20240331T010000
END:DAYLIGHT
BEGIN:STANDARD
TZOFFSETFROM:+0200
TZOFFSETTO:+0100
TZNAME:CET
DTSTART:20241027T010000
END:STANDARD
BEGIN:DAYLIGHT
TZOFFSETFROM:+0100
TZOFFSETTO:+0200
TZNAME:CEST
DTSTART:20250330T010000
END:DAYLIGHT
BEGIN:STANDARD
TZOFFSETFROM:+0200
TZOFFSETTO:+0100
TZNAME:CET
DTSTART:20251026T010000
END:STANDARD
END:VTIMEZONE
BEGIN:VEVENT
DTSTART;TZID=Europe/Prague:20250115T090000
DTEND;TZID=Europe/Prague:20250115T140000
DTSTAMP:20260420T232642
CREATED:20241205T124005Z
LAST-MODIFIED:20241205T124005Z
UID:135377-1736931600-1736949600@naschov.cz
SUMMARY:Odborný vinařský seminář
DESCRIPTION:Odborný vinařský seminář
URL:https://naschov.cz/udalost/odborny-vinarsky-seminar/
END:VEVENT
BEGIN:VEVENT
DTSTART;TZID=Europe/Prague:20250114T093000
DTEND;TZID=Europe/Prague:20250115T140000
DTSTAMP:20260420T232642
CREATED:20241112T094137Z
LAST-MODIFIED:20241112T094137Z
UID:134717-1736847000-1736949600@naschov.cz
SUMMARY:Ovocnářské dny 2025
DESCRIPTION:Ovocnářské dny jsou významnou vědeckou konferencí v oblasti ovocnářství. V lednu roku 2023 se bude konat již 66. ročník. Organizátory akce jsou VÝZKUMNÝ A ŠLECHTITELSKÝ ÚSTAV OVOCNÁŘSKÝ HOLOVOUSY s.r.o. spolu s Ovocnářskou unií České republiky\, z.s. a další partneři. \n Ovocnářské dny jsou konferencí\, kde se potkávají odborníci z Česka\, ale i ze zahraničí s našimi ovocnáři a předávají si zkušenosti z vědy\, výzkumu a praxe. Zároveň se akce účastní celá řada vystavovatelů z řad podniků\, které dodávají do ovocnářství stroje a techniku\, přípravky na výživu a ochranu a poskytují služby pro ovocnáře. \n V tomto roce se budou Ovocnářské dny 2024 konat ve dnech 16. – 17. ledna 2024 v Kongresovém centru Aldis v Hradci Králové. Návštěvníci se mohou těšit na více než 20 odborných příspěvků v rámci konference\, výstavu jablek\, výstavu strojů\, prodej odborné literatury a prodej ovoce a výrobků z něho.
URL:https://naschov.cz/udalost/ovocnarske-dny-2025/
END:VEVENT
BEGIN:VEVENT
DTSTART;TZID=Europe/Prague:20250114T090000
DTEND;TZID=Europe/Prague:20250115T160000
DTSTAMP:20260420T232642
CREATED:20241118T154005Z
LAST-MODIFIED:20241118T154005Z
UID:134842-1736845200-1736956800@naschov.cz
SUMMARY:Zelená burza 2025
DESCRIPTION:Zelená burza je kontraktační prodejní výstava českých zahradnických výpěstků\, se zaměřením výhradně na velkoobchodní prodej rostlinného materiálu pro realizační firmy\, správce veřejné zeleně\, obce\, zahradní centra a další subjekty podnikající v zahradnickém či školkařském oboru.
URL:https://naschov.cz/udalost/zelena-burza-2025/
END:VEVENT
BEGIN:VEVENT
DTSTART;TZID=Europe/Prague:20250110T100000
DTEND;TZID=Europe/Prague:20250111T160000
DTSTAMP:20260420T232642
CREATED:20241126T134005Z
LAST-MODIFIED:20241126T134005Z
UID:135121-1736503200-1736611200@naschov.cz
SUMMARY:NÁŠ CHOVATEL 2025
DESCRIPTION:Náš Chovatel 2025  Výstaviště Lysá nad Labem\, Masarykova 1727  otevřeno pátek 10-18 h.\, sobota 9-16 h.  \n základní vstupné 120 Kč  vstupné děti do 130cm\, ZTP/P zdarma  výstavní katalog 100 Kč
URL:https://naschov.cz/udalost/nas-chovatel-2025/
END:VEVENT
BEGIN:VEVENT
DTSTART;TZID=Europe/Prague:20250109T090000
DTEND;TZID=Europe/Prague:20250109T130000
DTSTAMP:20260420T232642
CREATED:20241126T151005Z
LAST-MODIFIED:20241126T151005Z
UID:135146-1736413200-1736427600@naschov.cz
SUMMARY:Seminář Selgen  - IVANČICE
DESCRIPTION:Zveme Vás na zimní seminář Selgen. V přátelském prostředí\, u dobrého jídla Vám nabídneme poutavý program za účasti šlechtitelů a zajímavých hostů.    PROGRAM Šlechtitelův rok   -  ŠS Úhřetice Sortiment pšenic   -  Irena Bížová\, Tomáš Bláha\, A. Kryštofová Analýza světového trhu obilovin   -  Ota Gärtner\,TOP EKOS s.r.o. Sortiment sóji    -  Ondřej Krajčovič Odrůdy ovsa    -  Hynek Bína Odrůdy hrachu a směsky   -  František Diviš     OBĚD
URL:https://naschov.cz/udalost/seminar-selgen-ivancice/
END:VEVENT
BEGIN:VEVENT
DTSTART;TZID=Europe/Prague:20250107T090000
DTEND;TZID=Europe/Prague:20250107T130000
DTSTAMP:20260420T232642
CREATED:20241126T151005Z
LAST-MODIFIED:20241126T151005Z
UID:135145-1736240400-1736254800@naschov.cz
SUMMARY:Seminář Selgen  - VELKÁ BYSTŘICE
DESCRIPTION:Zveme Vás na zimní seminář Selgen. V přátelském prostředí\, u dobrého jídla Vám nabídneme poutavý program za účasti šlechtitelů a zajímavých hostů. \n    PROGRAM Šlechtitelův rok   -  ŠS Úhřetice Sortiment pšenic   -  Irena Bížová\, Tomáš Bláha\, Božek Novák Analýza světového trhu obilovin   -  Ota Gärtner\,TOP EKOS s.r.o. Sortiment sóji    -  Ondřej Krajčovič Odrůdy ječmene   -  Martin Kříž Odrůdy hrachu a směsky   -  František Diviš \n   OBĚD
URL:https://naschov.cz/udalost/seminar-selgen-velka-bystrice-2/
END:VEVENT
BEGIN:VEVENT
DTSTART;TZID=Europe/Prague:20241216T160000
DTEND;TZID=Europe/Prague:20241216T200000
DTSTAMP:20260420T232642
CREATED:20241205T124005Z
LAST-MODIFIED:20241205T124005Z
UID:135376-1734364800-1734379200@naschov.cz
SUMMARY:Genetická diverzita včel v České republice
DESCRIPTION:Zemědělská 1\, Budova M\, Místnost M2.11Určeno pro chovatelskou a odbornou veřejnostOrganizováno s podporou projektu MZE ČR č. QK22020324Registrovat se můžete zasláním emailu na urban@mendelu.czProgram16.00 Úvodní slovo: prof. RNDr. Aleš Knoll\, Ph.D.16.05–16.40 Genetická diverzita včel v ČR – výsledkyprof. Ing. Tomáš Urban\, Ph.D.Diskuse16.50–17.30 Geny ve vztahu k odolnosti včel a jejich analýza – výsledkyprof. RNDr. Aleš Knoll\, Ph.D.\, Mgr. Martin ŠotekDiskuse17.40–18.20 Šlechtění nebo plemenitba včel? Význam molekulární genetikydoc. Ing. Antonín Přidal\, Ph.D.Diskuse18.30–19.30 Otevřené laboratoře – ukázka vyhodnocení výsledků molekulárně genetických analýz využívanýchv projektu (sekvenování DNA\, mikrosatelity)\, prezentace dat a výsledků řešení projektu (prof. RNDr.Aleš Knoll\, Ph.D.\, prof. Ing. Tomáš Urban\, Ph.D.).
URL:https://naschov.cz/udalost/geneticka-diverzita-vcel-v-ceske-republice/
END:VEVENT
BEGIN:VEVENT
DTSTART;TZID=Europe/Prague:20241211T090000
DTEND;TZID=Europe/Prague:20241211T130000
DTSTAMP:20260420T232642
CREATED:20241126T151005Z
LAST-MODIFIED:20241126T151005Z
UID:135144-1733907600-1733922000@naschov.cz
SUMMARY:Seminář Selgen  - NYMBURK
DESCRIPTION:Zveme Vás na zimní seminář Selgen. V přátelském prostředí\, u dobrého jídla Vám nabídneme poutavý program za účasti šlechtitelů a zajímavých hostů. \n    PROGRAM Šlechtitelův rok   -  ŠS Úhřetice Sortiment pšenic   -  Ondřej Veškrna\, David Beran Analýza světového trhu obilovin   -  Ota Gärtner\,TOP EKOS s.r.o. Sortiment sóji    -  Ondřej Krajčovič Aktuální trendy ve výživě sóji   -  Tomáš Javor\, AGRIPOR Žamberk\, s.r.o. Odrůdy ovsa    -  Hynek Bína Odrůdy hrachu a směsky   -  František Diviš     OBĚD
URL:https://naschov.cz/udalost/seminar-selgen-nymburk-2/
END:VEVENT
BEGIN:VEVENT
DTSTART;TZID=Europe/Prague:20241211T083000
DTEND;TZID=Europe/Prague:20241211T170000
DTSTAMP:20260420T232642
CREATED:20240621T071011Z
LAST-MODIFIED:20240621T071011Z
UID:132063-1733905800-1733936400@naschov.cz
SUMMARY:Konference mladých vědců 2024
DESCRIPTION:První ročník Konference mladých vědců\, kterou pořádá Zemědělský výzkum\, spol. s r.o. Troubsko\, se bude konat dne 11. 12. 2024 v kině Art. Jedná se o významnou událost pro mladé vědce\, výzkumníky a studenty z celého spektra zemědělských oborů. Hlavním cílem této konference je motivovat mladé lidi pro práci ve výzkumu a vytvořit prostředí vhodné pro výměnu nápadů a získání přehledu o aktuálních trendech a směrech ve vědě a výzkumu. Na konferenci budou představeny Vaše projekty a výzkumné práce z různých organizací a institucí. Mladí vědci budou mít příležitost setkat se i s kolegy z jiných institucí či oborů\, což povede k potencionální spolupráci v rámci projektových výzev či budoucích vědeckých partnerství. Kromě toho budete moci\, jako účastníci\, zdokonalit své komunikační dovednosti při prezentaci svých výsledků před publikem. Tato zkušenost je neocenitelná pro Vaši budoucí kariéru\, a přispěje ke schopnosti efektivně představit svou práci a nápady. Vizí Konference mladých vědců je nejenom podpora budoucích výzkumníků\, ale i sjednocení vědecké komunity jako takové. \n\nPřihlašování na konferenci odstartuje 1.7.2024\n \n\n\n Rádi přivítáme kohokoliv z vědecké či zemědělské oblasti a studenty VŠ do 35 let\n \n\n\nNa co se můžete těšit? Konference bude rozdělena do 3 sekcí:\n\n\n ochrana rostlin\n půdoznalství a klimatologie\n šlechtění rostlin\, pícninářství a osivářství\n \n\n\nAkce proběhne formou krátkých prezentací na 5 minut\, kde budete mít možnost představit svoji práci\, či projekt.\n \n\n\nVýstupem bude sborník Vašich abstraktů.\n \n\n\nTěšit se můžete také na diskuzi s čestnými hosty na aktuální problematiku v zemědělství a vědě.\n \n\n\nObčerstvení zajištěno\n \n\n\n Na viděnou v Kině Art!
URL:https://naschov.cz/udalost/konference-mladych-vedcu-2024/
END:VEVENT
BEGIN:VEVENT
DTSTART;TZID=Europe/Prague:20241210T090000
DTEND;TZID=Europe/Prague:20241210T130000
DTSTAMP:20260420T232642
CREATED:20241126T151005Z
LAST-MODIFIED:20241126T151005Z
UID:135143-1733821200-1733835600@naschov.cz
SUMMARY:Seminář Selgen  - DAŠICE
DESCRIPTION:Zveme Vás na zimní seminář Selgen. V přátelském prostředí\, u dobrého jídla Vám nabídneme poutavý program za účasti šlechtitelů a zajímavých hostů. \n    PROGRAM Šlechtitelův rok   -  ŠS Úhřetice Sortiment pšenic   -  Irena Bížová\, Tomáš Bláha\, O. Krajčovič Analýza světového trhu obilovin   -  Ota Gärtner\,TOP EKOS s.r.o. Sortiment sóji    -  Ondřej Krajčovič Aktuální trendy ve výživě sóji   -  Tomáš Javor\, AGRIPOR Žamberk\, s.r.o. Odrůdy ovsa    -  Hynek Bína Odrůdy hrachu a směsky   -  František Diviš     OBĚD
URL:https://naschov.cz/udalost/seminar-selgen-dasice-2/
END:VEVENT
BEGIN:VEVENT
DTSTART;TZID=Europe/Prague:20241208T100000
DTEND;TZID=Europe/Prague:20241208T170000
DTSTAMP:20260420T232642
CREATED:20241125T154011Z
LAST-MODIFIED:20241125T154011Z
UID:135027-1733652000-1733677200@naschov.cz
SUMMARY:Advent na Kačině
DESCRIPTION:Druhá adventní neděle na Kačině bude patřit vánočním zvykům\, tradicím a řemeslům. Letošní Vánoce nás navštíví tradiční adventní postavy\, aby nám připomněli\, že je dobré se na Vánoce postit\, komín a kamna vysmýčit\, doma naklidit. V jedinečných prostorech zámeckých sklepů bude návštěvníky čekat adventní trh plný vánočních lákadel\, ručních výrobků a tvořivých dílniček\, kde si nejen děti mohou vlastnoručně vyrobit vánoční dárek či dekoraci. Chybět nebudou ani oživené prohlídky vyzdobených Chotkovských interiérů nebo vánočně naladěný duch Rudolf se svou hraběnkou. \nUrčitě nevynechejte ukázku jak se dříve dralo peří\, paličkovali ozdoby nebo vyráběli františky. K vánoční atmosféře nebude chybět koncert dětského sboru Palášek v Chotkovské knihovně nebo autorská pohádka s loutkami z ovčí vlny divadlo Koník. \nNa nádvoří zámku budou na návštěvníky čekat různé slané i sladké dobroty a nebude chybět ani klasický vánoční punč či svařák na zahřátí. Zároveň mohou děti využít naši kačinskou pobočku Ježíškovi pošty a poslat tak svůj dopis s přáním. Adventní náladu doplní vánoční výzdoba zámeckého parku a zámku nebo pravé zabíjačkové hody v areálu kočárovny. Zůstat s námi můžete až do rozsvícení druhé adventní svíce za přítomnosti rodiny Chotků a doprovodu koled v podání dětského sboru. \nTo vše přinese letošní Advent na Kačině. „Přijďte načerpat sváteční atmosféru a odpočinout si v předvánočním shonu. Letošní Advent na zámku přinese bohatý program nejen v rámci nedělní akce\, ale i v dalších adventních víkendech\, kdy bude vánočně vyzdobený zámek návštěvníkům také otevřen\,“ říká ředitel Národního zemědělského muzea Kačina Pavel Douša. \nChybět nebude tradiční prosincová Výstava betlémů ve vstupním rondelu zámku\, prezentující příběhy rodinných betlémů z vybraných oblastí Čech a Moravy. Zároveň zde i letos bude umístěn vánoční strom\, pod kterým bychom rádi společně darovali radost osamělým seniorům.  Dárky pro babičky a dědečky je možné nosit v průběhu celého adventu\, předány pak budou prostřednictvím sociálních pracovníků po poslední adventní neděli. \nAdventní prohlídky zámku budou dále pokračovat ve dnech: 14. - 15. prosince.; 21. – 22. prosince a 26. – 31. prosince\, kdy budou návštěvníkům k dispozici všechny zámecké okruhy a aktuální výstavy. Prosincovou otevírací dobu zámku mohou návštěvníci sledovat na webových stránkách muzea. \n  \nPodrobný program: \n10:00–16:30       adventní zvyky\, tvůrčí a řemeslné dílny\, adventní jarmark (zámecké sklepy) \n10:00 – 16:30                    vánoční Výstava betlémů (vstupní rondel zámku) \n10:00 – 16:30                    tradiční zabíjačka (zámecká kočárovna) \n10:00\, 12:00 a 14:00       oživená vánoční prohlídka 13 Chotkovských interiérů se souborem historických tanců Salome a Tempus Fungit (vstupenky možné zakoupit na pokladně zámku) \n10:45\, 12:45 a 14:45       prohlídka 13 Chotkovských interiérů s vánočně naladěným Duchem Rudolfem (vstupenky možné zakoupit na pokladně zámku) \n13:00 – 13:45                    Na Vánoce dlouhý noce\, divadlo Koník (kaple) \n14:00–14:45                      koncert Pěvecký sbor Palášek (Chotkovská knihovna) \n16:00     slavnostní zapálení 2. adventní svíčky na vánočním věnci\, s hudebním doprovodem (zámecké nádvoří)
URL:https://naschov.cz/udalost/advent-na-kacine/
END:VEVENT
BEGIN:VEVENT
DTSTART;TZID=Europe/Prague:20241204T120000
DTEND;TZID=Europe/Prague:20241205T100000
DTSTAMP:20260420T232642
CREATED:20231116T064027Z
LAST-MODIFIED:20231116T064027Z
UID:128157-1733313600-1733392800@naschov.cz
SUMMARY:Chovatelské setkání na Seči 2024
DESCRIPTION:Chovatelské setkání členů Svazu chovatelů holštýnského skotu s tradičním seminářem a předáním cen v chovatelské soutěži 
URL:https://naschov.cz/udalost/chovatelske-setkani-na-seci-2024/
END:VEVENT
BEGIN:VEVENT
DTSTART;TZID=Europe/Prague:20241204T090000
DTEND;TZID=Europe/Prague:20241204T130000
DTSTAMP:20260420T232642
CREATED:20240923T131005Z
LAST-MODIFIED:20240923T131005Z
UID:133626-1733302800-1733317200@naschov.cz
SUMMARY:Zemědělský seminář Vsisko
DESCRIPTION:Tradiční seminář pro širokou zemědělskou veřejnost.
URL:https://naschov.cz/udalost/zemedelsky-seminar-vsisko/
END:VEVENT
BEGIN:VEVENT
DTSTART;TZID=Europe/Prague:20241203T090000
DTEND;TZID=Europe/Prague:20241203T130000
DTSTAMP:20260420T232642
CREATED:20241126T151005Z
LAST-MODIFIED:20241126T151005Z
UID:135142-1733216400-1733230800@naschov.cz
SUMMARY:Seminář Selgen  - CHOTOVINY
DESCRIPTION:Zveme Vás na zimní seminář Selgen. V přátelském prostředí\, u dobrého jídla Vám nabídneme poutavý program za účasti šlechtitelů a zajímavých hostů. \n   PROGRAM Šlechtitelův rok   -  ŠS Úhřetice Analýza světového trhu obilovin   -  Ota Gärtner\,TOP EKOS s.r.o. Sortiment pšenic   -  Ondřej Veškrna\, Hynek Bína Sortiment sóji    -  Ondřej Krajčovič Aktuální trendy ve výživě sóji   -  Tomáš Javor\, AGRIPOR Žamberk\, s.r.o. Odrůdy ovsa    -  Hynek Bína Odrůdy hrachu a směsky   -  František Diviš     OBĚD
URL:https://naschov.cz/udalost/seminar-selgen-chotoviny/
END:VEVENT
BEGIN:VEVENT
DTSTART;TZID=Europe/Prague:20241203T090000
DTEND;TZID=Europe/Prague:20241203T130000
DTSTAMP:20260420T232642
CREATED:20241015T073006Z
LAST-MODIFIED:20241015T073006Z
UID:134243-1733216400-1733230800@naschov.cz
SUMMARY:ODBORNÉ SETKÁNÍ FARMÁŘŮ V ZICHOVCI
DESCRIPTION:Vážení pěstitelé a obchodní partneři\, \ndovolte abychom Vás pozvali na ODBORNÉ SETKÁNÍ FARMÁŘŮ\, které se uskuteční v prostorách PIVOVARU ZICHOVEC v Zichovci 3.12.2024. I letos se s Vámi podělíme o nejnovější informace z oblasti pěstitelského a sladařského odvětví. \n  \nPROGRAM:8:15–9:00 – PREZENCE9:00 – ZAHÁJENÍ SEMINÁŘESLADOVNICKÝ JEČMEN A SEZÓNA 2024 A 2025 Z POHLEDU SLADOVEN SOUFFLET – Ing. JIŘÍ BOHÁČ\, Ing. MIROSLAV MUCHAPĚSTITELSKÁ DOPORUČENÍ A NOVINKY PRO SEZÓNU 2025HOST Ing. JAN DOLEŽAL\, PREZIDENT AGRÁRNÍ KOMORY – AKTUÁLNÍ TÉMATA SPOLEČNÉ ZEMĚDĚLSKÉ POLITIKY12:30 – ZAKONČENÍ SPOLEČNÝM OBĚDEM \nZ kapacitních důvodů svoji účast\, prosím\, potvrďte nejpozději do 26. 11. 2024 prostřednictvím registračního formuláře ZDE. \nJe zajištěno dostatek parkovacích míst v areálu PIVOVARU ZICHOVEC.
URL:https://naschov.cz/udalost/odborne-setkani-farmaru-v-zichovci/
END:VEVENT
BEGIN:VEVENT
DTSTART;TZID=Europe/Prague:20241128T090000
DTEND;TZID=Europe/Prague:20241128T180000
DTSTAMP:20260420T232642
CREATED:20241125T154011Z
LAST-MODIFIED:20241125T154011Z
UID:135026-1732784400-1732816800@naschov.cz
SUMMARY:Konference Živá krajina 2025
DESCRIPTION:  \nVe čtvrtém ročníku konference Živá krajina\, která proběhne 28. ledna 2025 v aule ČZU v Praze a online\, se odborníci\, zemědělci a zájemci o regenerativní praxi tentokrát zaměří na význam zdravé půdy a jejího mikrobiálního života na kvalitu a nutriční hodnotu potravin. Program nabídne nové poznatky o dopadu regenerativních postupů na krajinu\, vodní cykly a udržitelné hospodaření. Událost se koná pod záštitou prezidenta České republiky Petra Pavla\, ministra zemědělství Marka Výborného a ministra životního prostředí Petra Hladíka. \nPořadatelem je Carboneg za podpory evropského programu EIT Food the Regenerative Agriculture Revolution a dalších partnerů. \n 
URL:https://naschov.cz/udalost/konference-ziva-krajina-2025/
END:VEVENT
BEGIN:VEVENT
DTSTART;TZID=Europe/Prague:20241128T090000
DTEND;TZID=Europe/Prague:20241128T130000
DTSTAMP:20260420T232642
CREATED:20241112T094137Z
LAST-MODIFIED:20241112T094137Z
UID:134715-1732784400-1732798800@naschov.cz
SUMMARY:DNY PRECIZNÍHO ZEMĚDĚLSTVÍ 2024
DESCRIPTION:Společně s partnerskými firmami MJM Agro a AGRI–PRECISION Vás zveme na 7. ročník \nDNY PRECIZNÍHO ZEMĚDĚLSTVÍ 2024 \n  Efektivní rostlinná výroba od dat až po techniku  Snížení administrativní zátěže v souladu se zákonnými normami  Strategické řízení prvovýroby pro majitele i vedoucí pracovníky  Komplexní nabídka služeb pro precizní zemědělství od tří vedoucích firem v ČR  Interaktivní modely\, praktické ukázky využití technologií \nPřijďte diskutovat s odborníky s více než 30 letou praxí! \nREGISTRUJTE SE\, kapacita je omezena
URL:https://naschov.cz/udalost/dny-precizniho-zemedelstvi-2024-4/
END:VEVENT
BEGIN:VEVENT
DTSTART;TZID=Europe/Prague:20241128T090000
DTEND;TZID=Europe/Prague:20241128T130000
DTSTAMP:20260420T232642
CREATED:20241011T093004Z
LAST-MODIFIED:20241011T093004Z
UID:134200-1732784400-1732798800@naschov.cz
SUMMARY:ODBORNÉ SETKÁNÍ FARMÁŘŮ V CHOŤOVICÍCH
DESCRIPTION:Vážení pěstitelé a obchodní partneři\, \ndovolte abychom Vás pozvali na ODBORNÉ SETKÁNÍ FARMÁŘŮ\, které se uskuteční v prostorách HOTELU NA FARMĚ v Choťovicích 28.11.2024. I letos se s Vámi podělíme o nejnovější informace z oblasti pěstitelského a sladařského odvětví. \n  \nPROGRAM:8:15–9:00 – PREZENCE9:00 – ZAHÁJENÍ SEMINÁŘESLADOVNICKÝ JEČMEN A SEZÓNA 2024 A 2025 Z POHLEDU SLADOVEN SOUFFLET – Ing. JIŘÍ BOHÁČ\, Ing. MIROSLAV MUCHAPĚSTITELSKÁ DOPORUČENÍ A NOVINKY PRO SEZÓNU 2025HOST Ing. JAN DOLEŽAL\, PREZIDENT AGRÁRNÍ KOMORY – AKTUÁLNÍ TÉMATA SPOLEČNÉ ZEMĚDĚLSKÉ POLITIKY12:30 – ZAKONČENÍ SPOLEČNÝM OBĚDEM \nZ kapacitních důvodů svoji účast\, prosím\, potvrďte nejpozději do 21. 11. 2024 prostřednictvím registračního formuláře ZDE. \nJe zajištěno dostatek parkovacích míst v areálu HOTELU NA FARMĚ.
URL:https://naschov.cz/udalost/odborne-setkani-farmaru-v-chotovicich/
END:VEVENT
BEGIN:VEVENT
DTSTART;TZID=Europe/Prague:20241128T090000
DTEND;TZID=Europe/Prague:20241128T130000
DTSTAMP:20260420T232642
CREATED:20240923T131005Z
LAST-MODIFIED:20240923T131005Z
UID:133622-1732784400-1732798800@naschov.cz
SUMMARY:Zemědělská konference Plzeň
DESCRIPTION:Tradiční zemědělská konfrence věnovaná problematice pěstování rostlin.
URL:https://naschov.cz/udalost/zemedelska-konference-plzen/
END:VEVENT
BEGIN:VEVENT
DTSTART;TZID=Europe/Prague:20241127T090000
DTEND;TZID=Europe/Prague:20241127T130000
DTSTAMP:20260420T232642
CREATED:20240923T131005Z
LAST-MODIFIED:20240923T131005Z
UID:133625-1732698000-1732712400@naschov.cz
SUMMARY:Zemědělský seminář Kravaře
DESCRIPTION:Tradiční zemědělský seminář pro širokou odbornou veřejnost.
URL:https://naschov.cz/udalost/zemedelsky-seminar-kravare/
END:VEVENT
BEGIN:VEVENT
DTSTART;TZID=Europe/Prague:20241126T120000
DTEND;TZID=Europe/Prague:20241126T120000
DTSTAMP:20260420T232642
CREATED:20241112T094137Z
LAST-MODIFIED:20241112T094137Z
UID:134716-1732622400-1732622400@naschov.cz
SUMMARY:Využití rostlin jako repelentů pro tlumení populací hraboše polního
DESCRIPTION:Akce zaměřená na prezentaci aktuální poznatků v oblasti výzkumu využití rostlin a rostlinných látek v prevenci a ochrany polních porostů proti hrabošům.
URL:https://naschov.cz/udalost/vyuziti-rostlin-jako-repelentu-pro-tlumeni-populaci-hrabose-polniho/
END:VEVENT
BEGIN:VEVENT
DTSTART;TZID=Europe/Prague:20241126T090000
DTEND;TZID=Europe/Prague:20241126T130000
DTSTAMP:20260420T232642
CREATED:20241112T094137Z
LAST-MODIFIED:20241112T094137Z
UID:134714-1732611600-1732626000@naschov.cz
SUMMARY:DNY PRECIZNÍHO ZEMĚDĚLSTVÍ 2024
DESCRIPTION:Společně s partnerskými firmami MJM Agro a AGRI–PRECISION Vás zveme na 7. ročník \nDNY PRECIZNÍHO ZEMĚDĚLSTVÍ 2024 \n  Efektivní rostlinná výroba od dat až po techniku  Snížení administrativní zátěže v souladu se zákonnými normami  Strategické řízení prvovýroby pro majitele i vedoucí pracovníky  Komplexní nabídka služeb pro precizní zemědělství od tří vedoucích firem v ČR  Interaktivní modely\, praktické ukázky využití technologií \nPřijďte diskutovat s odborníky s více než 30 letou praxí! \nREGISTRUJTE SE\, kapacita je omezena
URL:https://naschov.cz/udalost/dny-precizniho-zemedelstvi-2024-3/
END:VEVENT
BEGIN:VEVENT
DTSTART;TZID=Europe/Prague:20241126T090000
DTEND;TZID=Europe/Prague:20241126T130000
DTSTAMP:20260420T232642
CREATED:20241011T093004Z
LAST-MODIFIED:20241011T093004Z
UID:134199-1732611600-1732626000@naschov.cz
SUMMARY:ODBORNÉ SETKÁNÍ FARMÁŘŮ V OLOMOUCI
DESCRIPTION:Vážení pěstitelé a obchodní partneři\, \ndovolte abychom Vás pozvali na ODBORNÉ SETKÁNÍ FARMÁŘŮ\, které se uskuteční v prostorách NUTRENDU v olomouckých Chválkovicích 26.11.2024. I letos se s Vámi podělíme o nejnovější informace z oblasti pěstitelského a sladařského odvětví. \n  \nPROGRAM:8:15–9:00 – PREZENCE9:00 – ZAHÁJENÍ SEMINÁŘESLADOVNICKÝ JEČMEN A SEZÓNA 2024 A 2025 Z POHLEDU SLADOVEN SOUFFLET – Ing. TOMÁŠ PAULŮ\, Ing. MIROSLAV MUCHAPĚSTITELSKÁ DOPORUČENÍ A NOVINKY PRO SEZÓNU 2025HOST Ing. JAN DOLEŽAL\, PREZIDENT AGRÁRNÍ KOMORY – AKTUÁLNÍ TÉMATA SPOLEČNÉ ZEMĚDĚLSKÉ POLITIKY12:30 – ZAKONČENÍ SPOLEČNÝM OBĚDEM \nZ kapacitních důvodů svoji účast\, prosím\, potvrďte nejpozději do 19. 11. 2024 prostřednictvím registračního formuláře. \nJe zajištěno dostatek parkovacích míst v areálu NUTRENDU.
URL:https://naschov.cz/udalost/odborne-setkani-farmaru-v-olomouci/
END:VEVENT
BEGIN:VEVENT
DTSTART;TZID=Europe/Prague:20241126T090000
DTEND;TZID=Europe/Prague:20241126T130000
DTSTAMP:20260420T232642
CREATED:20240923T131005Z
LAST-MODIFIED:20240923T131005Z
UID:133623-1732611600-1732626000@naschov.cz
SUMMARY:Zemědělský seminář Stěžery
DESCRIPTION:Tadiční zemědělský seminář.
URL:https://naschov.cz/udalost/zemedelsky-seminar-stezery/
END:VEVENT
BEGIN:VEVENT
DTSTART;TZID=Europe/Prague:20241126T080000
DTEND;TZID=Europe/Prague:20241126T180000
DTSTAMP:20260420T232642
CREATED:20241022T111004Z
LAST-MODIFIED:20241022T111004Z
UID:134393-1732608000-1732644000@naschov.cz
SUMMARY:JEDNODENNÍ KURZ PRO DOPRAVCE přepravující zvířata
DESCRIPTION:Vážené dámy\, vážení pánové\, \nje tady další termín kurzu pro přepravce zvířat pořádaného agenturou ZOOREKVALIFIKACE. Pokud se tedy chcete vyhnout nepříjemnostem a pokutám při kontrolách na svých cestách (ať už za výstavami\, závody\, nebo když vezete zvířata k novým majitelům či na jatka)\, přihlaste se a přijeďte. Průkaz přepravce máte na celý život\, a to za ten jeden den kurzu stojí. \nPokud stále váháte\, kdo kurz potřebuje a kdo nikoli\, navštivte naše webové stránky pro více informací\, nebo zavolejte a my s Vámi vše probereme. \n  \nTěšíme se na viděnou na kurzu!  \nZOOREKVALIFIKACE.CZ
URL:https://naschov.cz/udalost/jednodenni-kurz-pro-dopravce-prepravujici-zvirata-5/
END:VEVENT
BEGIN:VEVENT
DTSTART;TZID=Europe/Prague:20241126T080000
DTEND;TZID=Europe/Prague:20241126T180000
DTSTAMP:20260420T232642
CREATED:20241022T111004Z
LAST-MODIFIED:20241022T111004Z
UID:134394-1732608000-1732644000@naschov.cz
SUMMARY:JEDNODENNÍ KURZ PRO DOPRAVCE přepravující zvířata
DESCRIPTION:Vážené dámy\, vážení pánové\, \nje tady další termín kurzu pro přepravce zvířat pořádaného agenturou ZOOREKVALIFIKACE. Pokud se tedy chcete vyhnout nepříjemnostem a pokutám při kontrolách na svých cestách (ať už za výstavami\, závody\, nebo když vezete zvířata k novým majitelům či na jatka)\, přihlaste se a přijeďte. Průkaz přepravce máte na celý život\, a to za ten jeden den kurzu stojí. \nPokud stále váháte\, kdo kurz potřebuje a kdo nikoli\, navštivte naše webové stránky pro více informací\, nebo zavolejte a my s Vámi vše probereme. \n  \nTěšíme se na viděnou na kurzu!  \nZOOREKVALIFIKACE.CZ
URL:https://naschov.cz/udalost/jednodenni-kurz-pro-dopravce-prepravujici-zvirata-6/
END:VEVENT
BEGIN:VEVENT
DTSTART;TZID=Europe/Prague:20241122T130000
DTEND;TZID=Europe/Prague:20241122T130000
DTSTAMP:20260420T232642
CREATED:20241113T131004Z
LAST-MODIFIED:20241113T131004Z
UID:134738-1732280400-1732280400@naschov.cz
SUMMARY:Webinář Deník nemocí a léčení v praxi II
DESCRIPTION:Webinář určený pro chovatele dojeného skotu\, kteří využívají k evidenci onemocnění a léčení aplikaci Deník nemocí a léčení\, či uvažují\, že by tuto aplikaci\, která je k dispozici zdarma využívali. 
URL:https://naschov.cz/udalost/webinar-denik-nemoci-a-leceni-v-praxi-ii/
END:VEVENT
BEGIN:VEVENT
DTSTART;TZID=Europe/Prague:20241122T093000
DTEND;TZID=Europe/Prague:20241122T130000
DTSTAMP:20260420T232642
CREATED:20241114T103006Z
LAST-MODIFIED:20241114T103006Z
UID:134742-1732267800-1732280400@naschov.cz
SUMMARY:Prohlídka poloprovozního pokusu smart odrůd cukrové řepy společnosti KWS
DESCRIPTION:
URL:https://naschov.cz/udalost/prohlidka-poloprovozniho-pokusu-smart-odrud-cukrove-repy-spolecnosti-kws/
END:VEVENT
BEGIN:VEVENT
DTSTART;TZID=Europe/Prague:20241121T093000
DTEND;TZID=Europe/Prague:20241121T130000
DTSTAMP:20260420T232642
CREATED:20241114T103006Z
LAST-MODIFIED:20241114T103006Z
UID:134741-1732181400-1732194000@naschov.cz
SUMMARY:Prohlídka poloprovozního pokusu smart odrůd cukrové řepy KWS
DESCRIPTION:
URL:https://naschov.cz/udalost/prohlidka-poloprovozniho-pokusu-smart-odrud-cukrove-repy-kws/
END:VEVENT
BEGIN:VEVENT
DTSTART;TZID=Europe/Prague:20241121T090000
DTEND;TZID=Europe/Prague:20241121T130000
DTSTAMP:20260420T232642
CREATED:20241112T094137Z
LAST-MODIFIED:20241112T094137Z
UID:134713-1732179600-1732194000@naschov.cz
SUMMARY:DNY PRECIZNÍHO ZEMĚDĚLSTVÍ 2024
DESCRIPTION:Společně s partnerskými firmami MJM Agro a AGRI–PRECISION Vás zveme na 7. ročník \nDNY PRECIZNÍHO ZEMĚDĚLSTVÍ 2024 \n  Efektivní rostlinná výroba od dat až po techniku  Snížení administrativní zátěže v souladu se zákonnými normami  Strategické řízení prvovýroby pro majitele i vedoucí pracovníky  Komplexní nabídka služeb pro precizní zemědělství od tří vedoucích firem v ČR  Interaktivní modely\, praktické ukázky využití technologií \nPřijďte diskutovat s odborníky s více než 30 letou praxí! \nREGISTRUJTE SE\, kapacita je omezena
URL:https://naschov.cz/udalost/dny-precizniho-zemedelstvi-2024-2/
END:VEVENT
END:VCALENDAR