BEGIN:VCALENDAR
VERSION:2.0
PRODID:-//Náš chov - vše o chovu hospodářských zvířat - ECPv6.11.1//NONSGML v1.0//EN
CALSCALE:GREGORIAN
METHOD:PUBLISH
X-WR-CALNAME:Náš chov - vše o chovu hospodářských zvířat
X-ORIGINAL-URL:https://naschov.cz
X-WR-CALDESC:Akce na Náš chov - vše o chovu hospodářských zvířat
REFRESH-INTERVAL;VALUE=DURATION:PT1H
X-Robots-Tag:noindex
X-PUBLISHED-TTL:PT1H
BEGIN:VTIMEZONE
TZID:Europe/Prague
BEGIN:DAYLIGHT
TZOFFSETFROM:+0100
TZOFFSETTO:+0200
TZNAME:CEST
DTSTART:20260329T010000
END:DAYLIGHT
BEGIN:STANDARD
TZOFFSETFROM:+0200
TZOFFSETTO:+0100
TZNAME:CET
DTSTART:20261025T010000
END:STANDARD
END:VTIMEZONE
BEGIN:VEVENT
DTSTART;TZID=Europe/Prague:20260218T100000
DTEND;TZID=Europe/Prague:20260218T140000
DTSTAMP:20260425T125606
CREATED:20260105T154006Z
LAST-MODIFIED:20260105T154006Z
UID:141944-1771408800-1771423200@naschov.cz
SUMMARY:Integrovaná ochrana a klíčové choroby polních plodin
DESCRIPTION:Ústřední kontrolní a zkušební ústav zemědělský \nzve na webinář na téma \nIntegrovaná ochrana a klíčové choroby polních plodin\nIntegrovaná ochrana rostlin využívá všechny metody regulace škodlivých organismů\, zohledňovány jsou ekologické\, ekonomické\, toxikologické i hygienické požadavky. Záměrem je udržet populace škodlivých organismů na tolerovatelné úrovni\, kde nezpůsobují významné hospodářské škody. Využití chemické ochrany při regulaci škodlivých organismů samozřejmě není vyloučeno\, k jejímu použití by nicméně mělo dojít až poté\, co selžou všechna ostatní opatření\, která mají přispět k ochraně porostů pěstovaných rostlin\, a která se dostala z různých důvodů do pozadí. \nOdborný webinář s názvem: „Integrovaná ochrana a klíčové choroby polních plodin“ navazuje na námi pořádaný webinář o klíčových škůdcích polních plodin a v cyklu přednášek zaměřených na integrovanou ochranu rostlin je celkem již jedenáctý v pořadí. \nCílem letošního webináře je představit klíčové choroby hlavních polních plodin\, stručně si připomenout jejich životní cyklus a zejména se zaměřit na způsoby jejich regulace ve smyslu preventivních postupů a biologické či botanické ochrany. Součástí webináře bude i připomenutí funkcí filtrů semaforu přípravků na ochranu rostlin Rostlinolékařského portálu. \n18. února 2026Online\, prostřednictvím platformy Teams\n  \nPřihlašování na akci probíhá prostřednictvím registračního formuláře. \nProgram akce připravujeme. Aktuální i nové informace najdete na našich stránkách. \nTěšíme se na viděnou.
URL:https://naschov.cz/udalost/integrovana-ochrana-a-klicove-choroby-polnich-plodin/
END:VEVENT
BEGIN:VEVENT
DTSTART;TZID=Europe/Prague:20260218T100000
DTEND;TZID=Europe/Prague:20260218T140000
DTSTAMP:20260425T125606
CREATED:20260105T154006Z
LAST-MODIFIED:20260105T154006Z
UID:141947-1771408800-1771423200@naschov.cz
SUMMARY:Integrovaná ochrana a klíčové choroby polních plodin
DESCRIPTION:Ústřední kontrolní a zkušební ústav zemědělský \n  \nzve na webinář na téma \n  \nIntegrovaná ochrana a klíčové choroby polních plodin\n  \nIntegrovaná ochrana rostlin využívá všechny metody regulace škodlivých organismů\, zohledňovány jsou ekologické\, ekonomické\, toxikologické i hygienické požadavky. Záměrem je udržet populace škodlivých organismů na tolerovatelné úrovni\, kde nezpůsobují významné hospodářské škody. Využití chemické ochrany při regulaci škodlivých organismů samozřejmě není vyloučeno\, k jejímu použití by nicméně mělo dojít až poté\, co selžou všechna ostatní opatření\, která mají přispět k ochraně porostů pěstovaných rostlin\, a která se dostala z různých důvodů do pozadí. \n  \nOdborný webinář s názvem: „Integrovaná ochrana a klíčové choroby polních plodin“ navazuje na námi pořádaný webinář o klíčových škůdcích polních plodin a v cyklu přednášek zaměřených na integrovanou ochranu rostlin je celkem již jedenáctý v pořadí. \n  \nCílem letošního webináře je představit klíčové choroby hlavních polních plodin\, stručně si připomenout jejich životní cyklus a zejména se zaměřit na způsoby jejich regulace ve smyslu preventivních postupů a biologické či botanické ochrany. Součástí webináře bude i připomenutí funkcí filtrů semaforu přípravků na ochranu rostlin Rostlinolékařského portálu. \n  \n18. února 2026 Online\, prostřednictvím platformy Teams\n  \n  \nPřihlašování na akci probíhá prostřednictvím registračního formuláře. \n  \nProgram akce připravujeme. Aktuální i nové informace najdete na našich stránkách. \n  \nTěšíme se na viděnou.
URL:https://naschov.cz/udalost/integrovana-ochrana-a-klicove-choroby-polnich-plodin-2/
END:VEVENT
BEGIN:VEVENT
DTSTART;TZID=Europe/Prague:20260217T090000
DTEND;TZID=Europe/Prague:20260217T123000
DTSTAMP:20260425T125606
CREATED:20260205T114004Z
LAST-MODIFIED:20260205T114004Z
UID:142444-1771318800-1771331400@naschov.cz
SUMMARY:Technologie pěstování a silážování jetelotrav a travních směsí
DESCRIPTION:Seminář poskytující komplexní informace k zakládání\, ošetřování a následné péči o trvalé i dočasné travní porosty\, jejich hnojení\, sklizni a konzervaci. Specialista na výživu zvířat představí rozdíly v krmné hodnotě píce vyráběné s různou intenzitou. 
URL:https://naschov.cz/udalost/technologie-pestovani-a-silazovani-jetelotrav-a-travnich-smesi/
END:VEVENT
BEGIN:VEVENT
DTSTART;TZID=Europe/Prague:20260211T090000
DTEND;TZID=Europe/Prague:20260211T120000
DTSTAMP:20260425T125606
CREATED:20260128T100004Z
LAST-MODIFIED:20260128T100004Z
UID:142369-1770800400-1770811200@naschov.cz
SUMMARY:Zemědělský seminář AGROKOP HB\, Dzbel
DESCRIPTION:  \n\nŠlechtění máku a představení novinky EMANUEL - Výzkumný ústav olejnin Opava\n\n  \n\n\nSíla pícnin začíná u osiva – travní směsi TRAVAMAN \n\n\nPosouváme hranice šlechtění – nabídka obilnin RAGT \n\nSója pro Vaše pole - nabídka pro rok 2026\n\n  \n\n\nZhodnocení pěstitelského ročníku 2024/25 očima rostlinolékaře a výhled do nové sezony \n\n\n 
URL:https://naschov.cz/udalost/zemedelsky-seminar-agrokop-hb-dzbel/
END:VEVENT
BEGIN:VEVENT
DTSTART;TZID=Europe/Prague:20260211T083000
DTEND;TZID=Europe/Prague:20260211T133000
DTSTAMP:20260425T125606
CREATED:20260118T221008Z
LAST-MODIFIED:20260118T221008Z
UID:142171-1770798600-1770816600@naschov.cz
SUMMARY:Mendel-Info 2026
DESCRIPTION:Rádi bychom Vás pozvali na odborný seminář MendelInfo. \nLetošní téma je: Poznatky z dlouhodobých polních pokusů – dopady na produkci plodin a úrodnost půdy \n\n8:30-9:30 Prezence\n9:00-9:10 Zahájení\n9:10-9:40 Počasí a klima dříve a dnes – pohled očima klimatologa\n9:40-10:10 Historie polního pokusnictví v Žabčicích – 100. leté výročí\n10:10-10:40 Dlouhodobé polní pokusy na Polní pokusné stanici v Žabčicích\n10:40-11:10 Dlouhodobý vliv různého zpracování půdy na produkci plodin a úrodnost půdy\n11:10-11:30 Přestávka na kávu\n11:30-12:00 Dlouhodobé polní pokusy CARC – výnosy plodin a trendy kvality a zdraví půdy\n12:00-12:30 Změny obsahu organického uhlíku\, mikrobiálních charakteristik a emisí CO2  po dlouhodobém různém zpracování půdy\n12:30-13:00 Co dělat jinak s ohledem na změnu klimatu – nové postupy v agrotechnice\n13:00 Společný oběd\n\nVložné je 500 Kč (platba na místě u prezence). V ceně je zahrnuto občerstvení. \nRegistrace je na www.istro.cz\, nejpozději do 2. 2. 2025. Případné dotazy k této akci posílejte na e-mail xrabek@mendelu.cz nebo volejte 731 683 379; Ing. Michal Rábek.
URL:https://naschov.cz/udalost/mendel-info-2026/
END:VEVENT
BEGIN:VEVENT
DTSTART;TZID=Europe/Prague:20260209T093000
DTEND;TZID=Europe/Prague:20260209T153000
DTSTAMP:20260425T125606
CREATED:20260128T100004Z
LAST-MODIFIED:20260128T100004Z
UID:142370-1770629400-1770651000@naschov.cz
SUMMARY:N.U.Agrar CZ - pravidelné předjarní školení s účastí Prof. H. G. SCHÖNBERGERA
DESCRIPTION:Školení se koná v sále kulturního domu ve Větrném Jeníkově u Jihlavy
URL:https://naschov.cz/udalost/n-u-agrar-cz-pravidelne-predjarni-skoleni-s-ucasti-prof-h-g-schonbergera/
END:VEVENT
BEGIN:VEVENT
DTSTART;TZID=Europe/Prague:20260205T090000
DTEND;TZID=Europe/Prague:20260205T123000
DTSTAMP:20260425T125606
CREATED:20260128T100004Z
LAST-MODIFIED:20260128T100004Z
UID:142355-1770282000-1770294600@naschov.cz
SUMMARY:Zemědělský seminář AGROKOP HB\, Radešín
DESCRIPTION:Šlechtění máku a představení novinky EMANUEL - Výzkumný ústav olejnin Opava\n\nČeské odrůdy vojtěšek a jetelů – Agrogen - tradice\, kvalita\, výsledky \n\n\nSíla pícnin začíná u osiva – travní směsi TRAVAMAN \n\n\nPosouváme hranice šlechtění – nabídka obilnin RAGT \n\n\nZhodnocení pěstitelského ročníku 2024/25 očima rostlinolékaře a výhled do nové sezony
URL:https://naschov.cz/udalost/zemedelsky-seminar-agrokop-hb-radesin/
END:VEVENT
BEGIN:VEVENT
DTSTART;TZID=Europe/Prague:20260204T090000
DTEND;TZID=Europe/Prague:20260204T130000
DTSTAMP:20260425T125606
CREATED:20251027T073005Z
LAST-MODIFIED:20251027T073005Z
UID:140598-1770195600-1770210000@naschov.cz
SUMMARY:Halový polní den Branišovice
DESCRIPTION:Tradiční zemědělský seminář pořádaný společností VP AGRO a RAGT Czech.
URL:https://naschov.cz/udalost/halovy-polni-den-branisovice-2/
END:VEVENT
BEGIN:VEVENT
DTSTART;TZID=Europe/Prague:20260202T120000
DTEND;TZID=Europe/Prague:20260202T130000
DTSTAMP:20260425T125606
CREATED:20260128T100004Z
LAST-MODIFIED:20260128T100004Z
UID:142356-1770033600-1770037200@naschov.cz
SUMMARY:WEBINÁŘ: Půda & kompostování
DESCRIPTION:WEBINÁŘ: Půda a kompostování\nPravidelné on-line setkání s vámi – vaše půda\, vaše otázky\, naše odpovědi. \nZajímá vás\, jak je na tom vaše půda a jak efektivně kompostovat?Řešíte konkrétní problém a potřebujete odbornou radu?Chcete sdílet zkušenosti nebo získat praktické tipy a inspiraci od ostatních? Připojte se k našim pravidelným on-line webinářům\, kde otevřeně řešíme vaše dotazy k půdě\, kompostování\, živinám i udržitelnému zemědělství. \n\n\n\nKDY:\n2. 2. 2026\, 13. 4. 2026. 1. 6. 2026. 5. 10. 2026\, 7. 12. 2026\n\n\nČAS:\n12:00 - 13:00\n\n\nKDE:\non-line (přístupový odkaz zašleme po přihlášení)\n\n\nPŘIHLÁŠKY:\ndo čtvrtka před webinářem: do 29. 1\, 9. 4.\, 28. 5.\, 1. 10.\, 3. 12. 2026ZDE: https://forms.office.com/e/hQHC2A3uM2?origin=lprLink
URL:https://naschov.cz/udalost/webinar-puda-kompostovani/
END:VEVENT
BEGIN:VEVENT
DTSTART;TZID=Europe/Prague:20260129T090000
DTEND;TZID=Europe/Prague:20260129T130000
DTSTAMP:20260425T125606
CREATED:20260112T104004Z
LAST-MODIFIED:20260112T104004Z
UID:142060-1769677200-1769691600@naschov.cz
SUMMARY:Odborný seminář Biocont a Gaiago - Dříteč
DESCRIPTION:Ve spolupráci s firmou Gaiago\, předními experty na problematiku půdy\, pořádáme odborné semináře\, na které Vás srdečně zveme. Semináře jsou bez vložného\, náklady na občerstvení hrazeny pořadateli. \nOdborné semináře jsou zaměřeny na téma: \nZlepšení úrodnosti půdy s financováním z Uhlíkového programu\nVývoj technologie ochrany kukuřice před zavíječem kukuřičným\nTermíny a místa konání: \n\n28. ledna 2026 - Hotel Royal Beroun Golf Club\, www.golfberoun.cz\n29. ledna 2026 - Golf & Spa Kunětická Hora\, Dříteč\,  www.grkh.cz\n\nProgram seminářů: \n8.30 – 9.00 Prezence \n9.00 – 13.00 Odborné prezentace: \n\nBertrand Aupetit\, Gaiago (Francie): Revitalizace půdy a zkušenosti z Francie\nJan Vysoudil\, Gaiago: Výsledky hodnocení půd v ČR\nMilan Hluchý: Bionomie škůdce\, Trichogrammy a význam užitečných organismů v kukuřici\nŠtěpán Hluchý: Nové technologie v systému ochrany proti zavíječi - automatické lapáky\, software TrichoBase\nMiloš Perháč/ Martin Teplý: Inovace v aplikaci Trichogrammy - letecké a dronové aplikace\, zkušenosti ze sezóny 2025\n\nSeminář bude zakončen společným pracovním obědem. \nPotvrďte\, prosím\, svoji účast nejpozději do 23. 1. 2026 vyplněním přihlašovacího formuláře - zde klikněte pro přihlášení. Zvolený seminář vyberete z nabídky ve formuláři. \nKontaktní osoby pro jednotlivé semináře jsou: \n\n„Beroun“ - Ing. Miloš Perháč\, perhac@biocont.cz\, 605 313 206\n„Dříteč“ - Ing. Martin Teplý\, teply@biocont.cz\, 732 754 762\n\nNa setkání s Vámi se těší pořadatelé
URL:https://naschov.cz/udalost/odborny-seminar-biocont-a-gaiago-dritec/
END:VEVENT
BEGIN:VEVENT
DTSTART;TZID=Europe/Prague:20260129T090000
DTEND;TZID=Europe/Prague:20260129T130000
DTSTAMP:20260425T125606
CREATED:20250901T084004Z
LAST-MODIFIED:20250901T084004Z
UID:139662-1769677200-1769691600@naschov.cz
SUMMARY:Syngenta Konference 2026
DESCRIPTION:Syngenta Konference 2026
URL:https://naschov.cz/udalost/syngenta-konference-2026-3/
END:VEVENT
BEGIN:VEVENT
DTSTART;TZID=Europe/Prague:20260129T083000
DTEND;TZID=Europe/Prague:20260129T130000
DTSTAMP:20260425T125606
CREATED:20260128T100004Z
LAST-MODIFIED:20260128T100004Z
UID:142353-1769675400-1769691600@naschov.cz
SUMMARY:Pozvánka odborný seminář Biocont a Gaiago
DESCRIPTION:Ve spolupráci s firmou Gaiago\, předními experty na problematiku půdy\, pořádáme odborné semináře\, na které Vás srdečně zveme. Semináře jsou bez vložného\, náklady na občerstvení hrazeny pořadateli. Zde přikládáme pozvánku v PDF ke stažení: 2026 Pozvánka odborný seminář Biocont a Gaiago \nOdborné semináře jsou zaměřeny na téma: \nZlepšení úrodnosti půdy s financováním z Uhlíkového programu\nVývoj technologie ochrany kukuřice před zavíječem kukuřičným\n\nTermíny a místa konání: \n\n28. ledna 2026 - Hotel Royal Beroun Golf Club\, www.golfberoun.cz\n29. ledna 2026 - Golf & Spa Kunětická Hora\, Dříteč\,  www.grkh.cz\n\nProgram seminářů: \n8.30 – 9.00 Prezence \n9.00 – 13.00 Odborné prezentace: \n\nBertrand Aupetit\, Gaiago (Francie): Revitalizace půdy a zkušenosti z Francie\nJan Vysoudil\, Gaiago: Výsledky hodnocení půd v ČR\nMilan Hluchý: Bionomie škůdce\, Trichogrammy a význam užitečných organismů v kukuřici\nŠtěpán Hluchý: Nové technologie v systému ochrany proti zavíječi - automatické lapáky\, software TrichoBase\nMiloš Perháč/ Martin Teplý: Inovace v aplikaci Trichogrammy - letecké a dronové aplikace\, zkušenosti ze sezóny 2025\n\nSeminář bude zakončen společným pracovním obědem. \nPotvrďte\, prosím\, svoji účast nejpozději do 23. 1. 2026 vyplněním přihlašovacího formuláře - zde klikněte pro přihlášení. Zvolený seminář vyberete z nabídky ve formuláři. \nKontaktní osoby pro jednotlivé semináře jsou: \n\n„Beroun“ - Ing. Miloš Perháč\, perhac@biocont.cz\, 605 313 206\n„Dříteč“ - Ing. Martin Teplý\, teply@biocont.cz\, 732 754 762\n\nNa setkání s Vámi se těší pořadatelé
URL:https://naschov.cz/udalost/pozvanka-odborny-seminar-biocont-a-gaiago/
END:VEVENT
BEGIN:VEVENT
DTSTART;TZID=Europe/Prague:20260128T090000
DTEND;TZID=Europe/Prague:20260128T130000
DTSTAMP:20260425T125606
CREATED:20260112T104004Z
LAST-MODIFIED:20260112T104004Z
UID:142059-1769590800-1769605200@naschov.cz
SUMMARY:Odborný seminář Biocont a Gaiago - Beroun
DESCRIPTION:Ve spolupráci s firmou Gaiago\, předními experty na problematiku půdy\, pořádáme odborné semináře\, na které Vás srdečně zveme. Semináře jsou bez vložného\, náklady na občerstvení hrazeny pořadateli. \nOdborné semináře jsou zaměřeny na téma: \nZlepšení úrodnosti půdy s financováním z Uhlíkového programu\nVývoj technologie ochrany kukuřice před zavíječem kukuřičným\nTermíny a místa konání: \n\n28. ledna 2026 - Hotel Royal Beroun Golf Club\, www.golfberoun.cz\n29. ledna 2026 - Golf & Spa Kunětická Hora\, Dříteč\,  www.grkh.cz\n\nProgram seminářů: \n8.30 – 9.00 Prezence \n9.00 – 13.00 Odborné prezentace: \n\nBertrand Aupetit\, Gaiago (Francie): Revitalizace půdy a zkušenosti z Francie\nJan Vysoudil\, Gaiago: Výsledky hodnocení půd v ČR\nMilan Hluchý: Bionomie škůdce\, Trichogrammy a význam užitečných organismů v kukuřici\nŠtěpán Hluchý: Nové technologie v systému ochrany proti zavíječi - automatické lapáky\, software TrichoBase\nMiloš Perháč/ Martin Teplý: Inovace v aplikaci Trichogrammy - letecké a dronové aplikace\, zkušenosti ze sezóny 2025\n\nSeminář bude zakončen společným pracovním obědem. \nPotvrďte\, prosím\, svoji účast nejpozději do 23. 1. 2026 vyplněním přihlašovacího formuláře - zde klikněte pro přihlášení. Zvolený seminář vyberete z nabídky ve formuláři. \nKontaktní osoby pro jednotlivé semináře jsou: \n\n„Beroun“ - Ing. Miloš Perháč\, perhac@biocont.cz\, 605 313 206\n„Dříteč“ - Ing. Martin Teplý\, teply@biocont.cz\, 732 754 762\n\nNa setkání s Vámi se těší pořadatelé
URL:https://naschov.cz/udalost/odborny-seminar-biocont-a-gaiago-beroun/
END:VEVENT
BEGIN:VEVENT
DTSTART;TZID=Europe/Prague:20260127T090000
DTEND;TZID=Europe/Prague:20260127T130000
DTSTAMP:20260425T125606
CREATED:20251201T081004Z
LAST-MODIFIED:20251201T081004Z
UID:141352-1769504400-1769518800@naschov.cz
SUMMARY:Seminář Selgen Plzeň
DESCRIPTION:Zveme Vás na zimní seminář Selgen.V přátelském prostředí\, u dobrého jídla Vámnabídneme poutavý program za účasti šlechtitelůa zajímavých hostů. \nKolektiv Selgen
URL:https://naschov.cz/udalost/seminar-selgen-plzen-3/
END:VEVENT
BEGIN:VEVENT
DTSTART;TZID=Europe/Prague:20260127T090000
DTEND;TZID=Europe/Prague:20260127T130000
DTSTAMP:20260425T125606
CREATED:20250901T084004Z
LAST-MODIFIED:20250901T084004Z
UID:139661-1769504400-1769518800@naschov.cz
SUMMARY:Syngenta Konference 2026
DESCRIPTION:Syngenta Konference 2026
URL:https://naschov.cz/udalost/syngenta-konference-2026-2/
END:VEVENT
BEGIN:VEVENT
DTSTART;TZID=Europe/Prague:20260122T090000
DTEND;TZID=Europe/Prague:20260122T130000
DTSTAMP:20260425T125606
CREATED:20251027T073005Z
LAST-MODIFIED:20251027T073005Z
UID:140597-1769072400-1769086800@naschov.cz
SUMMARY:Zemědělský seminář Bitozeves
DESCRIPTION:Tradiční zemědělský seminář společnosti VP AGRO.
URL:https://naschov.cz/udalost/zemedelsky-seminar-bitozeves/
END:VEVENT
BEGIN:VEVENT
DTSTART;TZID=Europe/Prague:20260122T090000
DTEND;TZID=Europe/Prague:20260122T130000
DTSTAMP:20260425T125606
CREATED:20250901T084004Z
LAST-MODIFIED:20250901T084004Z
UID:139660-1769072400-1769086800@naschov.cz
SUMMARY:Syngenta Konference 2026
DESCRIPTION:Syngenta Konference 2026 
URL:https://naschov.cz/udalost/syngenta-konference-2026/
END:VEVENT
BEGIN:VEVENT
DTSTART;TZID=Europe/Prague:20260121T090000
DTEND;TZID=Europe/Prague:20260121T140000
DTSTAMP:20260425T125606
CREATED:20251203T131004Z
LAST-MODIFIED:20251203T131004Z
UID:141405-1768986000-1769004000@naschov.cz
SUMMARY:Bramborářský seminář
DESCRIPTION:Tradiční seminář pro pěstitele brambor se zaměřením na ochranu rostlin
URL:https://naschov.cz/udalost/bramborarsky-seminar-6/
END:VEVENT
BEGIN:VEVENT
DTSTART;TZID=Europe/Prague:20260121T000000
DTEND;TZID=Europe/Prague:20260124T000000
DTSTAMP:20260425T125606
CREATED:20251124T163005Z
LAST-MODIFIED:20251124T163005Z
UID:141125-1768953600-1769212800@naschov.cz
SUMMARY:AGROmashEXPO\,Budapest
DESCRIPTION:Medzinárodná výstava poľnohospodárskej techniky\, Budapešť\, Maďarsko
URL:https://naschov.cz/udalost/agromashexpobudapest/
END:VEVENT
BEGIN:VEVENT
DTSTART;TZID=Europe/Prague:20260120T000000
DTEND;TZID=Europe/Prague:20260120T000000
DTSTAMP:20260425T125606
CREATED:20251124T151004Z
LAST-MODIFIED:20251124T151004Z
UID:141102-1768867200-1768867200@naschov.cz
SUMMARY:Odborná konferencia Syngenta\, AX Nitra
DESCRIPTION:Odborná konferencia Syngenta
URL:https://naschov.cz/udalost/odborna-konferencia-syngenta-ax-nitra/
END:VEVENT
BEGIN:VEVENT
DTSTART;TZID=Europe/Prague:20260115T090000
DTEND;TZID=Europe/Prague:20260115T130000
DTSTAMP:20260425T125606
CREATED:20260105T154006Z
LAST-MODIFIED:20260105T154006Z
UID:141946-1768467600-1768482000@naschov.cz
SUMMARY:DEN MAKOVÉHO POLE 2026
DESCRIPTION:Tradiční setkání pěstitelů máku v roce 2026.
URL:https://naschov.cz/udalost/den-makoveho-pole-2026-2/
END:VEVENT
BEGIN:VEVENT
DTSTART;TZID=Europe/Prague:20260115T090000
DTEND;TZID=Europe/Prague:20260115T130000
DTSTAMP:20260425T125606
CREATED:20251201T081004Z
LAST-MODIFIED:20251201T081004Z
UID:141351-1768467600-1768482000@naschov.cz
SUMMARY:Seminář Selgen Velká Bystřice
DESCRIPTION:Zveme Vás na zimní seminář Selgen.V přátelském prostředí\, u dobrého jídla Vámnabídneme poutavý program za účasti šlechtitelůa zajímavých hostů. \nKolektiv Selgen
URL:https://naschov.cz/udalost/seminar-selgen-velka-bystrice-3/
END:VEVENT
BEGIN:VEVENT
DTSTART;TZID=Europe/Prague:20260114T090000
DTEND;TZID=Europe/Prague:20260114T123000
DTSTAMP:20260425T125606
CREATED:20260105T154006Z
LAST-MODIFIED:20260105T154006Z
UID:141948-1768381200-1768393800@naschov.cz
SUMMARY:Zemědělský seminář AGROKOP HB\, Havlíčkův Brod
DESCRIPTION:  \n\n\nAktuální informace z ÚKZÚZ v oblasti ochrany rostlin \n\n\nČeské šlechtění vojtěšek a jetelů – tradice\, kvalita\, výsledky \n\n\nSíla pícnin začíná u osiva – travní směsi TRAVAMAN \n\n\nPosouváme hranice šlechtění – nabídka obilnin RAGT \n\n\nZhodnocení pěstitelského ročníku 2024/25 očima rostlinolékaře a výhled do nové sezony \n\n\n 
URL:https://naschov.cz/udalost/zemedelsky-seminar-agrokop-hb-havlickuv-brod/
END:VEVENT
BEGIN:VEVENT
DTSTART;TZID=Europe/Prague:20260114T090000
DTEND;TZID=Europe/Prague:20260114T130000
DTSTAMP:20260425T125606
CREATED:20260105T154006Z
LAST-MODIFIED:20260105T154006Z
UID:141945-1768381200-1768395600@naschov.cz
SUMMARY:DEN MAKOVÉHO POLE 2026
DESCRIPTION:Tradiční setkání pěstitelů máku v roce 2026.
URL:https://naschov.cz/udalost/den-makoveho-pole-2026/
END:VEVENT
BEGIN:VEVENT
DTSTART;TZID=Europe/Prague:20260114T090000
DTEND;TZID=Europe/Prague:20251201T140000
DTSTAMP:20260425T125606
CREATED:20251203T131004Z
LAST-MODIFIED:20251203T131004Z
UID:141404-1768381200-1764597600@naschov.cz
SUMMARY:Vinařský seminář
DESCRIPTION:Tradiční seminář pro pěstitele vinné révy se zaměřením na ochranu rostlin
URL:https://naschov.cz/udalost/vinarsky-seminar-4/
END:VEVENT
BEGIN:VEVENT
DTSTART;TZID=Europe/Prague:20260114T090000
DTEND;TZID=Europe/Prague:20260114T130000
DTSTAMP:20260425T125606
CREATED:20251201T081004Z
LAST-MODIFIED:20251201T081004Z
UID:141350-1768381200-1768395600@naschov.cz
SUMMARY:Seminář Selgen Ivančice u Brna
DESCRIPTION:Zveme Vás na zimní seminář Selgen.V přátelském prostředí\, u dobrého jídla Vámnabídneme poutavý program za účasti šlechtitelůa zajímavých hostů. \nKolektiv Selgen
URL:https://naschov.cz/udalost/seminar-selgen-ivancice-u-brna-2/
END:VEVENT
BEGIN:VEVENT
DTSTART;TZID=Europe/Prague:20260113T090000
DTEND;TZID=Europe/Prague:20260113T130000
DTSTAMP:20260425T125606
CREATED:20251201T081004Z
LAST-MODIFIED:20251201T081004Z
UID:141349-1768294800-1768309200@naschov.cz
SUMMARY:Seminář Selgen Bukovany u Kyjova
DESCRIPTION:Zveme Vás na zimní seminář Selgen.V přátelském prostředí\, u dobrého jídla Vámnabídneme poutavý program za účasti šlechtitelůa zajímavých hostů. \nKolektiv Selgen
URL:https://naschov.cz/udalost/seminar-selgen-bukovany-u-kyjova-2/
END:VEVENT
BEGIN:VEVENT
DTSTART;TZID=Europe/Prague:20260112T120000
DTEND;TZID=Europe/Prague:20260116T120000
DTSTAMP:20260425T125606
CREATED:20251209T091004Z
LAST-MODIFIED:20251209T091004Z
UID:141521-1768219200-1768564800@naschov.cz
SUMMARY:Siláže 2026
DESCRIPTION:Tradiční cyklus seminářů VVS k problematice zkrmování kvalitních objemných krmiv. \nPřihláška zde:  \nhttps://vvs.ecomailapp.cz/public/form/14-6094cedc595ae47c2d7e76e9362bf8d4
URL:https://naschov.cz/udalost/silaze-2026/
END:VEVENT
BEGIN:VEVENT
DTSTART;TZID=Europe/Prague:20260109T100000
DTEND;TZID=Europe/Prague:20260110T160000
DTSTAMP:20260425T125606
CREATED:20251201T081004Z
LAST-MODIFIED:20251201T081004Z
UID:141363-1767952800-1768060800@naschov.cz
SUMMARY:Náš chovatel 2026
DESCRIPTION:Přijměte pozvání na 20. středočeskou výstavu drobného zvířectva rozšířenou o celostátní speciálky klubů. \nSoučástí výstavy je Celostátní výstava poštovních holubů v samostatné hale B. \nNa výstavě bude k vidění více než 1 000 holubů\, více než 500 králíků a více než 150 kusů vodní i hrabavé drůbeže. Pro chovatele jsou připraveny poradenská služba\, prodej pomůcek\, veterinárních přípravků a krmiv.
URL:https://naschov.cz/udalost/nas-chovatel-2026/
END:VEVENT
BEGIN:VEVENT
DTSTART;TZID=Europe/Prague:20260108T083000
DTEND;TZID=Europe/Prague:20260108T130000
DTSTAMP:20260425T125606
CREATED:20251001T151007Z
LAST-MODIFIED:20251001T151007Z
UID:140168-1767861000-1767877200@naschov.cz
SUMMARY:Pěstování kukuřice v roce 2026
DESCRIPTION:
URL:https://naschov.cz/udalost/pestovani-kukurice-v-roce-2026-5/
END:VEVENT
END:VCALENDAR