BEGIN:VCALENDAR
VERSION:2.0
PRODID:-//Náš chov - vše o chovu hospodářských zvířat - ECPv6.11.1//NONSGML v1.0//EN
CALSCALE:GREGORIAN
METHOD:PUBLISH
X-WR-CALNAME:Náš chov - vše o chovu hospodářských zvířat
X-ORIGINAL-URL:https://naschov.cz
X-WR-CALDESC:Akce na Náš chov - vše o chovu hospodářských zvířat
REFRESH-INTERVAL;VALUE=DURATION:PT1H
X-Robots-Tag:noindex
X-PUBLISHED-TTL:PT1H
BEGIN:VTIMEZONE
TZID:Europe/Prague
BEGIN:DAYLIGHT
TZOFFSETFROM:+0100
TZOFFSETTO:+0200
TZNAME:CEST
DTSTART:20260329T010000
END:DAYLIGHT
BEGIN:STANDARD
TZOFFSETFROM:+0200
TZOFFSETTO:+0100
TZNAME:CET
DTSTART:20261025T010000
END:STANDARD
END:VTIMEZONE
BEGIN:VEVENT
DTSTART;TZID=Europe/Prague:20260604T090000
DTEND;TZID=Europe/Prague:20260604T120000
DTSTAMP:20260423T001638
CREATED:20251208T093005Z
LAST-MODIFIED:20251208T093005Z
UID:141509-1780563600-1780574400@naschov.cz
SUMMARY:polní den VNOROVY
DESCRIPTION:Vnorovy (Hodonín) +polní den PENAM (NAVOS)Tradiční osivářský polní den se zaměřením na obiloviny (osiva) a zároveň hostí i polní pokusy v rámci tradiční akce Den Penamu.
URL:https://naschov.cz/udalost/polni-den-vnorovy-3/
END:VEVENT
BEGIN:VEVENT
DTSTART;TZID=Europe/Prague:20260604T090000
DTEND;TZID=Europe/Prague:20260604T130000
DTSTAMP:20260423T001638
CREATED:20251208T093005Z
LAST-MODIFIED:20251208T093005Z
UID:141507-1780563600-1780578000@naschov.cz
SUMMARY:POLNÍ DEN V ROSTĚNICÍCH
DESCRIPTION:.
URL:https://naschov.cz/udalost/polni-den-v-rostenicich-2/
END:VEVENT
BEGIN:VEVENT
DTSTART;TZID=Europe/Prague:20260604T090000
DTEND;TZID=Europe/Prague:20260604T130000
DTSTAMP:20260423T001638
CREATED:20260112T144004Z
LAST-MODIFIED:20260112T144004Z
UID:142078-1780563600-1780578000@naschov.cz
SUMMARY:Polní den Nové Město
DESCRIPTION:Tradiční polní den (17. ročník) společností Česká osiva a VP AGRO. \nPřehlídka odrůdových pokusů a den otevřených dveří na ČSO. \nčtvrtek 4. 6. 2026 \nSrdečně Vás zveme a těšíme se na setkání!
URL:https://naschov.cz/udalost/polni-den-nove-mesto/
END:VEVENT
BEGIN:VEVENT
DTSTART;TZID=Europe/Prague:20260604T090000
DTEND;TZID=Europe/Prague:20260604T130000
DTSTAMP:20260423T001638
CREATED:20260420T081004Z
LAST-MODIFIED:20260420T081004Z
UID:143977-1780563600-1780578000@naschov.cz
SUMMARY:DEN PRO MÁK 2025. Téma: Variantní způsoby zakládání a ochrany porostů máku\, ukázka setí dronem
DESCRIPTION:Pro členy spolku Český modrý mák a pozvané hosty – vstup zdarma. 
URL:https://naschov.cz/udalost/den-pro-mak-2025-tema-variantni-zpusoby-zakladani-a-ochrany-porostu-maku-ukazka-seti-dronem/
END:VEVENT
BEGIN:VEVENT
DTSTART;TZID=Europe/Prague:20260604T090000
DTEND;TZID=Europe/Prague:20260604T130000
DTSTAMP:20260423T001638
CREATED:20260422T121005Z
LAST-MODIFIED:20260422T121005Z
UID:144003-1780563600-1780578000@naschov.cz
SUMMARY:Celostátní POLNÍ DEN ÚKZÚZ
DESCRIPTION:ÚSTŘEDNÍ KONTROLNÍ A ZKUŠEBNÍ ÚSTAV ZEMĚDĚLSKÝ  \nsrdečně zve na  \nCELOSTÁTNÍ POLNÍ DEN\nvěnovaný tématu \n„Od registračních pokusů k perspektivním odrůdám“ akce proběhne prezenčně na zkušební stanici v Dobřichovicích. \n \nChcete vědět\, které odrůdy zeleniny jsou ty nejlepší pro naše pole a zahrady? \nNenechte si ujít letošní Celostátní polní den ÚKZÚZ\, který se tentokrát uskuteční na zkušební stanici v Dobřichovicích ve Středočeském kraji. Celá akce bude věnována světu zeleniny – od nejmodernějších postupů zkoušení až po trendy\, které hýbou českým zemědělstvím. \nTěšit se můžete na unikátní prohlídku pokusných ploch\, kde na vlastní oči porovnáte tradiční odrůdy s těmi nejnovějšími. Je to ideální příležitost vidět výsledky systematické práce odborníků přímo v terénu a vybrat si favority pro vlastní pěstování. \nLetošní ročník je navíc výjimečný – společně s námi oslavíte 75. výročí založení Ústředního kontrolního a zkušebního ústavu zemědělského. Přijďte se ohlédnout za historií naší práce a inspirovat se perspektivními odrůdami pro budoucnost. \nMalé občerstvení zajištěno. \n  \nPřihlašování na akci probíhá prostřednictvím registračního formuláře. Registrujte se nejlépe do 2. 6. 2026. \nAktuální i nové informace najdete na našich stránkách. \n  \nTěšíme se na viděnou.
URL:https://naschov.cz/udalost/celostatni-polni-den-ukzuz-4/
END:VEVENT
BEGIN:VEVENT
DTSTART;TZID=Europe/Prague:20260605T090000
DTEND;TZID=Europe/Prague:20260605T120000
DTSTAMP:20260423T001638
CREATED:20251201T081004Z
LAST-MODIFIED:20251201T081004Z
UID:141355-1780650000-1780660800@naschov.cz
SUMMARY:Krukanický polní den Selgen
DESCRIPTION:Zveme Vás na tradiční polní den Selgen.V přátelském prostředí šlechtitelské stanice Krukanice\, u dobrého jídla Vámnabídneme poutavý program za účasti šlechtitelůa zajímavých hostů. \nKolektiv Selgen
URL:https://naschov.cz/udalost/krukanicky-polni-den-selgen/
END:VEVENT
BEGIN:VEVENT
DTSTART;TZID=Europe/Prague:20260605T090000
DTEND;TZID=Europe/Prague:20260605T120000
DTSTAMP:20260423T001638
CREATED:20251208T093005Z
LAST-MODIFIED:20251208T093005Z
UID:141510-1780650000-1780660800@naschov.cz
SUMMARY:polní den Radovesice
DESCRIPTION:Radovesice (Litoměřice - AgroZZN) \n16. ročník polního dne věnovaného komplexní problematice pěstování polních plodin (řepka\, pšenice ozimé\, kukuřice a nově také ječmen oziný)
URL:https://naschov.cz/udalost/polni-den-radovesice-7/
END:VEVENT
BEGIN:VEVENT
DTSTART;TZID=Europe/Prague:20260605T090000
DTEND;TZID=Europe/Prague:20260605T130000
DTSTAMP:20260423T001638
CREATED:20251208T154004Z
LAST-MODIFIED:20251208T154004Z
UID:141516-1780650000-1780664400@naschov.cz
SUMMARY:Polní den MendelAgro 2026
DESCRIPTION:Polní den MendelAgro je největší prezentační akcí Mendelovy univerzity v Brně pro zemědělskou veřejnost. Během akce si zájemci mohou prohlédnout řadu polních pokusů se všemi významnými polními plodinami. \nPrezentována budou mj. tato témata: \n\n\n\naktuální počasí\, sucho a změna klimatu\,\ndlouhodobý vliv agrotechnických opatřenína výnos obilnin a vybrané půdní vlastnosti\,\nprincipy integrované ochrany rostlin\,\nracionální výživa rostlin\, nové trendy v hnojení\,\nsortiment odrůd obilnin pěstovanýchv konvenčním i ekologickém režimu pěstování\,\ninovace pěstebních technologií polních plodin\,\nprecizní zemědělství v praxi\,\npodpora opylovačů\, přirozených nepřátelškůdců a zvýšení biodiverzity\,\nspolečenstva vybraných druhů léčivých rostlin\,\nprezentace firem spolupracujících s AF MENDELU.\n\nNávštěvníci budou mít možnost ochutnat produkty z provozů Mendelu - víno\, pivo\, pečivo\, masné výrobky a další. \n\n \n\nPolní pokusnou stanici najdete zde: https://maps.app.goo.gl/1XQtMxEtWYQEwtG67
URL:https://naschov.cz/udalost/polni-den-mendelagro-2026/
END:VEVENT
BEGIN:VEVENT
DTSTART;TZID=Europe/Prague:20260605T090000
DTEND;TZID=Europe/Prague:20260605T130000
DTSTAMP:20260423T001638
CREATED:20260324T201004Z
LAST-MODIFIED:20260324T201004Z
UID:143356-1780650000-1780664400@naschov.cz
SUMMARY:Polní den obilnin SAATEN-UNION
DESCRIPTION:Dovolujeme si Vás pozvat na jedinečnou přehlídku výkonných odrůd obilnin SAATEN-UNION na Polním dni v Šaraticích. Čeká Vás bohatý program\, přehlídky portfolia a občerstvení během dne. Přehlídku pak zakončíme bohatým rautem a odbornou diskusí o nabídkách společnosti SAATEN-UNION CZ s.r.o.
URL:https://naschov.cz/udalost/polni-den-obilnin-saaten-union/
END:VEVENT
BEGIN:VEVENT
DTSTART;TZID=Europe/Prague:20260606T090000
DTEND;TZID=Europe/Prague:20260606T160000
DTSTAMP:20260423T001638
CREATED:20251201T081004Z
LAST-MODIFIED:20251201T081004Z
UID:141367-1780736400-1780761600@naschov.cz
SUMMARY:Selský deň Vrbětice\, Mistrovství republiky ve stříhání ovcí
DESCRIPTION:Mistrovství ČR ve stříhání ovcíKulturní programDoprovodný program
URL:https://naschov.cz/udalost/selsky-den-vrbetice-mistrovstvi-republiky-ve-strihani-ovci-3/
END:VEVENT
BEGIN:VEVENT
DTSTART;TZID=Europe/Prague:20260606T090000
DTEND;TZID=Europe/Prague:20260607T170000
DTSTAMP:20260423T001638
CREATED:20251208T093005Z
LAST-MODIFIED:20251208T093005Z
UID:141506-1780736400-1780851600@naschov.cz
SUMMARY:Vyznání růžím 2026
DESCRIPTION:Výstava růží
URL:https://naschov.cz/udalost/vyznani-ruzim-2026/
END:VEVENT
BEGIN:VEVENT
DTSTART;TZID=Europe/Prague:20260609T080000
DTEND;TZID=Europe/Prague:20260610T160000
DTSTAMP:20260423T001638
CREATED:20260106T093005Z
LAST-MODIFIED:20260106T093005Z
UID:141996-1780992000-1781107200@naschov.cz
SUMMARY:CELOSLOVENSKÉ DNI POĽA 2026
DESCRIPTION:CELOSLOVENSKÁ PREHLIADKA A VÝSTAVA ODRÔD\, OCHRANY A VÝŽIVY RASTLÍN\, POĽNOHOSPODÁRSKEJ TECHNIKY A HOSPODÁRSKYCH ZVIERAT
URL:https://naschov.cz/udalost/celoslovenske-dni-pola-2026/
END:VEVENT
BEGIN:VEVENT
DTSTART;TZID=Europe/Prague:20260609T090000
DTEND;TZID=Europe/Prague:20260609T120000
DTSTAMP:20260423T001638
CREATED:20251124T151004Z
LAST-MODIFIED:20251124T151004Z
UID:141098-1780995600-1781006400@naschov.cz
SUMMARY:Polní den  ELITA semenářská\, a.s.
DESCRIPTION:Tradiční polní den Elity semenářské\, a.s. proběhne opět ve spolupráci s AGRO Ořechov na pozemku mezi obcemi Mělčany a Ořechov. \nhttps://mapy.com/s/nacezuguja
URL:https://naschov.cz/udalost/polni-den-elita-semenarska-a-s/
END:VEVENT
BEGIN:VEVENT
DTSTART;TZID=Europe/Prague:20260609T090000
DTEND;TZID=Europe/Prague:20260610T160000
DTSTAMP:20260423T001638
CREATED:20251124T151004Z
LAST-MODIFIED:20251124T151004Z
UID:141100-1780995600-1781107200@naschov.cz
SUMMARY:Výstava Celoslovenské dni poľa Dolná Krupá\, okres Trnava
DESCRIPTION:Celoslovenská prehliadka a výstava\nodrôd\, ochrany a výživy rastlín\,\npoľnohospodárskej techniky\na hospodárskych zvierat
URL:https://naschov.cz/udalost/vystava-celoslovenske-dni-pola-dolna-krupa-okres-trnava/
END:VEVENT
BEGIN:VEVENT
DTSTART;TZID=Europe/Prague:20260609T090000
DTEND;TZID=Europe/Prague:20260609T120000
DTSTAMP:20260423T001638
CREATED:20260414T130009Z
LAST-MODIFIED:20260414T130009Z
UID:143894-1780995600-1781006400@naschov.cz
SUMMARY:Polní den Dynín
DESCRIPTION:Tradiční polní den společností VP AGRO\, BASF a ZS Dynín. Srdečně Vás zveme na komentovanou prohlídku ozimích obilnin. Těšíme se na setkání.
URL:https://naschov.cz/udalost/polni-den-dynin/
END:VEVENT
BEGIN:VEVENT
DTSTART;TZID=Europe/Prague:20260610T090000
DTEND;TZID=Europe/Prague:20260610T130000
DTSTAMP:20260423T001638
CREATED:20260324T201004Z
LAST-MODIFIED:20260324T201004Z
UID:143357-1781082000-1781096400@naschov.cz
SUMMARY:Polní den obilnin SAATEN-UNION
DESCRIPTION:Dovolujeme si Vás pozvat na jedinečnou přehlídku výkonných odrůd obilnin SAATEN-UNION na polním dni v ZD Hrotovice. Čeká Vás bohatý program\, přehlídky portfolia a občerstvení během dne\, zúčastnit se také můžete tipovací soutěže o zajímavé ceny. Přehlídku pak zakončíme bohatým rautem a odbornou diskusí o nabídkách společnosti SAATEN-UNION CZ s.r.o. 
URL:https://naschov.cz/udalost/polni-den-obilnin-saaten-union-2/
END:VEVENT
BEGIN:VEVENT
DTSTART;TZID=Europe/Prague:20260612T083000
DTEND;TZID=Europe/Prague:20260612T140000
DTSTAMP:20260423T001638
CREATED:20260128T100004Z
LAST-MODIFIED:20260128T100004Z
UID:142354-1781253000-1781272800@naschov.cz
SUMMARY:Polní den ozimých pšenic ve Skaliččce u Hranic
DESCRIPTION:
URL:https://naschov.cz/udalost/polni-den-ozimych-psenic-ve-skaliccce-u-hranic/
END:VEVENT
BEGIN:VEVENT
DTSTART;TZID=Europe/Prague:20260612T090000
DTEND;TZID=Europe/Prague:20260612T120000
DTSTAMP:20260423T001638
CREATED:20251208T154004Z
LAST-MODIFIED:20251208T154004Z
UID:141513-1781254800-1781265600@naschov.cz
SUMMARY:polní den Nezvěstice
DESCRIPTION:Nezvěstice (Plzeň jih - Primagra) - Polní den se širokým záběrem prezentovaných témat od RV až po ŽV
URL:https://naschov.cz/udalost/polni-den-nezvestice-6/
END:VEVENT
BEGIN:VEVENT
DTSTART;TZID=Europe/Prague:20260612T090000
DTEND;TZID=Europe/Prague:20260612T130000
DTSTAMP:20260423T001638
CREATED:20260420T081004Z
LAST-MODIFIED:20260420T081004Z
UID:143978-1781254800-1781269200@naschov.cz
SUMMARY:DEN PRO MÁK 2025. Téma: Herbicidní a fungicidní ošetření\, stimulátory růstu\, regulace porostu máku
DESCRIPTION:Pro členy spolku Český modrý mák a pozvané hosty - vstup zdarma
URL:https://naschov.cz/udalost/den-pro-mak-2025-tema-herbicidni-a-fungicidni-osetreni-stimulatory-rustu-regulace-porostu-maku/
END:VEVENT
BEGIN:VEVENT
DTSTART;TZID=Europe/Prague:20260615T100000
DTEND;TZID=Europe/Prague:20260615T130000
DTSTAMP:20260423T001638
CREATED:20251120T071004Z
LAST-MODIFIED:20251120T071004Z
UID:141084-1781517600-1781528400@naschov.cz
SUMMARY:Přeštický polní den 2026
DESCRIPTION:Tradiční\, již 19. ročník\, setkání agronomů na pokusném pozemku společnosti VP AGRO. Odrůdy\, agrotechnika a zeměděslká technika. Těšíme se na setkání.
URL:https://naschov.cz/udalost/presticky-polni-den-2026/
END:VEVENT
BEGIN:VEVENT
DTSTART;TZID=Europe/Prague:20260616T080000
DTEND;TZID=Europe/Prague:20260617T160000
DTSTAMP:20260423T001638
CREATED:20260106T093005Z
LAST-MODIFIED:20260106T093005Z
UID:141994-1781596800-1781712000@naschov.cz
SUMMARY:NAŠE POLE 2026
DESCRIPTION:CELOSTÁTNÍ PŘEHLÍDKA POLNÍCH POKUSŮ ODRŮD ZEMĚDĚLSKÝCH PLODIN\, OCHRANY A VÝŽIVY ROSTLIN A VÝSTAVA ZEMĚDĚLSKÉ TECHNIKY.
URL:https://naschov.cz/udalost/nase-pole-2026/
END:VEVENT
BEGIN:VEVENT
DTSTART;TZID=Europe/Prague:20260616T090000
DTEND;TZID=Europe/Prague:20260616T130000
DTSTAMP:20260423T001638
CREATED:20251208T093005Z
LAST-MODIFIED:20251208T093005Z
UID:141508-1781600400-1781614800@naschov.cz
SUMMARY:POLNÍ DEN V LITOVICÍCH
DESCRIPTION:.
URL:https://naschov.cz/udalost/polni-den-v-litovicich-4/
END:VEVENT
BEGIN:VEVENT
DTSTART;TZID=Europe/Prague:20260617T090000
DTEND;TZID=Europe/Prague:20260625T130000
DTSTAMP:20260423T001638
CREATED:20251201T081004Z
LAST-MODIFIED:20251201T081004Z
UID:141357-1781686800-1782392400@naschov.cz
SUMMARY:Polní den luskovino obilné směsky Petrovice u Sedlčan
DESCRIPTION:Zveme Vás na tradiční polní den Selgen.na téma luskovin a luskovino-obilných směsek\, u dobrého jídla Vámnabídneme poutavý program za účasti šlechtitelůa zajímavých hostů. \nKolektiv Selgen
URL:https://naschov.cz/udalost/polni-den-luskovino-obilne-smesky-petrovice-u-sedlcan-2/
END:VEVENT
BEGIN:VEVENT
DTSTART;TZID=Europe/Prague:20260617T090000
DTEND;TZID=Europe/Prague:20260617T130000
DTSTAMP:20260423T001638
CREATED:20251208T154004Z
LAST-MODIFIED:20251208T154004Z
UID:141515-1781686800-1781701200@naschov.cz
SUMMARY:Polní dny Bayer ExpertTECH
DESCRIPTION:ZD Libčany
URL:https://naschov.cz/udalost/polni-dny-bayer-experttech/
END:VEVENT
BEGIN:VEVENT
DTSTART;TZID=Europe/Prague:20260618T090000
DTEND;TZID=Europe/Prague:20260621T160000
DTSTAMP:20260423T001638
CREATED:20251126T173004Z
LAST-MODIFIED:20251126T173004Z
UID:141200-1781773200-1782057600@naschov.cz
SUMMARY:Květy 2026
DESCRIPTION:Srdečně vás zveme na 31. celostátní výstavu květin a zahradnické trhy KVĚTY\, která se bude konat od 18. do 21. června. Dominantou výstavy bude monumentální květinové aranžmá. Přijďte si užit neuvěřitelnou atmosféru plnou barev\, vůní a inspirace\, kterou přinese tato obří květinová kompozice. Pojďte se nechat unést krásou přírody. Květiny si pak budete moci zakoupit od našich zkušených prodejců a pěstitelů a nechat si odborně poradit přímo při koupi. Tato výstava je skvělou příležitostí nejen pro milovníky květin a zahradničení\, ale pro každého\, kdo si chce užit magii umění spojenou s přírodou. Těšíme se na vaši návštěvu u nás na výstavišti!
URL:https://naschov.cz/udalost/kvety-2026/
END:VEVENT
BEGIN:VEVENT
DTSTART;TZID=Europe/Prague:20260618T090000
DTEND;TZID=Europe/Prague:20260618T130000
DTSTAMP:20260423T001638
CREATED:20251201T081004Z
LAST-MODIFIED:20251201T081004Z
UID:141359-1781773200-1781787600@naschov.cz
SUMMARY:Polní den luskovinoobilné směsky Mrákov
DESCRIPTION:Zveme Vás na tradiční polní den Selgen.na téma luskovin a luskovino-obilných směsek\, u dobrého jídla Vámnabídneme poutavý program za účastizajímavých hostů. \nKolektiv Selgen
URL:https://naschov.cz/udalost/polni-den-luskovinoobilne-smesky-mrakov/
END:VEVENT
BEGIN:VEVENT
DTSTART;TZID=Europe/Prague:20260619T090000
DTEND;TZID=Europe/Prague:20260619T120000
DTSTAMP:20260423T001638
CREATED:20251208T154004Z
LAST-MODIFIED:20251208T154004Z
UID:141514-1781859600-1781870400@naschov.cz
SUMMARY:Jihočeský polní den
DESCRIPTION:Bernartice u Písku - tradiční jihočeská akce (30. Ročník)\, zaměřeno na pšenici a řepku (osiva)
URL:https://naschov.cz/udalost/jihocesky-polni-den-6/
END:VEVENT
BEGIN:VEVENT
DTSTART;TZID=Europe/Prague:20260619T090000
DTEND;TZID=Europe/Prague:20260619T130000
DTSTAMP:20260423T001638
CREATED:20260420T081004Z
LAST-MODIFIED:20260420T081004Z
UID:143979-1781859600-1781874000@naschov.cz
SUMMARY:Polní den: DEN PRO MÁK 2025. Odrůdy máku pro podzimní i jarní výsev.
DESCRIPTION:Pro členy spolku Český modrý mák\, studenty ČZU a pozvané hosty – vstup zdarma
URL:https://naschov.cz/udalost/polni-den-den-pro-mak-2025-odrudy-maku-pro-podzimni-i-jarni-vysev/
END:VEVENT
BEGIN:VEVENT
DTSTART;TZID=Europe/Prague:20260623T083000
DTEND;TZID=Europe/Prague:20260623T130000
DTSTAMP:20260423T001638
CREATED:20251203T131004Z
LAST-MODIFIED:20251203T131004Z
UID:141403-1782203400-1782219600@naschov.cz
SUMMARY:Polní den Ditana
DESCRIPTION:Tradiční polní den\, v rámci kterého se uskuteční prohlídka odrůdového pokusu v ozimé pšenici\, prohlídka fungicidních pokusů a pokusů s morforegulátory a biostimulanty v ozimé pšenici a prohlídka pokusů s diferencovanou výživou s odborným komentářem
URL:https://naschov.cz/udalost/polni-den-ditana-7/
END:VEVENT
BEGIN:VEVENT
DTSTART;TZID=Europe/Prague:20260625T090000
DTEND;TZID=Europe/Prague:20260625T180000
DTSTAMP:20260423T001638
CREATED:20251001T134004Z
LAST-MODIFIED:20251001T134004Z
UID:140162-1782378000-1782410400@naschov.cz
SUMMARY:Zemědělská výstava na Hadačce
DESCRIPTION:Tradiční zemědělská výstava na Hadačce jejíž součástí je přehlídka polních pokusů\, chovatelský den\, výstava zemědělské techniky\, nabídka služeb pro zemědělce a bohatý doprovodný program.  \nAke se koná v areálu Kralovické zemědělské a.s. na Hadačce a okolních pozemcích.
URL:https://naschov.cz/udalost/zemedelska-vystava-na-hadacce-3/
END:VEVENT
END:VCALENDAR