BEGIN:VCALENDAR
VERSION:2.0
PRODID:-//Náš chov - vše o chovu hospodářských zvířat - ECPv6.11.1//NONSGML v1.0//EN
CALSCALE:GREGORIAN
METHOD:PUBLISH
X-ORIGINAL-URL:https://naschov.cz
X-WR-CALDESC:Akce na Náš chov - vše o chovu hospodářských zvířat
REFRESH-INTERVAL;VALUE=DURATION:PT1H
X-Robots-Tag:noindex
X-PUBLISHED-TTL:PT1H
BEGIN:VTIMEZONE
TZID:Europe/Prague
BEGIN:DAYLIGHT
TZOFFSETFROM:+0100
TZOFFSETTO:+0200
TZNAME:CEST
DTSTART:20250330T010000
END:DAYLIGHT
BEGIN:STANDARD
TZOFFSETFROM:+0200
TZOFFSETTO:+0100
TZNAME:CET
DTSTART:20251026T010000
END:STANDARD
END:VTIMEZONE
BEGIN:VEVENT
DTSTART;TZID=Europe/Prague:20250327T090000
DTEND;TZID=Europe/Prague:20250328T160000
DTSTAMP:20260420T230337
CREATED:20241112T094137Z
LAST-MODIFIED:20241112T094137Z
UID:134710-1743066000-1743177600@naschov.cz
SUMMARY:Tradiční jarní výstava zemědělské techniky
DESCRIPTION:Výstava zemědělské techniky
URL:https://naschov.cz/udalost/tradicni-jarni-vystava-zemedelske-techniky-13/
END:VEVENT
BEGIN:VEVENT
DTSTART;TZID=Europe/Prague:20250403T080000
DTEND;TZID=Europe/Prague:20250403T130000
DTSTAMP:20260420T230337
CREATED:20241206T083005Z
LAST-MODIFIED:20241206T083005Z
UID:135393-1743667200-1743685200@naschov.cz
SUMMARY:Jarní konference SAATEN-UNION a Rapool
DESCRIPTION:Tradiční jarní konference společností SAATEN-UNION CZ s.r.o. a RAPOOL CZ s.r.o.\, představení jejich portfolia plodin pro rok 2025\, zajímavé přednášky tuzemských i zahraničních hostů.
URL:https://naschov.cz/udalost/jarni-konference-saaten-union-a-rapool-3/
END:VEVENT
BEGIN:VEVENT
DTSTART;TZID=Europe/Prague:20250405T100000
DTEND;TZID=Europe/Prague:20250405T160000
DTSTAMP:20260420T230337
CREATED:20241222T184003Z
LAST-MODIFIED:20241222T184003Z
UID:135583-1743847200-1743868800@naschov.cz
SUMMARY:9. mistrovství Ústeckého kraje v orbě
DESCRIPTION:9. mistrovství Ústeckého kraje v orbě se uskuteční v sobotu 5. dubna 2025 na pozemcích soukromého zemědělce Ing. Jaroslava Bureše\, mezi obcemi Budyně nad Ohří a Písty. Organizátorem tradiční soutěže je Spolek podřipských oráčů. Kontaktní telefon: Ing. Zdeněk Ondra +420 732 700 340\, email: zdenekondra@seznam.cz
URL:https://naschov.cz/udalost/9-mistrovstvi-usteckeho-kraje-v-orbe/
END:VEVENT
BEGIN:VEVENT
DTSTART;TZID=Europe/Prague:20250410T100000
DTEND;TZID=Europe/Prague:20250413T160000
DTSTAMP:20260420T230337
CREATED:20241126T134005Z
LAST-MODIFIED:20241126T134005Z
UID:135123-1744279200-1744560000@naschov.cz
SUMMARY:NARCIS 2025\, REGIONY ČESKÉ REPUBLIKY 2025
DESCRIPTION:Akce ve stejném termínu\n\n \n\nElegance - Avantgarda 2025\n29. veletrh módy\, šperků a všeho\, co s elegancí souvisí\n\n \n\nRegiony České republiky 2025\n24. společný veletrh měst\, obcí\, mikroregionů a informačních center České republiky
URL:https://naschov.cz/udalost/narcis-2025-regiony-ceske-republiky-2025/
END:VEVENT
BEGIN:VEVENT
DTSTART;TZID=Europe/Prague:20250415T090000
DTEND;TZID=Europe/Prague:20250415T130000
DTSTAMP:20260420T230337
CREATED:20241129T090006Z
LAST-MODIFIED:20241129T090006Z
UID:135269-1744707600-1744722000@naschov.cz
SUMMARY:Tradiční seminář LIMAGRAIN ve Větrném Jeníkově
DESCRIPTION:Srdečně vás zveme na tradiční seminář Limagrain do Větrného Jeníkova. \nPředstavíme vám novinky v sortimentu Limagrain pro podzim 2025 
URL:https://naschov.cz/udalost/tradicni-seminar-limagrain-ve-vetrnem-jenikove-2/
END:VEVENT
BEGIN:VEVENT
DTSTART;TZID=Europe/Prague:20250415T090000
DTEND;TZID=Europe/Prague:20250415T150000
DTSTAMP:20260420T230337
CREATED:20250307T114004Z
LAST-MODIFIED:20250307T114004Z
UID:137011-1744707600-1744729200@naschov.cz
SUMMARY:Polní dny Carboneg na Farmě Markových
DESCRIPTION:Produkce s přidanou hodnotou - regenerativní zemědělství jako cesta \nJiří Marek hospodaří na rodinné farmě na Znojemsku. Pěstuje širokou škálu plodin\, která zahrnuje asi dvacet druhů. Již více než deset let se věnuje omezenému zpracování půdy a pásovému setí. Přechod na regenerativní zemědělství proto považuje za přirozený vývoj budoucího směřování své farmy. V současné době obhospodařuje 450 ha. Značnou část produkce se snaží zpracovávat přímo na farmě\, např. lisuje oleje z vlastních semen nebo zpracovává mák. \nPodrobnosti a registrační formulář naleznete zde: https://www.carboneg.com/cs/polni-dny
URL:https://naschov.cz/udalost/polni-dny-carboneg-na-farme-markovych/
END:VEVENT
BEGIN:VEVENT
DTSTART;TZID=Europe/Prague:20250423T090000
DTEND;TZID=Europe/Prague:20250423T150000
DTSTAMP:20260420T230337
CREATED:20241129T074005Z
LAST-MODIFIED:20241129T074005Z
UID:135260-1745398800-1745420400@naschov.cz
SUMMARY:Tradiční seminář Selgen - Šlechtitelská stanice Stupice
DESCRIPTION:Šlechtitelská stanice Stupice\, Kolodějská 24\, 250 84 Stupice
URL:https://naschov.cz/udalost/tradicni-seminar-selgen-slechtitelska-stanice-stupice-2/
END:VEVENT
BEGIN:VEVENT
DTSTART;TZID=Europe/Prague:20250424T090000
DTEND;TZID=Europe/Prague:20250424T160000
DTSTAMP:20260420T230337
CREATED:20250204T153004Z
LAST-MODIFIED:20250204T153004Z
UID:136424-1745485200-1745510400@naschov.cz
SUMMARY:Dny AGROMEX Morava
DESCRIPTION:Vážení zákazníci a partneři\, \nsrdečně vás zveme na Dny Agromex na Moravě\, které se uskuteční dne 24. dubna na naší pobočce Starý Jičín (Starý Jičín 64).  \nPřijďte na Moravu prohlédnout si nejnovější zemědělskou techniku\, technologie pro precizní zemědělství a zažijte den plný inspirace a novinek! \nCo vás čeká: \n\nPředstavení novinky Fendt 600 Vario G1 a speciální limitované série traktorů Fendt\nUkázka techniky značek Fendt\, Weidemann\, Pellenc\, Kröger\, Kerner\nTechnologie pro precizní zemědělství\nObčerstvení\n\nHarmonogram akce: \n9:00 Otevření registrace10:00 Začátek akce16:00 Konec akce \nRegistrace: Vyplňte formulář na webové stránce akce zde.  \nTěšíme se na vaši účast a věříme\, že společně strávíme den plný novinek!
URL:https://naschov.cz/udalost/dny-agromex-morava/
END:VEVENT
BEGIN:VEVENT
DTSTART;TZID=Europe/Prague:20250426T100000
DTEND;TZID=Europe/Prague:20250426T160000
DTSTAMP:20260420T230337
CREATED:20241209T104004Z
LAST-MODIFIED:20241209T104004Z
UID:135470-1745661600-1745683200@naschov.cz
SUMMARY:Ovčácké slavnosti v Babiččině údolí\, krajský den Královéhradeckého sdružení\, NT beranů a kozlů pro vystavující
DESCRIPTION:Centrum rozvoje Česká Skalice\, o.p.s.Královéhradecké sdružení SCHOK z.s.a Správa NKP státního zámku Ratibořice  \nsrdečně zvou na Ratibořické ovčácké slavnosti v Den země v Babiččině údolí \n- ukázka pastvy ovcí\, práce ovčáckého psa\, stříhání ovcí- přehlídka plemen ovcí a koz- ruční zpracování vlny- ochutnávka ovčích a kozích sýrů a dalších specialit- nabídka produkce drobných zemědělců\, chovatelů\, pěstitelů- tvořívé dílny a další \n  \n 
URL:https://naschov.cz/udalost/ovcacke-slavnosti-v-babiccine-udoli-krajsky-den-kralovehradeckeho-sdruzeni-nt-beranu-a-kozlu-pro-vystavujici/
END:VEVENT
BEGIN:VEVENT
DTSTART;TZID=Europe/Prague:20250427T090000
DTEND;TZID=Europe/Prague:20250430T170000
DTSTAMP:20260420T230337
CREATED:20241119T151004Z
LAST-MODIFIED:20241119T151004Z
UID:134899-1745744400-1746032400@naschov.cz
SUMMARY:ANIMAL TECH
DESCRIPTION:Mezinárodní veletrh pro živočišnou výrobu
URL:https://naschov.cz/udalost/animal-tech-3/
END:VEVENT
BEGIN:VEVENT
DTSTART;TZID=Europe/Prague:20250427T090000
DTEND;TZID=Europe/Prague:20250430T170000
DTSTAMP:20260420T230337
CREATED:20241119T151004Z
LAST-MODIFIED:20241119T151004Z
UID:134900-1745744400-1746032400@naschov.cz
SUMMARY:Národní výstava hospodářských zvířat
DESCRIPTION:
URL:https://naschov.cz/udalost/narodni-vystava-hospodarskych-zvirat-5/
END:VEVENT
BEGIN:VEVENT
DTSTART;TZID=Europe/Prague:20250428T100000
DTEND;TZID=Europe/Prague:20250428T150000
DTSTAMP:20260420T230337
CREATED:20241107T081005Z
LAST-MODIFIED:20241107T081005Z
UID:134694-1745834400-1745852400@naschov.cz
SUMMARY:Národní holštýnský šampionát
DESCRIPTION:Národní holštýnský šampionát
URL:https://naschov.cz/udalost/narodni-holstynsky-sampionat-3/
END:VEVENT
BEGIN:VEVENT
DTSTART;TZID=Europe/Prague:20250506T090000
DTEND;TZID=Europe/Prague:20250506T090000
DTSTAMP:20260420T230337
CREATED:20250424T095006Z
LAST-MODIFIED:20250424T095006Z
UID:137633-1746522000-1746522000@naschov.cz
SUMMARY:Polní den Carboneg na Farmě Dangus
DESCRIPTION:Navštivte s námi Farmu Dangus Wenzela Lobkowicze\, který se úspěšně věnuje regenerativnímu chovu plemene Aberdeen-Angus. Kvalita půdy\, pastvin a welfare zvířat je na farmě stěžejní. Pojďte si tentokrát poslechnout 4leté zkušenosti s pěstováním meziplodin a čerstvé postřehy k no-till technologii setí\, se kterými na Farmě Dangus začínají. \nV rámci tématu meziplodin Wenzel Lobkowicz otevře diskutovaná témata zařazení hospodářských zvířat do osevního sledu a pastvu meziplodin. Zmíní i zkušenosti s úspěšným rozvojem pastvin\, chovu zvířat i ekonomice farmy. \n Z důvodu SLAK se nebudou konat pastevní ukázky se stády. Polní ukázky budou zaměřené právě na meziplodiny a no-till setí. \nVstup pro farmáře a zástupce zemědělských podniků je po registraci zdarma. Vstup pro veřejnost 300 Kč s platbou pouze na místě. \nVíce podrobností na: https://www.carboneg.com/cs/polni-dny
URL:https://naschov.cz/udalost/polni-den-carboneg-na-farme-dangus/
END:VEVENT
BEGIN:VEVENT
DTSTART;TZID=Europe/Prague:20250510T100000
DTEND;TZID=Europe/Prague:20250510T120000
DTSTAMP:20260420T230337
CREATED:20241209T104004Z
LAST-MODIFIED:20241209T104004Z
UID:135471-1746871200-1746878400@naschov.cz
SUMMARY:Nákupní trh plemenných beranů šumavská ovce\, Michlova Huť
DESCRIPTION:Klasifikace plemenných beranů šumavské ovce - národní plemeno zařazené do genových rezerv. Možnost nákupu plemeníků.
URL:https://naschov.cz/udalost/nakupni-trh-plemennych-beranu-sumavska-ovce-michlova-hut/
END:VEVENT
BEGIN:VEVENT
DTSTART;TZID=Europe/Prague:20250514T000000
DTEND;TZID=Europe/Prague:20250514T235959
DTSTAMP:20260420T230337
CREATED:20250422T071004Z
LAST-MODIFIED:20250422T071004Z
UID:137621-1747180800-1747267199@naschov.cz
SUMMARY:Slavnostní otevření nové provozovny společnosti AgriMachines SE v Drahotuši
DESCRIPTION:S velkou radostí vás zveme na slavnostní otevření nové provozovny společnosti AgriMachines SE v Drahotuši. \nVybudovali jsme zde pro vás novou servisní dílnu a showroom špičkových strojů rakouské značky Göweil a rádi bychom vás přivítali na dni plném techniky\, pohody a skvělého občerstvení. \nDatum: 14. května 2025\nZačátek: 10.00 hodin\nMísto: Středisko AgriMachines SE\, Rybářská 572\, Hranice IV – Drahotuše\, 75361 \nProgram: \n\n10.00 - Přivítání a oficiální zahájení\n11.00 – Aktivní předvádění strojů Göweil na přilehlém pozemku.\n\nV akci uvidíte kombinovaný lis G-1 F125\, baličku G1015 a LT-Master. \n\n12.30 – Přesun zpět na provozovnu\n\nNa co se dál můžete těšit? \n\nBohaté občerstvení\nMandlové dobroty z vyhlášené Mandlárny Hustopeče\nŽivá hudba v podání skvělé kapely\n\nTěšíme se na vás a na společné setkání v přátelské atmosféře!
URL:https://naschov.cz/udalost/slavnostni-otevreni-nove-provozovny-spolecnosti-agrimachines-se-v-drahotusi/
END:VEVENT
BEGIN:VEVENT
DTSTART;TZID=Europe/Prague:20250514T090000
DTEND;TZID=Europe/Prague:20250515T235500
DTSTAMP:20260420T230337
CREATED:20241112T094137Z
LAST-MODIFIED:20241112T094137Z
UID:134705-1747213200-1747353300@naschov.cz
SUMMARY:Mistrovství floristů ČR - Děčínská kotva 2025
DESCRIPTION:Děčínská kotva je floristická soutěž profesionálních floristů\, studentů zahradnických škol a žáků ZŠ. \nMistrovství floristů České republiky – Děčínská kotva se letos koná již po 54. Soutěžící vytvářejí mistrovská díla\, závodí v kreativitě a odbornosti. Po ukončení soutěže následuje výstava od 16. -18. května 2025 (9:00 - 17:00)\, kde veřejnost může obdivovat ty nejúžasnější květinové kompozice. 
URL:https://naschov.cz/udalost/mistrovstvi-floristu-cr-decinska-kotva-2025/
END:VEVENT
BEGIN:VEVENT
DTSTART;TZID=Europe/Prague:20250515T090000
DTEND;TZID=Europe/Prague:20250515T153000
DTSTAMP:20260420T230337
CREATED:20250314T120004Z
LAST-MODIFIED:20250314T120004Z
UID:137109-1747299600-1747323000@naschov.cz
SUMMARY:Den otevřených dveří PEKASS Kvíčovice
DESCRIPTION:Novinky u strojů (JCB\, HORSCH\, ANTONIO CARRARO\, BERTI\, GRILLO)\nExpozice servisních služeb\, náhradních dílů\, sedaček GRAMMER\, FORMECH a MILWAUKEE\nRocková skupina AGNES
URL:https://naschov.cz/udalost/den-otevrenych-dveri-pekass-kvicovice/
END:VEVENT
BEGIN:VEVENT
DTSTART;TZID=Europe/Prague:20250515T090000
DTEND;TZID=Europe/Prague:20250515T150000
DTSTAMP:20260420T230337
CREATED:20250505T063005Z
LAST-MODIFIED:20250505T063005Z
UID:137904-1747299600-1747321200@naschov.cz
SUMMARY:9. pícninářský den na Vysočině!
DESCRIPTION:Termín: 15. 2025 od 9 hod \n9. Pícninářský den na Vysočině\, na téma Význam víceletých pícnin v současném zemědělství\, ukázky strojů pro sklizeň pícnin\, a porostů travních druhů. \nZahájení od 9\,00 hod tentokrát v sále Kulturního domu v Nové Vsi u Nového Města na Moravě. Organizátoři ZD Nové Město na Moravě\, Ústav výživy zvířat a pícninářství AF Mendelu Brno a DLF Seeds. s.r.o. Hladké Životice. Program na www.dlf.cz\, přihlášky zasílejte na hejduk@mendelu.cz .
URL:https://naschov.cz/udalost/9-picninarsky-den-na-vysocine/
END:VEVENT
BEGIN:VEVENT
DTSTART;TZID=Europe/Prague:20250516T090000
DTEND;TZID=Europe/Prague:20250516T120000
DTSTAMP:20260420T230337
CREATED:20241210T110005Z
LAST-MODIFIED:20241210T110005Z
UID:135492-1747386000-1747396800@naschov.cz
SUMMARY:Den PREOLu
DESCRIPTION:Den PREOLu aneb řepkové setkání v NABOČANECH (Cerea) - odborná polní „speciálka“ věnovaná komplexní problematice pěstování řepky ozimé
URL:https://naschov.cz/udalost/den-preolu-3/
END:VEVENT
BEGIN:VEVENT
DTSTART;TZID=Europe/Prague:20250517T100000
DTEND;TZID=Europe/Prague:20250517T150000
DTSTAMP:20260420T230337
CREATED:20241209T104004Z
LAST-MODIFIED:20241209T104004Z
UID:135472-1747476000-1747494000@naschov.cz
SUMMARY:NT plemenných beranů a kozlů Košařiska
DESCRIPTION:Klasifikace plemenných beranů a kozlů\, možnost nákupu plemeníků.
URL:https://naschov.cz/udalost/nt-plemennych-beranu-a-kozlu-kosariska/
END:VEVENT
BEGIN:VEVENT
DTSTART;TZID=Europe/Prague:20250522T100000
DTEND;TZID=Europe/Prague:20250525T160000
DTSTAMP:20260420T230337
CREATED:20241126T134005Z
LAST-MODIFIED:20241126T134005Z
UID:135124-1747908000-1748188800@naschov.cz
SUMMARY:NATURA VIVA 2025
DESCRIPTION:30. mezinárodní veletrh myslivosti\, rybářství\, včelařství a pobytu v přírodě
URL:https://naschov.cz/udalost/natura-viva-2025/
END:VEVENT
BEGIN:VEVENT
DTSTART;TZID=Europe/Prague:20250522T100000
DTEND;TZID=Europe/Prague:20250522T130000
DTSTAMP:20260420T230337
CREATED:20250516T101004Z
LAST-MODIFIED:20250516T101004Z
UID:138080-1747908000-1747918800@naschov.cz
SUMMARY:Polní den Carboneg na Farmě Ehl
DESCRIPTION:Zavítejte v rámci Polního dne Carboneg na ekologickou Farmu Ehl. Hlavnímtématem setkání bude regenerativní pastva. Dozvíte se o víceletýchzkušenostech s pastvou býků i kuřat\, plánováním rotace pastvin a rozvrženímoplůtků. \nProsíme o registraci předem zde: https://www.carboneg.com/cs/polni-dny \nTěšíme se na setkání.  \n 
URL:https://naschov.cz/udalost/polni-den-carboneg-na-farme-ehl/
END:VEVENT
BEGIN:VEVENT
DTSTART;TZID=Europe/Prague:20250527T100000
DTEND;TZID=Europe/Prague:20250527T110000
DTSTAMP:20260420T230337
CREATED:20250523T121004Z
LAST-MODIFIED:20250523T121004Z
UID:138156-1748340000-1748343600@naschov.cz
SUMMARY:Kybernetická bezpečnost v energetice - webinář
DESCRIPTION:Zúčastněte se zdarma našeho webináře na téma Kyberbezpečnost v energetice a získejte detailnější informace o tom\, co NIS2 znamená právě pro vás. Získáte přehled o nových povinnostech\, praktických dopadech na provoz a doporučeních\, jak se na změny připravit včas a bez zbytečných rizik.  \nPřednášet budou experti na energetické právo z advokátní kanceláře Doucha Šikola advokáti.
URL:https://naschov.cz/udalost/kyberneticka-bezpecnost-v-energetice-webinar/
END:VEVENT
BEGIN:VEVENT
DTSTART;TZID=Europe/Prague:20250528T080000
DTEND;TZID=Europe/Prague:20250529T140000
DTSTAMP:20260420T230337
CREATED:20241205T124005Z
LAST-MODIFIED:20241205T124005Z
UID:135381-1748419200-1748527200@naschov.cz
SUMMARY:Den fascinace rostlinami
DESCRIPTION:Co všechno skrývá fascinující svět rostlin? Pestrý program pod širým nebem i ve světle laboratoří proběhne ve dnech 28. a 29. 5. 2025. \nNa akci je nutné se registrovat. \nVíce informací bude zveřejněno v průběhu roku 2025. sledujte naše stránky a sociální sítě.
URL:https://naschov.cz/udalost/den-fascinace-rostlinami-4/
END:VEVENT
BEGIN:VEVENT
DTSTART;TZID=Europe/Prague:20250529T090000
DTEND;TZID=Europe/Prague:20250529T150000
DTSTAMP:20260420T230337
CREATED:20250522T080007Z
LAST-MODIFIED:20250522T080007Z
UID:138140-1748509200-1748530800@naschov.cz
SUMMARY:Den komunální techniky - Lázně Vráž
DESCRIPTION:Představení komunální techniky z portfolia společnosti PEKASS a.s. s praktickými ukázkami a možností individuálního vyzkoušení malotraktorů\, komunálních nosičů a profesionálních sekaček.
URL:https://naschov.cz/udalost/den-komunalni-techniky-lazne-vraz/
END:VEVENT
BEGIN:VEVENT
DTSTART;TZID=Europe/Prague:20250602T100000
DTEND;TZID=Europe/Prague:20250602T130000
DTSTAMP:20260420T230337
CREATED:20250129T160004Z
LAST-MODIFIED:20250129T160004Z
UID:136342-1748858400-1748869200@naschov.cz
SUMMARY:Polní den pod Ranou
DESCRIPTION:Společnosti VP AGRO a Saatbau Linz Vám představí špičkové odrůdy ozimé pšenice na jedné z nejsušších lokalit ČR.
URL:https://naschov.cz/udalost/polni-den-pod-ranou-4/
END:VEVENT
BEGIN:VEVENT
DTSTART;TZID=Europe/Prague:20250603T090000
DTEND;TZID=Europe/Prague:20250603T130000
DTSTAMP:20260420T230337
CREATED:20250127T074004Z
LAST-MODIFIED:20250127T074004Z
UID:136256-1748941200-1748955600@naschov.cz
SUMMARY:Polní den Branišovice
DESCRIPTION:Tradiční polní den Branišovice
URL:https://naschov.cz/udalost/polni-den-branisovice/
END:VEVENT
BEGIN:VEVENT
DTSTART;TZID=Europe/Prague:20250603T090000
DTEND;TZID=Europe/Prague:20250603T160000
DTSTAMP:20260420T230337
CREATED:20250512T074004Z
LAST-MODIFIED:20250512T074004Z
UID:138019-1748941200-1748966400@naschov.cz
SUMMARY:HORSCH - HLEDÁNÍ SPRÁVNÉ CESTY!
DESCRIPTION:Na programu polního dne bude mnoho zajímavých témat\, která nám přednese pan Constantin Horsch\, odborník na hybridní zemědělství a obdělávání půdy. \n\nPředstavení značek Horsch a Horsch Leeb\nManagement posklizňových zbytků\nJak nejlépe rovnat pole před setím\nPředcházení erozi\nOptimalizace pracovních záběrů\nPraktické ukázky strojů na poli\n\nZAREGISTRUJTE SE A ZÍSKEJTE VSTUP ZDARMA! \nZDE: https://www.pekass.eu/pozvanky/ \n 
URL:https://naschov.cz/udalost/horsch-hledani-spravne-cesty/
END:VEVENT
BEGIN:VEVENT
DTSTART;TZID=Europe/Prague:20250603T090000
DTEND;TZID=Europe/Prague:20250604T160000
DTSTAMP:20260420T230337
CREATED:20241209T141004Z
LAST-MODIFIED:20250502T101256Z
UID:135476-1748941200-1749052800@naschov.cz
SUMMARY:Celoslovenské dni poľa 2025 - Selice
DESCRIPTION:Vážení návštevníci\, vystavovatelia a  priaznivci poľnohospodárstva ! \nSrdečne vás pozývame na 14. ročník Celoslovenských dní poľa\, ktoré sa uskutočnia 3. a 4. júna 2025 v Seliciach \nCeloslovenské dni poľa s celoštátnou prehliadkou poľných pokusov odrôd poľnohospodárskych plodín\, ochrany a výživy rastlín\, poľnohospodárskej techniky a hospodárskych zvierat. Už od leta 2024 pripravujeme v spolupráci so spoločnosťou AGRO DIVÍZIA s.r.o. Selice prezentačné parcelky a celú výstavnú plochu\, na ktorej sa predstavia najmodernejšie technológie pre poľnohospodársku výrobu. \nTešíme sa na stretnutie v Seliciach.
URL:https://naschov.cz/udalost/celoslovenske-dni-pola-2025-selice/
END:VEVENT
BEGIN:VEVENT
DTSTART;TZID=Europe/Prague:20250604T090000
DTEND;TZID=Europe/Prague:20250604T140000
DTSTAMP:20260420T230337
CREATED:20250512T074004Z
LAST-MODIFIED:20250512T074004Z
UID:138021-1749027600-1749045600@naschov.cz
SUMMARY:Celostátní POLNÍ DEN ÚKZÚZ
DESCRIPTION:ÚSTŘEDNÍ KONTROLNÍ A ZKUŠEBNÍ ÚSTAV ZEMĚDĚLSKÝ   \nsrdečně zve na  CELOSTÁTNÍ POLNÍ DEN \nvěnovaný tématu \n„Odrůdy a výživa rostlin v udržitelném zemědělství“ akce proběhne prezenčně na faře v blízkosti zkušební stanice ve Věrovanech. \n \nZajímá vás\, jak se pěstují zdravé plodiny? \nPak si nenechte ujít Celostátní polní den ÚKZÚZ ve Věrovanech v Olomouckém kraji! \nPřipravili jsme pro vás bohatý program\, který zahrnuje přednášky o udržitelném zemědělství\, praktické ukázky odrůdových a výživářských pokusů a možnost konzultace s odborníky. \nPřijďte se naučit něco nového a načerpat inspiraci pro vaši zahradu či pole!  \nPředběžný program pro vás brzy zveřejníme. \nRegistrujte se nejlépe do 2. 6. 2025. \nDrobné občerstvení zajištěno.
URL:https://naschov.cz/udalost/celostatni-polni-den-ukzuz-3/
END:VEVENT
END:VCALENDAR