BEGIN:VCALENDAR
VERSION:2.0
PRODID:-//Náš chov - vše o chovu hospodářských zvířat - ECPv6.11.1//NONSGML v1.0//EN
CALSCALE:GREGORIAN
METHOD:PUBLISH
X-ORIGINAL-URL:https://naschov.cz
X-WR-CALDESC:Akce na Náš chov - vše o chovu hospodářských zvířat
REFRESH-INTERVAL;VALUE=DURATION:PT1H
X-Robots-Tag:noindex
X-PUBLISHED-TTL:PT1H
BEGIN:VTIMEZONE
TZID:Europe/Prague
BEGIN:DAYLIGHT
TZOFFSETFROM:+0100
TZOFFSETTO:+0200
TZNAME:CEST
DTSTART:20250330T010000
END:DAYLIGHT
BEGIN:STANDARD
TZOFFSETFROM:+0200
TZOFFSETTO:+0100
TZNAME:CET
DTSTART:20251026T010000
END:STANDARD
END:VTIMEZONE
BEGIN:VEVENT
DTSTART;TZID=Europe/Prague:20250606T090000
DTEND;TZID=Europe/Prague:20250606T120000
DTSTAMP:20260421T044924
CREATED:20241210T110005Z
LAST-MODIFIED:20241210T110005Z
UID:135495-1749200400-1749211200@naschov.cz
SUMMARY:Polní den Radovesice
DESCRIPTION:Radovesice (Litoměřice - AgroZZN)  15. ročník polního dne věnovaného komplexní problematice pěstování polních plodin (řepka\, pšenice ozimé\, kukuřice a nově také ječmen oziný)
URL:https://naschov.cz/udalost/polni-den-radovesice-6/
END:VEVENT
BEGIN:VEVENT
DTSTART;TZID=Europe/Prague:20250607T090000
DTEND;TZID=Europe/Prague:20250607T160000
DTSTAMP:20260421T044924
CREATED:20241209T131004Z
LAST-MODIFIED:20241209T131004Z
UID:135473-1749286800-1749312000@naschov.cz
SUMMARY:Selský deň Vrbětice\, Mistrovství republiky ve stříhání ovcí\, Mistrovství Valašska v ručním stříhání ovcí
DESCRIPTION:Eko farma Vrbětice srdečně zve na Selský deň. \nHlavní program: Mistrovství ČR ve stříhání ovcí \nDále: kulturní program - folklorní soubory\, gajdoš- program pro děti\, - dovednosti jako štípání dřeva\, řezání biřchatkou...- občerstvení... \n 
URL:https://naschov.cz/udalost/selsky-den-vrbetice-mistrovstvi-republiky-ve-strihani-ovci-mistrovstvi-valasska-v-rucnim-strihani-ovci-2/
END:VEVENT
BEGIN:VEVENT
DTSTART;TZID=Europe/Prague:20250607T100000
DTEND;TZID=Europe/Prague:20250607T120000
DTSTAMP:20260421T044924
CREATED:20241209T131004Z
LAST-MODIFIED:20241209T131004Z
UID:135474-1749290400-1749297600@naschov.cz
SUMMARY:ENT plemenných beranů vřesové ovce\, NT plemenných beranů a kozlů Sedlčany\, Krajské shromáždění Středočeského krajského sdružení
DESCRIPTION:Klasifikace plemenných beranů a kozlů\, možnost nákupu plemeníků. \nDále Krajské shromáždění Středočeského krajského sdružení
URL:https://naschov.cz/udalost/ent-plemennych-beranu-vresove-ovce-nt-plemennych-beranu-a-kozlu-sedlcany-krajske-shromazdeni-stredoceskeho-krajskeho-sdruzeni/
END:VEVENT
BEGIN:VEVENT
DTSTART;TZID=Europe/Prague:20250610T090000
DTEND;TZID=Europe/Prague:20250610T130000
DTSTAMP:20260421T044924
CREATED:20241125T154011Z
LAST-MODIFIED:20241125T154011Z
UID:135028-1749546000-1749560400@naschov.cz
SUMMARY:Tradiční polní den Elity semenářské\, a.s. v Ořechově u Brna
DESCRIPTION:Přehlídka ozimých pšenic\, řepky ozimé\, meziplodiny\, luskoviny
URL:https://naschov.cz/udalost/tradicni-polni-den-elity-semenarske-a-s-v-orechove-u-brna/
END:VEVENT
BEGIN:VEVENT
DTSTART;TZID=Europe/Prague:20250610T090000
DTEND;TZID=Europe/Prague:20250611T160000
DTSTAMP:20260421T044924
CREATED:20241209T141004Z
LAST-MODIFIED:20241209T141004Z
UID:135477-1749546000-1749657600@naschov.cz
SUMMARY:Naše pole 2025 - Nabočany
DESCRIPTION:Celostátní přehlídka polních pokusů odrůd zemědělských plodin\, ochrany a výživy rosltin a výstava zemědělské techniky.
URL:https://naschov.cz/udalost/nase-pole-2025-nabocany/
END:VEVENT
BEGIN:VEVENT
DTSTART;TZID=Europe/Prague:20250610T090000
DTEND;TZID=Europe/Prague:20250610T130000
DTSTAMP:20260421T044924
CREATED:20250505T063005Z
LAST-MODIFIED:20250505T063005Z
UID:137908-1749546000-1749560400@naschov.cz
SUMMARY:Variantní způsoby zakládání porostů máku
DESCRIPTION:Vstup zdarma pouze pro členy spolku Český modrý mák. \n  \nPŘEDBĚŽNÝ PROGRAM \n9.00 - 9.30 h.: Prezence a občerstvení v areálu Obludiště Dolní Pěna \n9.30 – 10.30 h.: Aktuální informace o činnosti spolku Český modrý mák \n10.45 – 12.30 h.: Prohlídka pokusů a zemědělské techniky \n\nzakládání porostů máku do meziplodin\, přímý výsev do mulče\, setí do zpracované půdy - různé termíny setí\npokusy s komplexní výživou\nbiologická ochrana (bakterie)\nukázka zemědělské techniky HORSCH\n\n12.40: Společný oběd v areálu Obludiště
URL:https://naschov.cz/udalost/variantni-zpusoby-zakladani-porostu-maku/
END:VEVENT
BEGIN:VEVENT
DTSTART;TZID=Europe/Prague:20250611T100000
DTEND;TZID=Europe/Prague:20250611T160000
DTSTAMP:20260421T044924
CREATED:20250522T080007Z
LAST-MODIFIED:20250522T080007Z
UID:138139-1749636000-1749657600@naschov.cz
SUMMARY:Využití rostlin jako repelentů pro tlumení populací hraboše polního
DESCRIPTION:Prezentace nových poznatků a informací v oblasti využití rostlin a jejich látek v oblasti regulace popolací hrabošů v polních kulturách.
URL:https://naschov.cz/udalost/vyuziti-rostlin-jako-repelentu-pro-tlumeni-populaci-hrabose-polniho-2/
END:VEVENT
BEGIN:VEVENT
DTSTART;TZID=Europe/Prague:20250612T090000
DTEND;TZID=Europe/Prague:20250612T130000
DTSTAMP:20260421T044924
CREATED:20241129T090006Z
LAST-MODIFIED:20241129T090006Z
UID:135270-1749718800-1749733200@naschov.cz
SUMMARY:Tradiční polní den LIMAGRAIN Hrubčice 2025
DESCRIPTION:Tradiční polní den Limagrain na šlechtitelské stanici v Hrubčicích.  \nPřehlídka odrůdovhých pokusů pšenice ozimé\, pšenice jarní\, pšenice přesívkové a ječmene jarního. 
URL:https://naschov.cz/udalost/tradicni-polni-den-limagrain-hrubcice-2025/
END:VEVENT
BEGIN:VEVENT
DTSTART;TZID=Europe/Prague:20250612T090000
DTEND;TZID=Europe/Prague:20250612T130000
DTSTAMP:20260421T044924
CREATED:20250529T073004Z
LAST-MODIFIED:20250529T073004Z
UID:138241-1749718800-1749733200@naschov.cz
SUMMARY:Polní den 2025
DESCRIPTION:Polní den 2025 \nProhlídka státních odrůdových pokusů s výkladem pracovníků Národního odrůdového úřadu v Brně
URL:https://naschov.cz/udalost/polni-den-2025/
END:VEVENT
BEGIN:VEVENT
DTSTART;TZID=Europe/Prague:20250612T100000
DTEND;TZID=Europe/Prague:20250612T140000
DTSTAMP:20260421T044924
CREATED:20250512T074004Z
LAST-MODIFIED:20250512T074004Z
UID:138020-1749722400-1749736800@naschov.cz
SUMMARY:AGRALL Polní den 2025
DESCRIPTION:Přijměte naše srdečné pozvání na 13. ročník velkolepé POLNÍ SHOW\n12. června 2025 od 10 hodin | Jiřice u Miroslavi\nLetošní ročník se nese ve znamení NESPOUTANÉHO VÝKONU. \nTraktory CLAAS XERION 12. série předvedou show o výkonu 10 395 koňských sil. Toto silné stádo\, ale i další stroje můžete při práci sledovat také z ptačí perspektivy. Díky speciální tribuně s šestimetrovou výškou si stroje dokonale užijete. Dále detailně představíme flotilu sklízecích mlátiček CLAAS v čele s LEXION 8700\, TRION 750a EVION 430. Současně představíme také zástupce sklízecích řezaček CLAAS JAGUAR. \nHlavním tématem budou traktory s plynulou převodovkou CMATIC: CLAAS ARION 660 ve speciální noční edici (NIGHT EDITION) a také nový CLAAS AXOS 3. \nNedílnou součástí bude také pícninářská a manipulační linka. Představíme také digitální řešení\, systémy správy dat a CLAAS connect. \nZnačka Väderstad představí přesný secí stroj Proceed\, dále pak Seed Hawk a NZ Extreme a mnoho dalších strojů z portfolia Väderstad. \nPředstavíme novou značku v portfoliu AGRALL – výrobce bramborářské\, řepné a zelinářské techniky GRIMME. Zajímavostí bude prezentace samojízdného sklízeče řepy GRIMME REXOR. Na poli uvidíte také stoje od výrobce BRANTNER a KAWECO. \nAbyste si zážitek s naší technikou co nejvíce užili\, po celý den se postaráme také o občerstveni. \nPřijďte s námi oslavit 13. ročník Polního dne a užijte si největší koncentraci koňských sil v širokém okolí! Akce se koná ve spolupráci s firmou Rhea Holding na poli u střediska ZD Jiřice u Miroslavi\, a to za každého počasí. Těšíme se na vás. \nAGRALL zemědělská technika
URL:https://naschov.cz/udalost/agrall-polni-den-2025/
END:VEVENT
BEGIN:VEVENT
DTSTART;TZID=Europe/Prague:20250612T100000
DTEND;TZID=Europe/Prague:20250612T140000
DTSTAMP:20260421T044924
CREATED:20250516T101004Z
LAST-MODIFIED:20250516T101004Z
UID:138081-1749722400-1749736800@naschov.cz
SUMMARY:Polní den Carboneg na Statku Novotinky
DESCRIPTION:Navštivte v rámci Polního dne Carboneg Statek Novotinky. Agronom Petr Sýs je v širší odborné veřejnosti známý jako propagátor regenerativního zemědělství i šetrnýchpostupů k přírodě. \nPodělí se o svou čtyřletou zkušenost s přímým setím bez zpracování půdy\,meziplodinami a regenerativními principy s ohledem na ekonomickouudržitelnost farmy. \nRegistrace a podrobnější informace naleznete zde: https://www.carboneg.com/cs/polni-dny \n 
URL:https://naschov.cz/udalost/polni-den-carboneg-na-statku-novotinky-2/
END:VEVENT
BEGIN:VEVENT
DTSTART;TZID=Europe/Prague:20250613T083000
DTEND;TZID=Europe/Prague:20250613T140000
DTSTAMP:20260421T044924
CREATED:20250114T091005Z
LAST-MODIFIED:20250114T091005Z
UID:135985-1749803400-1749823200@naschov.cz
SUMMARY:Polní den ozimých pšenic ve Skaličce u Hranic
DESCRIPTION:
URL:https://naschov.cz/udalost/polni-den-ozimych-psenic-ve-skalicce-u-hranic-6/
END:VEVENT
BEGIN:VEVENT
DTSTART;TZID=Europe/Prague:20250613T090000
DTEND;TZID=Europe/Prague:20250613T120000
DTSTAMP:20260421T044924
CREATED:20241210T110005Z
LAST-MODIFIED:20241210T110005Z
UID:135496-1749805200-1749816000@naschov.cz
SUMMARY:Polní den Nezvěstice
DESCRIPTION:Nezvěstice (Plzeň jih - Primagra) - Polní den se širokým záběrem prezentovaných témat od RV až po ŽV
URL:https://naschov.cz/udalost/polni-den-nezvestice-5/
END:VEVENT
BEGIN:VEVENT
DTSTART;TZID=Europe/Prague:20250614T100000
DTEND;TZID=Europe/Prague:20250614T160000
DTSTAMP:20260421T044924
CREATED:20250522T093006Z
LAST-MODIFIED:20250522T093006Z
UID:138141-1749895200-1749916800@naschov.cz
SUMMARY:Den otevřených vrat na nejlepší ekofarmě roku 2025
DESCRIPTION:Nejlepší ekologickou farmou roku 2025 se stal rodinný statek Střítežské fojtství ze Zlínského kraje. Titul získala farma za poctivý přístup\, ekologické hospodaření a aktivní roli v komunitě. \nSlavnostní předání ocenění Nejlepší ekofarma roku 2025 se uskuteční přímo na oceněné farmě – Střítežském fojtství ve Stříteži nad Bečvou. Akce s názvem Den otevřených faremních vrat se bude konat v sobotu 14. června od 10 do 16 hodin a je určena široké veřejnosti. Návštěvníci se mohou těšit na komentované prohlídky farmy\, prezentaci ekologického zemědělství\, farmářský trh s bio a regionálními výrobky\, mláďátkovou zoo\, dětské soutěže a dílničky\, ukázky zemědělské techniky\, hobby horse i agility. Nebude chybět ochutnávka biopotravin oceňovaných v soutěži Nejlepší biopotravina roku ani hudební doprovod v podání Kamily Polonyové s kapelou a cimbálové muziky. Vstup na akci je zdarma.
URL:https://naschov.cz/udalost/den-otevrenych-vrat-na-nejlepsi-ekofarme-roku-2025/
END:VEVENT
BEGIN:VEVENT
DTSTART;TZID=Europe/Prague:20250614T100000
DTEND;TZID=Europe/Prague:20250614T160000
DTSTAMP:20260421T044924
CREATED:20250522T093006Z
LAST-MODIFIED:20250522T093006Z
UID:138142-1749895200-1749916800@naschov.cz
SUMMARY:Den otevřených vrat na nejlepší ekofarmě roku 2025
DESCRIPTION:Nejlepší ekologickou farmou roku 2025 se stal rodinný statek Střítežské fojtství ze Zlínského kraje. Titul získala farma za poctivý přístup\, ekologické hospodaření a aktivní roli v komunitě. \nSlavnostní předání ocenění Nejlepší ekofarma roku 2025 se uskuteční přímo na oceněné farmě – Střítežském fojtství ve Stříteži nad Bečvou. Akce s názvem Den otevřených faremních vrat se bude konat v sobotu 14. června od 10 do 16 hodin a je určena široké veřejnosti. Návštěvníci se mohou těšit na komentované prohlídky farmy\, prezentaci ekologického zemědělství\, farmářský trh s bio a regionálními výrobky\, mláďátkovou zoo\, dětské soutěže a dílničky\, ukázky zemědělské techniky\, hobby horse i agility. Nebude chybět ochutnávka biopotravin oceňovaných v soutěži Nejlepší biopotravina roku ani hudební doprovod v podání Kamily Polonyové s kapelou a cimbálové muziky. Vstup na akci je zdarma.
URL:https://naschov.cz/udalost/den-otevrenych-vrat-na-nejlepsi-ekofarme-roku-2025-2/
END:VEVENT
BEGIN:VEVENT
DTSTART;TZID=Europe/Prague:20250616T090000
DTEND;TZID=Europe/Prague:20250616T130000
DTSTAMP:20260421T044924
CREATED:20250127T074004Z
LAST-MODIFIED:20250127T074004Z
UID:136257-1750064400-1750078800@naschov.cz
SUMMARY:Přeštický polní den
DESCRIPTION:Přeštický polní den je tradiční polní den věnovaný obilninám\, řepce a agrotechnice. \nMísto konání Skočice u Přeštic
URL:https://naschov.cz/udalost/presticky-polni-den-2/
END:VEVENT
BEGIN:VEVENT
DTSTART;TZID=Europe/Prague:20250617T083000
DTEND;TZID=Europe/Prague:20250617T130000
DTSTAMP:20260421T044924
CREATED:20250526T140004Z
LAST-MODIFIED:20250526T140004Z
UID:138194-1750149000-1750165200@naschov.cz
SUMMARY:Sladařský polní den Plzeňského Prazdroje
DESCRIPTION:- Zveme Vás na první společný Polní den Plzeňského Prazdroje\, ZS Dynín a šlechtitelů ječmene Limagrain a Selgen v Jižních Čechách \n-  Zúčatněte se komentovaných prohlídek odrůd jarního sladovnickéhoječmene vykupovaných a zpracovávaných sladovnami PP a.s. \n- Zjistěte důležitost jarního sladovnického ječmene pro výrobu Českého piva (CHZO - chráněné zeměpisné označení) \n- Občerstvení zajištěno
URL:https://naschov.cz/udalost/sladarsky-polni-den-plzenskeho-prazdroje/
END:VEVENT
BEGIN:VEVENT
DTSTART;TZID=Europe/Prague:20250617T090000
DTEND;TZID=Europe/Prague:20250617T140000
DTSTAMP:20260421T044924
CREATED:20241210T110005Z
LAST-MODIFIED:20241210T110005Z
UID:135481-1750150800-1750168800@naschov.cz
SUMMARY:POLNÍ DEN V LITOVICÍCH
DESCRIPTION:Vážení pěstitelé a obchodní partneři\, \nrádi bychom Vás pozvali na Polní den v Litovicích. I letos jsme přichystali zajímavý odborný program\, který bude pokrývat témata důležitá pro Vaši praxi. 
URL:https://naschov.cz/udalost/polni-den-v-litovicich-3/
END:VEVENT
BEGIN:VEVENT
DTSTART;TZID=Europe/Prague:20250617T090000
DTEND;TZID=Europe/Prague:20250617T130000
DTSTAMP:20260421T044924
CREATED:20250505T063005Z
LAST-MODIFIED:20250505T063005Z
UID:137906-1750150800-1750165200@naschov.cz
SUMMARY:DEN PRO MÁK 2025 - Herbicidní a fungicidní ošetření\, stimulátory růstu\, regulace porostu máku
DESCRIPTION:Vstup zdarma pouze pro členy spolku Český modrý mák. \nPŘEDBĚŽNÝ PROGRAM \n9.00 - 9.30 h.: Prezence a občerstvení - budova Farma Kostelec na Hané \n9.30 – 10.30 h.: Aktuální informace o činnosti spolku Český modrý mák \n10.45 – 12.00 h.: Prohlídka pokusů \n\nherbicidní a fungicidní ošetření\nstimulátory růstu\nregulace porostu\npokusy s výživou
URL:https://naschov.cz/udalost/den-pro-mak-2025-herbicidni-a-fungicidni-osetreni-stimulatory-rustu-regulace-porostu-maku/
END:VEVENT
BEGIN:VEVENT
DTSTART;TZID=Europe/Prague:20250618T000000
DTEND;TZID=Europe/Prague:20250618T235959
DTSTAMP:20260421T044924
CREATED:20250605T064004Z
LAST-MODIFIED:20250605T064004Z
UID:138366-1750204800-1750291199@naschov.cz
SUMMARY:POLNÍ DEN BayerExpertTECH LIBČANY
DESCRIPTION:Milí pěstitelé\, \nsrdečně Vás zveme na náš Polní den BayerExpertTECH 18. 6. 2025 v Libčanech:  \nPŘEDSTAVÍME:\n• hybridy kukuřice Dekalb® ošetřené herbicidy Capreno® a Aspect® Pro \n• insekticid Sivanto® Energy v hybridech Dekalb® řepky ozimé \n• zařazení nového herbicidu Mateno® Duo v kombinaci s partnerem a porovnání s osvědčenou variantou Cougar® Forte \n• zkušenosti s digitálním lapačem Magic Trap pro snadnější monitoring škůdců \n• širokou nabídku herbicidních\, fungicidních a insekticidních variant v obilninách\, kukuřici\, řepce ozimé a cukrovce \n• sortiment 36 odrůd pšenice ozimé\, 2 odrůd pšenice tvrdé a 13 odrůd ječmene jarního \n• inovativní ošetrení osiva Acceleron® Precision určené pro přesný výsev \n  \nUvidíte novinky zemědělské mechanizace. Precizní aplikace\, digital farming a postřikovací techniku. \nAkce je určena pouze pro odbornou zemědělskou veřejnost. \nPozvánku ke stažení naleznete zde. \nŽádáme Vás o přihlášení na našich webových stránkách v on-line formuláři\, nejpozději 17. 6. do 17 hodin. Pro zaregistrované účastníky bude připravena malá pozornost. \n! Registrace ZDE! \nVelmi se na Vás těšíme!
URL:https://naschov.cz/udalost/polni-den-bayerexperttech-libcany/
END:VEVENT
BEGIN:VEVENT
DTSTART;TZID=Europe/Prague:20250618T090000
DTEND;TZID=Europe/Prague:20250618T130000
DTSTAMP:20260421T044924
CREATED:20241129T074005Z
LAST-MODIFIED:20241129T074005Z
UID:135262-1750237200-1750251600@naschov.cz
SUMMARY:Polní den luskovino - obilné směsky  Mrákov
DESCRIPTION:ZOD Mrákov\, Mrákov 21\, 345 01 Mrákov
URL:https://naschov.cz/udalost/polni-den-luskovino-obilne-smesky-mrakov-2/
END:VEVENT
BEGIN:VEVENT
DTSTART;TZID=Europe/Prague:20250618T100000
DTEND;TZID=Europe/Prague:20250618T110000
DTSTAMP:20260421T044924
CREATED:20250609T100004Z
LAST-MODIFIED:20250609T100004Z
UID:138429-1750240800-1750244400@naschov.cz
SUMMARY:Novinky a trendy v kogeneraci II - webinář
DESCRIPTION:Vážení příznivci kogenerace\, \nzveme Vás na inspirativní webinář "Novinky a trendy v kogeneraci II"\, který pořádá sdružení COGEN Czech. Připojte se a zjistěte\, jak se vyvinul obor kogenerace v prvním pololetí 2025 – novinky a aktuální legislativní trendy.  \nTermín konání: 18. června 2025Čas: 10:00 hodinMísto konání: online (odkaz na webinář obdržíte na základě registrace na tlačítku níže) \nOdkaz na registrační formulář: https://forms.gle/Sg7iDFQxCL7tEzL57 \nTěšit se můžete na: \n\n\ninformace o připojování jednotek UPOS/UTP - advokátní kancelář KF Legal\,\ninformace o připojování zdrojů a novinky z oboru - zástupce distribuce\, \ninformace o aukcích nad 1 MW\, jak se správně přihlásit - zástupce MPO.\n\nZměna programu vyhrazena. \nPro členy sdružení COGEN Czech je účast zdarma.Pro nečleny COGEN Czech je cena 499 Kč + DPH. \nTěšíme se na viděnou online!\n \nTým sdružení COGEN Czech
URL:https://naschov.cz/udalost/novinky-a-trendy-v-kogeneraci-ii-webinar/
END:VEVENT
BEGIN:VEVENT
DTSTART;TZID=Europe/Prague:20250619T083000
DTEND;TZID=Europe/Prague:20250619T130000
DTSTAMP:20260421T044924
CREATED:20241209T104004Z
LAST-MODIFIED:20241209T104004Z
UID:135469-1750321800-1750338000@naschov.cz
SUMMARY:Polní den DITANA
DESCRIPTION:Přehlídka odrůd ozimé pšenice\, prohlídka fungicidních pokusů a pokusů s regulátory a diferencovanou výživou s odborným komentářem.
URL:https://naschov.cz/udalost/polni-den-ditana-6/
END:VEVENT
BEGIN:VEVENT
DTSTART;TZID=Europe/Prague:20250619T090000
DTEND;TZID=Europe/Prague:20250619T130000
DTSTAMP:20260421T044924
CREATED:20241129T074005Z
LAST-MODIFIED:20241129T074005Z
UID:135263-1750323600-1750338000@naschov.cz
SUMMARY:Polní den luskovino - obilné směsky farma Petrovice
DESCRIPTION:Farma Petrovice u Sedlčan\, Petrovice 139\, 262 55 Petrovice
URL:https://naschov.cz/udalost/polni-den-luskovino-obilne-smesky-farma-petrovice/
END:VEVENT
BEGIN:VEVENT
DTSTART;TZID=Europe/Prague:20250619T090000
DTEND;TZID=Europe/Prague:20250619T130000
DTSTAMP:20260421T044924
CREATED:20250505T063005Z
LAST-MODIFIED:20250505T063005Z
UID:137905-1750323600-1750338000@naschov.cz
SUMMARY:Aktuální problémy makových polí
DESCRIPTION:Vstup zdarma pouze pro členy spolku Český modrý mák. \nPŘEDBĚŽNÝ PROGRAM9.00 - 9.30 h.: Prezence a občerstvení v budově Výzkumné stanice \n9.30 – 10.30 h.: Aktuální informace\, obchod\, kvalita. \n10.45 – 12.30 h.: Prohlídka makových polí a jednotlivých variant pokusů. \n\nodrůdy ozimého a jarního máku\nošetření osiv: chemická\, biologická\, kombinovaná (biologicko-chemická)\, fyzikální\, alternativní (bylinné výluhy\, sádra\, skořice)\npokusy s komplexní výživou\nbiologická ochrana (bakterie\, houby)\nošetření máku v listové růžici\n\n12.40: Oběd na poli nebo v budově
URL:https://naschov.cz/udalost/aktualni-problemy-makovych-poli-4/
END:VEVENT
BEGIN:VEVENT
DTSTART;TZID=Europe/Prague:20250619T100000
DTEND;TZID=Europe/Prague:20250622T160000
DTSTAMP:20260421T044924
CREATED:20241126T134005Z
LAST-MODIFIED:20241126T134005Z
UID:135125-1750327200-1750608000@naschov.cz
SUMMARY:KVĚTY 2025
DESCRIPTION:30. celostátní výstava květin a zahradnické trhy
URL:https://naschov.cz/udalost/kvety-2025/
END:VEVENT
BEGIN:VEVENT
DTSTART;TZID=Europe/Prague:20250620T080000
DTEND;TZID=Europe/Prague:20250620T173000
DTSTAMP:20260421T044924
CREATED:20250701T183006Z
LAST-MODIFIED:20250701T183006Z
UID:138627-1750406400-1750440600@naschov.cz
SUMMARY:Jednodenní kurz pro dopravce přepravující zvířata
DESCRIPTION:Jednodenní kurz pro dopravce přepravující zvířata\, který pořádá agentura ZOOREKVALIFIKACE\, se uskuteční 20. 6. 2025 mimořádně s ohledem na opatření související s nákazou SLAK v Zoologické zahradě Jihlava. \n\n\nDatum konání: 20. černa 2025Místo konání: Zoologická zahrada JihlavaCena kurzu: 2590\,- Kč (cena konečná)Více informací o kurzu a přihlášku najdete na www. zoorekvalifikace.cz ZDE \nLektor:MVDr. Jiří Kruml – předseda Ústřední komise pro ochranu zvířat (ÚKOZ)
URL:https://naschov.cz/udalost/jednodenni-kurz-pro-dopravce-prepravujici-zvirata-8/
END:VEVENT
BEGIN:VEVENT
DTSTART;TZID=Europe/Prague:20250620T090000
DTEND;TZID=Europe/Prague:20250620T120000
DTSTAMP:20260421T044924
CREATED:20241210T110005Z
LAST-MODIFIED:20241210T110005Z
UID:135497-1750410000-1750420800@naschov.cz
SUMMARY:Jihočeský polní den
DESCRIPTION:Bernartice u Písku - tradiční jihočeská akce (29. Ročník)\, zaměřeno na pšenici a řepku (osiva)\,
URL:https://naschov.cz/udalost/jihocesky-polni-den-5/
END:VEVENT
BEGIN:VEVENT
DTSTART;TZID=Europe/Prague:20250620T092000
DTEND;TZID=Europe/Prague:20250620T120000
DTSTAMP:20260421T044924
CREATED:20250516T101004Z
LAST-MODIFIED:20250516T101004Z
UID:138082-1750411200-1750420800@naschov.cz
SUMMARY:Polní den OSEVA\, AGRO Brno\, spol. s r.o.
DESCRIPTION:Polní den společnosti OSEVY\, AGRO Brno\, spol. s r.o. a představení 41 odrůd od 11 zástupců šlechtitelských firem.
URL:https://naschov.cz/udalost/polni-den-oseva-agro-brno-spol-s-r-o/
END:VEVENT
BEGIN:VEVENT
DTSTART;TZID=Europe/Prague:20250620T100000
DTEND;TZID=Europe/Prague:20250620T120000
DTSTAMP:20260421T044924
CREATED:20250611T064004Z
LAST-MODIFIED:20250611T064004Z
UID:138459-1750413600-1750420800@naschov.cz
SUMMARY:Polní přehlídka poloprovozních pokusů odrůd ozimých pšenic
DESCRIPTION:Polní přehlídka poloprovozních pokusů odrůd ozimých pšenic
URL:https://naschov.cz/udalost/polni-prehlidka-poloprovoznich-pokusu-odrud-ozimych-psenic-5/
END:VEVENT
END:VCALENDAR