BEGIN:VCALENDAR
VERSION:2.0
PRODID:-//Náš chov - vše o chovu hospodářských zvířat - ECPv6.11.1//NONSGML v1.0//EN
CALSCALE:GREGORIAN
METHOD:PUBLISH
X-WR-CALNAME:Náš chov - vše o chovu hospodářských zvířat
X-ORIGINAL-URL:https://naschov.cz
X-WR-CALDESC:Akce na Náš chov - vše o chovu hospodářských zvířat
REFRESH-INTERVAL;VALUE=DURATION:PT1H
X-Robots-Tag:noindex
X-PUBLISHED-TTL:PT1H
BEGIN:VTIMEZONE
TZID:Europe/Prague
BEGIN:DAYLIGHT
TZOFFSETFROM:+0100
TZOFFSETTO:+0200
TZNAME:CEST
DTSTART:20240331T010000
END:DAYLIGHT
BEGIN:STANDARD
TZOFFSETFROM:+0200
TZOFFSETTO:+0100
TZNAME:CET
DTSTART:20241027T010000
END:STANDARD
END:VTIMEZONE
BEGIN:VEVENT
DTSTART;TZID=Europe/Prague:20240928T100000
DTEND;TZID=Europe/Prague:20240928T170000
DTSTAMP:20260421T072856
CREATED:20231204T151045Z
LAST-MODIFIED:20231204T151045Z
UID:128437-1727517600-1727542800@naschov.cz
SUMMARY:Krajská výstava ovcí a koz Libereckého kraje\, Svatováclavský trh plemenných beranů a kozlů\, Pěnčín u Jablonce nad Nisou
DESCRIPTION:Na farmě rodiny Pulíčkových v Pěnčíně u Jablonce nad Nisou proběhne tradiční Svatováclavský nákupní trh beranů a kozlů\, bude připraven bohatý doprovodný program nejen pro děti.
URL:https://naschov.cz/udalost/krajska-vystava-ovci-a-koz-libereckeho-kraje-svatovaclavsky-trh-plemennych-beranu-a-kozlu-pencin-u-jablonce-nad-nisou/
END:VEVENT
BEGIN:VEVENT
DTSTART;TZID=Europe/Prague:20240926T140000
DTEND;TZID=Europe/Prague:20240926T220000
DTSTAMP:20260421T072856
CREATED:20240416T084039Z
LAST-MODIFIED:20240416T084039Z
UID:130665-1727359200-1727388000@naschov.cz
SUMMARY:Přehlídka býků ISB Bohdalec
DESCRIPTION:Přijeďte se podívat na přehlídku býků českého strakatého plemene do Bohdalce na Vysočině.
URL:https://naschov.cz/udalost/prehlidka-byku-isb-bohdalec-4/
END:VEVENT
BEGIN:VEVENT
DTSTART;TZID=Europe/Prague:20240926T093000
DTEND;TZID=Europe/Prague:20240926T170000
DTSTAMP:20260421T072856
CREATED:20240916T091004Z
LAST-MODIFIED:20240916T091004Z
UID:133512-1727343000-1727370000@naschov.cz
SUMMARY:Polní den meziplodiny a čiroky v Polabí
DESCRIPTION:Polní den meziplodiny a čiroky v Polabí.  Výstava polních pokusů s meziplodinovými směsmi a čiroky v Krychnově u Kouřimi. Zahájení v sále hospody u Krulišů v Libodřicích. Pořádá SEED SERVICE s.r.o.\, tel.: 721 481 945\, korabkova@seedservice.cz. Pozvánka na www.seedservice.cz
URL:https://naschov.cz/udalost/polni-den-meziplodiny-a-ciroky-v-polabi/
END:VEVENT
BEGIN:VEVENT
DTSTART;TZID=Europe/Prague:20240926T083000
DTEND;TZID=Europe/Prague:20240926T130000
DTSTAMP:20260421T072856
CREATED:20231128T161202Z
LAST-MODIFIED:20231128T161202Z
UID:128374-1727339400-1727355600@naschov.cz
SUMMARY:POLNÍ DEN O BRAMBORÁCH - Humpolec
DESCRIPTION:Polní den a odborný seminář o bramborách
URL:https://naschov.cz/udalost/polni-den-o-bramborach-humpolec-5/
END:VEVENT
BEGIN:VEVENT
DTSTART;TZID=Europe/Prague:20240925T100000
DTEND;TZID=Europe/Prague:20240925T140000
DTSTAMP:20260421T072856
CREATED:20231204T151045Z
LAST-MODIFIED:20231204T151045Z
UID:128436-1727258400-1727272800@naschov.cz
SUMMARY:ENT plemenných beranů charollais\, NT plemenných beranů a kozlů Sedlčany
DESCRIPTION:Elitní nákupní trh beranů plemene charollais společeně s nákupním trhem na plemenné berany a kozly.
URL:https://naschov.cz/udalost/ent-plemennych-beranu-charollais-nt-plemennych-beranu-a-kozlu-sedlcany/
END:VEVENT
BEGIN:VEVENT
DTSTART;TZID=Europe/Prague:20240924T100000
DTEND;TZID=Europe/Prague:20240924T170000
DTSTAMP:20260421T072856
CREATED:20240916T091004Z
LAST-MODIFIED:20240916T091004Z
UID:133510-1727172000-1727197200@naschov.cz
SUMMARY:Polní den čiroků s výkladem a poloprovozními pokusy ve Velkých Opatovicích
DESCRIPTION:Polní den čiroků s výkladem a poloprovozními pokusy ve Velkých Opatovicích. Zahájení a přednášky v sále zámku ve Velkých Opatovicích. Pořádá SEED SERVICE s.r.o.\, tel.: 604 578 260\, poradenstvi@seedservice.cz. Pozvánka na www.seedservice.cz
URL:https://naschov.cz/udalost/polni-den-ciroku-s-vykladem-a-poloprovoznimi-pokusy-ve-velkych-opatovicich/
END:VEVENT
BEGIN:VEVENT
DTSTART;TZID=Europe/Prague:20240919T100000
DTEND;TZID=Europe/Prague:20240919T140000
DTSTAMP:20260421T072856
CREATED:20231204T151045Z
LAST-MODIFIED:20231204T151045Z
UID:128435-1726740000-1726754400@naschov.cz
SUMMARY:Krajská výstava Kraje Vysočina\, NT beranů a kozlů Radešínská Svratka
DESCRIPTION:Krajská výstava ovcí a koz Kraje Vysočina se uskuteční v rámci Národní výstavy červenostrakatého skotu v Radešínské Svratce.
URL:https://naschov.cz/udalost/krajska-vystava-kraje-vysocina-nt-beranu-a-kozlu-radesinska-svratka/
END:VEVENT
BEGIN:VEVENT
DTSTART;TZID=Europe/Prague:20240919T093000
DTEND;TZID=Europe/Prague:20240919T143000
DTSTAMP:20260421T072856
CREATED:20240912T151004Z
LAST-MODIFIED:20240912T151004Z
UID:133482-1726738200-1726756200@naschov.cz
SUMMARY:JCB DAY
DESCRIPTION:Představíme Vám celé portfolio značky JCB (např. teleskopické manipulátory a nakladače nebo traktor Fastrac a řadu dalších strojů).Můžete se těšit na dobré občerstvení\, zajímavý doprovodný program a bohatou tombolu.
URL:https://naschov.cz/udalost/jcb-day/
END:VEVENT
BEGIN:VEVENT
DTSTART;TZID=Europe/Prague:20240917T093000
DTEND;TZID=Europe/Prague:20240917T140000
DTSTAMP:20260421T072856
CREATED:20240816T110010Z
LAST-MODIFIED:20240816T110010Z
UID:132936-1726565400-1726581600@naschov.cz
SUMMARY:JCB DEN LUKROMU
DESCRIPTION:Srdečně Vás zveme na Den otevřených dveří – JCB DEN LUKROMU. \nPřijďte si s námi připomenout 10 let spolupráce se značkou JCB a zároveň otevřít dveře nově zrekonstruovaného střediska Bánov u Uherského Brodu. \nTěšit se můžete na ukázku novinek i kompletní portfolio značky JCB. Čekají na Vás také věcné ceny a vynikající občerstvení. \nNa setkání s Vámi se těší LUKROM team.
URL:https://naschov.cz/udalost/jcb-den-lukromu-2/
END:VEVENT
BEGIN:VEVENT
DTSTART;TZID=Europe/Prague:20240916T100000
DTEND;TZID=Europe/Prague:20240918T120000
DTSTAMP:20260421T072856
CREATED:20231204T151045Z
LAST-MODIFIED:20231204T151045Z
UID:128434-1726480800-1726660800@naschov.cz
SUMMARY:Kurz střihačů ovcí na Zlobici
DESCRIPTION:SCHOK z.s. ve spolupráci s Českou asociací střihačů ovcí pořádá tradiční kurz střihačů\, zejména pro začátečníky. Přihlášky a bližší info na mailu info@schok.cz.
URL:https://naschov.cz/udalost/kurz-strihacu-ovci-na-zlobici/
END:VEVENT
BEGIN:VEVENT
DTSTART;TZID=Europe/Prague:20240914T100000
DTEND;TZID=Europe/Prague:20240914T170000
DTSTAMP:20260421T072856
CREATED:20231205T154039Z
LAST-MODIFIED:20231205T154039Z
UID:128461-1726308000-1726333200@naschov.cz
SUMMARY:2. ročník Sportovní orby středních škol
DESCRIPTION:ročník Sportovní orby středních škol se uskuteční od 10.00 hodin v sobotu 14.9.2024 na pozemcích Školního statku Opava\, p.o.\n\n  \n  \n  \nOrganizátorem 2. ročníku  Sportovní orby středních škol je Masarykova střední škola zemědělská a přírodovědná\, Opava\, příspěvková organizace. Soutěž se uskuteční v sobotu 14. září od 10.00 hodin společně s bohatým doprovodným programem. \nAdresa: Purkyňova 1654/12  746 01 OPAVA. \n  \nKontakt: Roman Apeltauer\, tel.: 608 320 335\, email: r.apeltauer@m-s-p.cz
URL:https://naschov.cz/udalost/2-rocnik-sportovni-orby-strednich-skol/
END:VEVENT
BEGIN:VEVENT
DTSTART;TZID=Europe/Prague:20240913T100000
DTEND;TZID=Europe/Prague:20240914T170000
DTSTAMP:20260421T072856
CREATED:20231204T151045Z
LAST-MODIFIED:20231204T151045Z
UID:128433-1726221600-1726333200@naschov.cz
SUMMARY:Krajská výstava ovcí a koz Královéhradeckého sdružení\, Královéhradecké dožínky 2024
DESCRIPTION:V rámci Královéhradeckých dožínek pořádá krajské sdružení Královéhradeckého kraje výstavu plemen ovcí a koz\, ukázky stříže\, zpracování vlny a další doprovodný program.
URL:https://naschov.cz/udalost/krajska-vystava-ovci-a-koz-kralovehradeckeho-sdruzeni-kralovehradecke-dozinky-2024/
END:VEVENT
BEGIN:VEVENT
DTSTART;TZID=Europe/Prague:20240912T080000
DTEND;TZID=Europe/Prague:20240912T180000
DTSTAMP:20260421T072856
CREATED:20240812T083010Z
LAST-MODIFIED:20240812T083010Z
UID:132880-1726128000-1726164000@naschov.cz
SUMMARY:Kurz pro dopravce zvířat „Odborná příprava a získávání osvědčení o odborné kvalifikaci dopravce přepravující zvířata“
DESCRIPTION:POZVÁNKA \nMVDr. Václav PROKOP – INPROF České Budějovice \nsi Vás dovoluje pozvat na odborný kurz \n  \nOdborná příprava a získání osvědčení o odborné kvalifikaci dopravce přepravující zvířata \n  \nTermín – 12.9.2024 \n  \nOdborný kurz je určen pro dopravce přepravující zvířata pro obchodní účely na vzdálenost větší než 50 km\, kteří jsou při kontrole povinni se prokázat\, že mají odbornou kvalifikaci stanovenou zákonem č. 246/1992 Sb.\, na ochranu zvířat proti týrání a nařízení Rady (ES) 1/2005 o ochraně zvířat během přepravy. Jednou z podmínek pro registraci dopravce\, na příslušné veterinární správě je odborná kvalifikace\, kterou musí mít každý\, i zaměstnanec dopravce i třetí osoba jejímž prostřednictvím dopravce přepravuje. Nezbytnou součástí odborné kvalifikace je osvědčení o způsobilosti\, \nkteré získáte prostřednictvím Kurzu pro získání kvalifikace dopravce přepravující zvířata. Vztahuje se na všechny obratlovce včetně ryb\, želv\, plazů. \n  \n\n\n\nMísto konání: \n  \n  \n  \n  \n  \n  \n  \n  \nPřednáší:\nStřední škola polytechnická\, Nerudova 59\, České Budějovice\, konferenční sál. \nVchod hned z parkoviště.    \nParkování zajištěno v areálu školy. Vjezd zezadu školní budovy. Do navigace zadejte Jírovcova 67\, odbočíte vlevo do brány-bude otevřená. \n(SŠ polytechnická se nachází v blízkosti hotelu Clarion (dříve Gomel) a budovy Telecom\, \nod vlakového i aut. nádr.  trolejbusem č. 9 nebo autobusem č. 11\, 6\, 4\, výstupní stanice „Družba-IGY“. \nPraktická výuka bude probíhat ve SOŠ veterinární\, mechanizační\, zahradnické\,  \nRudolfovská 92\, České Budějovice     \nMVDr. Zbyněk Semerád\, ústřední ředitel státní veterinární správy nebo \nMVDr. Jiří Král Ph.D.\, vedoucí oddělení péče o pohodu zvířat České Budějovice \n \n\n\nDatum konání:  \n12.9.2024 (čtvrtek) \n \n\n\nDoba trvání:\nJeden den 12 výukových hodin\, zakončení zkouškou (písemný test).\n\n\nČasový rozvrh:              \n  \n  \nCena: \n  \n  \n \n7:30 prezentace účastníků\, 8:00 začátek přednášek. Předpokládaný konec 18:00 hod. \n  \n2400 Kč+504 Kč DPH 21 %\, celkem k úhradě 2 904\,-Kč se splatností před zahájením kurzu. Úhradu prosím proveďte jednorázovým příkazem na účet č. 163236544/0600 vedený \nu MONETA Money Bank\, daňový doklad obdržíte u prezence nebo mailem. Po vyznačení na přihlášce\, též možno platit hotově na místě. \nVariabilní symbol – VS 120924     \n\n\n  \nPřihlášky: \n  \n  \n  \nKontakt:                    \n \n\nZávaznou přihlášku zašlete na Email: prokop.mail@tiscali.cz \, prokop@inprof.cz\, prokop.inprof@seznam.cz nebo na adresu: MVDr. Václav Prokop–INPROF\, U Kapličky 238\, Srubec\, 370 06 České Budějovice\nE-mail: prokop.mail@tiscali.cz\,  prokop@inprof.cz\, prokop.inprof@seznam.cz mobil: 602 832 508\nwebové stránky: www.inprof.cz \n\n\n  \nOrganizační garant akce:\n\nMVDr. Václav Prokop – INPROF\, Srubec 238\, 370 06 České Budějovice. Zapsán u Obecního živnostenského úřadu v Českých Budějovicích č.j.Ž-330101/98/4845\, ev.č.:330101-4904-01. IČO: 40756084\, DIČ: CZ470722080.\n\n\n\n \n  \n\n\n\n  \nKaždý účastník obdrží před konáním kurzu elektronicky sborník přednášek s učebními texty. \nMalé občerstvení – káva\, čaj\, minerálka. \nPozvánka Dopravci zvířat 12.9.2024
URL:https://naschov.cz/udalost/kurz-pro-dopravce-zvirat-odborna-priprava-a-ziskavani-osvedceni-o-odborne-kvalifikaci-dopravce-prepravujici-zvirata-4/
END:VEVENT
BEGIN:VEVENT
DTSTART;TZID=Europe/Prague:20240912T080000
DTEND;TZID=Europe/Prague:20240912T170000
DTSTAMP:20260421T072856
CREATED:20231211T144053Z
LAST-MODIFIED:20231211T144053Z
UID:128581-1726128000-1726160400@naschov.cz
SUMMARY:DEMO DEN v Kralovicích
DESCRIPTION:
URL:https://naschov.cz/udalost/demo-den-v-kralovicich/
END:VEVENT
BEGIN:VEVENT
DTSTART;TZID=Europe/Prague:20240911T090000
DTEND;TZID=Europe/Prague:20240912T160000
DTSTAMP:20260421T072856
CREATED:20240201T111058Z
LAST-MODIFIED:20240201T111058Z
UID:129450-1726045200-1726156800@naschov.cz
SUMMARY:DEN ZEMĚDĚLCE
DESCRIPTION:CELOSTÁTNÍ KONTRAKTAČNÍ VÝSTAVA A PŘEDVÁDĚNÍ ZEMĚDELSKÉ TECHNIKY \nVíce informací naleznete na: Den Zemědělce (denzemedelce.cz)
URL:https://naschov.cz/udalost/den-zemedelce-3/
END:VEVENT
BEGIN:VEVENT
DTSTART;TZID=Europe/Prague:20240910T090000
DTEND;TZID=Europe/Prague:20240910T123000
DTSTAMP:20260421T072856
CREATED:20240905T074011Z
LAST-MODIFIED:20240905T074011Z
UID:133318-1725958800-1725971400@naschov.cz
SUMMARY:Den kukuřice KWS 2024
DESCRIPTION:
URL:https://naschov.cz/udalost/den-kukurice-kws-2024-11/
END:VEVENT
BEGIN:VEVENT
DTSTART;TZID=Europe/Prague:20240906T093000
DTEND;TZID=Europe/Prague:20240906T120000
DTSTAMP:20260421T072856
CREATED:20240902T144009Z
LAST-MODIFIED:20240902T144009Z
UID:133277-1725615000-1725624000@naschov.cz
SUMMARY:Den kukuřice KWS 2024
DESCRIPTION:
URL:https://naschov.cz/udalost/den-kukurice-kws-2024-8/
END:VEVENT
BEGIN:VEVENT
DTSTART;TZID=Europe/Prague:20240905T093000
DTEND;TZID=Europe/Prague:20240905T120000
DTSTAMP:20260421T072856
CREATED:20240902T144009Z
LAST-MODIFIED:20240902T144009Z
UID:133278-1725528600-1725537600@naschov.cz
SUMMARY:Den kukuřice KWS 2024
DESCRIPTION:
URL:https://naschov.cz/udalost/den-kukurice-kws-2024-9/
END:VEVENT
BEGIN:VEVENT
DTSTART;TZID=Europe/Prague:20240905T090000
DTEND;TZID=Europe/Prague:20240905T140000
DTSTAMP:20260421T072856
CREATED:20240313T100043Z
LAST-MODIFIED:20240313T100043Z
UID:130016-1725526800-1725544800@naschov.cz
SUMMARY:Polní den MendelSun 2024
DESCRIPTION:Podzimní polní den Agronomické fakulty Mendelovy univerzity v Brně zaměřený na polní pokusy s kukuřicí\, slunečnicí\, čirokem a dalšími plodinami. \nBěhem akce budou formou posterů a komentovaných prohlídek mimo jiné prezentována témata: \n\nOdrůdové pokusy - kukuřice\, slunečnice\, čirok\, sója a další\nIntegrovaná ochrana rostlin\nVýživa a hnojení plodin\nRegenerativní způsob hospodaření\n\nNa polním dni proběhnou také prezentace firem spolupracujících s AF MENDELU \nPolní pokusnou stanici Žabčice najdete zde: https://goo.gl/maps/yVZXzC3En9WxE5d19
URL:https://naschov.cz/udalost/polni-den-mendelsun-2024/
END:VEVENT
BEGIN:VEVENT
DTSTART;TZID=Europe/Prague:20240905T080000
DTEND;TZID=Europe/Prague:20240905T170000
DTSTAMP:20260421T072856
CREATED:20231208T073036Z
LAST-MODIFIED:20231208T073036Z
UID:128519-1725523200-1725555600@naschov.cz
SUMMARY:DEMO DEN AGROFINAL v Hořicích
DESCRIPTION:
URL:https://naschov.cz/udalost/demo-den-agrofinal-v-horicich/
END:VEVENT
BEGIN:VEVENT
DTSTART;TZID=Europe/Prague:20240904T100000
DTEND;TZID=Europe/Prague:20240904T130000
DTSTAMP:20260421T072856
CREATED:20240902T144009Z
LAST-MODIFIED:20240902T144009Z
UID:133279-1725444000-1725454800@naschov.cz
SUMMARY:Den kukuřice KWS 2024
DESCRIPTION:
URL:https://naschov.cz/udalost/den-kukurice-kws-2024-10/
END:VEVENT
BEGIN:VEVENT
DTSTART;TZID=Europe/Prague:20240904T100000
DTEND;TZID=Europe/Prague:20240904T170000
DTSTAMP:20260421T072856
CREATED:20231129T083057Z
LAST-MODIFIED:20231129T083057Z
UID:128376-1725444000-1725469200@naschov.cz
SUMMARY:Technologický den AGROTECH HK v Mžanech
DESCRIPTION:Technologický den pro udržitelné zemědělství.\n\n\nPořadatelé: AGROTECH HK\,   ZAS Mžany\,  OLMIX Czech.
URL:https://naschov.cz/udalost/technologicky-den-agrotech-hk-v-mzanech/
END:VEVENT
BEGIN:VEVENT
DTSTART;TZID=Europe/Prague:20240904T093000
DTEND;TZID=Europe/Prague:20240904T120000
DTSTAMP:20260421T072856
CREATED:20240902T144009Z
LAST-MODIFIED:20240902T144009Z
UID:133276-1725442200-1725451200@naschov.cz
SUMMARY:Den kukuřice KWS
DESCRIPTION:
URL:https://naschov.cz/udalost/den-kukurice-kws-3/
END:VEVENT
BEGIN:VEVENT
DTSTART;TZID=Europe/Prague:20240904T090000
DTEND;TZID=Europe/Prague:20240904T143000
DTSTAMP:20260421T072856
CREATED:20240813T061007Z
LAST-MODIFIED:20240813T061007Z
UID:132883-1725440400-1725460200@naschov.cz
SUMMARY:Pozvánka na seminář VŠECHNO SOUVISÍ SE VŠÍM A EKOLOGICKÉ ZEMĚDĚLSTVÍ NABÍZÍ KOMPLEXNÍ ODPOVĚDI
DESCRIPTION:Cílem semináře je představit přínosy ekologického zemědělství ve vztahu ke klimatu\, zadržení vody v krajině\, biodiverzitě\, erozi apod. zejména veřejné správě\, ale také zemědělské veřejnosti.  \nProgram: \n\nKateřina Urbánková (PRO-BIO Svaz ekologických zemědělců) – ekologické zemědělství a jeho komplexní odpovědi ve vztahu ke klimatu a hospodaření v krajině\nIng. Hedvika Psotová (Arvita P s.r.o.) – protierozní opatření v praxi\nZástupce Ekofarmy Javorník – představení ekofarmy\n\nRegistrace na seminář probíhá přes on-line formulář. \nÚčast a občerstvení na semináři pro registrované zdarma.
URL:https://naschov.cz/udalost/pozvanka-na-seminar-vsechno-souvisi-se-vsim-a-ekologicke-zemedelstvi-nabizi-komplexni-odpovedi/
END:VEVENT
BEGIN:VEVENT
DTSTART;TZID=Europe/Prague:20240903T083000
DTEND;TZID=Europe/Prague:20240903T110000
DTSTAMP:20260421T072856
CREATED:20240813T121007Z
LAST-MODIFIED:20240813T121007Z
UID:132887-1725352200-1725361200@naschov.cz
SUMMARY:Netradiční přehlídky kukuřice a sóji - nová pravidla erozí od roku 2025
DESCRIPTION:NETRADIČNÍ PŘEHLÍDKU KUKUŘICE a SÓJI \n\nvíce jak 30 hybridů od různých firem srovnaných podle čísla ranosti FAO\nna pokuse AGRO Rubín- Svijany je zařazen i pokus s 10 odrůdami sóji firmy Saatbau Linz\npřehlídka ve Zbirožské a.s. je v rámci DEMO farmy na eroze\n\n  \n\n\n\nDatum konání\nMísto- začátek\n\n\n3.9.2024\nPrvní zemědělská a.s. Tuněchody- zasedací místnost Tuněchody 63\n\n\n4.9.2024\nAGRO Rubín- Svijany pivovarská restaurace- začátek pole u křižovatky na Svijanský Újezd\n\n\n5.9.2024\nZDV Veselka- Psáře\, pivovar Kácov\n\n\n6.9.2024\nVOD Kadov u Blatné- hospoda Vrbno\, Vrbno č.p. 9\n\n\n10.9.2024\nZbirožská a.s.- Zbiroh\, zasedací místnost Bezručova 213\n\n\n\n  \n\n\n\nČasový harmonogram\n \n\n\n8.30- 9.00 hod \nPrezence v místě setkání a občerstvení\n\n\n9.00-9.45\nPraktické postřehy z agrotechniky kukuřice 2024- nová pravidla erozí od roku 2025- eliminace erozí\, plevelů\, stabilizace výroby kukuřice v extrémních ročnících\n\n\n9.45-10.00\nPřesun na pole\n\n\n10.00-11.00\nOdborný výklad a přehlídka TOP hybridů v ZEA Marketu\n\n\nPo 11.00\nZakončení akce na poli\n\n\n\n*Kromě AGRO Rubín- tam akce začíná na poli a končí po 11.00 obědem. \n  \nZároveň vám nabízíme možnost\, pokud byste se nemohli zúčastnit dané přehlídky na konkrétním místě\, tak naši oblastní zástupci ZEA Sedmihorky vám ochotně po dohodě provedou privátní přehlídku. \n  \npozvánka_přehlídky_kukuřice
URL:https://naschov.cz/udalost/netradicni-prehlidky-kukurice-a-soji-nova-pravidla-erozi-od-roku-2025/
END:VEVENT
BEGIN:VEVENT
DTSTART;TZID=Europe/Prague:20240830T090000
DTEND;TZID=Europe/Prague:20240830T130000
DTSTAMP:20260421T072856
CREATED:20240823T061009Z
LAST-MODIFIED:20240823T061009Z
UID:132968-1725008400-1725022800@naschov.cz
SUMMARY:Den kukuřice KWS 2024
DESCRIPTION:
URL:https://naschov.cz/udalost/den-kukurice-kws-2024-7/
END:VEVENT
BEGIN:VEVENT
DTSTART;TZID=Europe/Prague:20240830T090000
DTEND;TZID=Europe/Prague:20240830T120000
DTSTAMP:20260421T072856
CREATED:20240816T141009Z
LAST-MODIFIED:20240816T141009Z
UID:132941-1725008400-1725019200@naschov.cz
SUMMARY:Polní den KUKUŘICE LG v ZD Opařany (TA)
DESCRIPTION:V průběhu polního dne stanovíme sušinu a nutriční parametry doručených vzorků silážní kukuřice.
URL:https://naschov.cz/udalost/polni-den-kukurice-lg-v-zd-oparany-ta/
END:VEVENT
BEGIN:VEVENT
DTSTART;TZID=Europe/Prague:20240829T093000
DTEND;TZID=Europe/Prague:20240829T130000
DTSTAMP:20260421T072856
CREATED:20240813T061007Z
LAST-MODIFIED:20240813T061007Z
UID:132886-1724923800-1724936400@naschov.cz
SUMMARY:Den kukuřice KWS 2024
DESCRIPTION:
URL:https://naschov.cz/udalost/den-kukurice-kws-2024-4/
END:VEVENT
BEGIN:VEVENT
DTSTART;TZID=Europe/Prague:20240829T090000
DTEND;TZID=Europe/Prague:20240829T120000
DTSTAMP:20260421T072856
CREATED:20240819T124007Z
LAST-MODIFIED:20240819T124007Z
UID:132944-1724922000-1724932800@naschov.cz
SUMMARY:Polní den přehlídky hybridů kukuřice
DESCRIPTION:29.8.2024 Polní den-přehlídka 59 hybridů kukuřice ve spolupráci s Farmou Kadleců a firmami Agrofinal\, KWS\,Lidea\, Limagrain\, Monsato\, Oseva EU\, Saaten Union\, VP Agro. \nProgram: 9:00 prezence\, 9:30 zahájení komentované přehlídky hybridů\, 12:00 ukončení přehlídky a občerstvení. \nPozemek se nachází v blízkosti osady Velký Bor U Netolic okr. Prachatice. /GPS 49.0792522N\, 14.1382747E \nVíce informaci: Ing Ondřej Kadlec\, tel: 721 324 366\, Ing. Jiří Kúrka tel: 777 315 050 \npozvánka 2024 (1)
URL:https://naschov.cz/udalost/polni-den-prehlidky-hybridu-kukurice/
END:VEVENT
BEGIN:VEVENT
DTSTART;TZID=Europe/Prague:20240829T090000
DTEND;TZID=Europe/Prague:20240829T120000
DTSTAMP:20260421T072856
CREATED:20240816T141009Z
LAST-MODIFIED:20240816T141009Z
UID:132940-1724922000-1724932800@naschov.cz
SUMMARY:Polní den KUKUŘICE LG a ADVANTA v ZOD HABRY (HB)
DESCRIPTION:PROGRAM: \nÚvodní slovo a pěstitelská technologieSortiment kukuřice a slunečnice LG 2025Sortiment kukuřice OSEVA UNI\, a.s.AGRILITY - digitální platforma pro silážní monitoring Představujeme pšenice LG Aikido\, LG Niklas\, LG Atelier Biologická ochrana a výživa polních plodinBIOCONT LABORATORY\, spol. s r.o. \nV průběhu polního dne stanovíme sušinu a nutriční parametry doručených vzorků silážní kukuřice.
URL:https://naschov.cz/udalost/polni-den-kukurice-lg-a-advanta-v-zod-habry-hb/
END:VEVENT
END:VCALENDAR